From mboxrd@z Thu Jan 1 00:00:00 1970 Return-Path: Received: from mails.dpdk.org (mails.dpdk.org [217.70.189.124]) by inbox.dpdk.org (Postfix) with ESMTP id 9A04046547 for ; Wed, 9 Apr 2025 20:29:42 +0200 (CEST) Received: from mails.dpdk.org (localhost [127.0.0.1]) by mails.dpdk.org (Postfix) with ESMTP id 9C88C40652; Wed, 9 Apr 2025 20:29:41 +0200 (CEST) Received: from mail-pl1-f227.google.com (mail-pl1-f227.google.com [209.85.214.227]) by mails.dpdk.org (Postfix) with ESMTP id 32EAD402B7 for ; Wed, 9 Apr 2025 20:29:40 +0200 (CEST) Received: by mail-pl1-f227.google.com with SMTP id d9443c01a7336-225df540edcso12085065ad.0 for ; Wed, 09 Apr 2025 11:29:40 -0700 (PDT) DKIM-Signature: v=1; a=rsa-sha256; c=relaxed/relaxed; d=iol.unh.edu; s=unh-iol; t=1744223379; x=1744828179; darn=dpdk.org; h=references:in-reply-to:cc:to:from:subject:message-id:date:from:to :cc:subject:date:message-id:reply-to; bh=SvW3UqGYp+fLV1Rc/O8+jE85CKPPCQ22CcezC5WpNDU=; b=EV/ztG6uc3AdveBXGYlL64A1H/HwSf0ksbxyoJ6mn4zEF7Fr1fGgZwIq592E/EfQrP m6+knx5alM/vAvGhgoxUr3ZH4PdSYXTZKI5G0pvDR8TqSVHNLwpmuo4JnQNX40potpBT qZV9HjTX2idd/OWOAn39l4DpK/pAbZM89Exng= X-Google-DKIM-Signature: v=1; a=rsa-sha256; c=relaxed/relaxed; d=1e100.net; s=20230601; t=1744223379; x=1744828179; h=references:in-reply-to:cc:to:from:subject:message-id:date :x-gm-message-state:from:to:cc:subject:date:message-id:reply-to; bh=SvW3UqGYp+fLV1Rc/O8+jE85CKPPCQ22CcezC5WpNDU=; b=JTiL6D+zsRGKHBsQo91Ib9wCctN6C36Fi587WxPgkLNZJ2daMvfTcrfZum71lCWAiH 9cUl7X7EBWYM0k/jDD/a3EZ7+dOm4k7al5N54MEHWGYqPPcuJm+WqYpN3UVL0YhAluzV bIx4uX43mi4GPNmKYKR2UVJdXIi/CmqalwfDsDRHWPMhAjU91Au5bYPaFqYtsRFC4xp2 M/tLgB+/vofouOSF2psqQm5+ci321NGjNHFAcCnPFNsG4g61wKudoWH/ZtMBjvJLFK76 ra1mcr/TQUazZwVQM6LsSpS3TJxY/qEsjJiQoQ0rSY0FLzmfnoKTROI9RyYE2PP76+3t crRg== X-Gm-Message-State: AOJu0Yz3daoflDhOl3M+6hhsi+Qa2zppau10aTIiVFAaFdXo8Nga+c5V 65DKnjOyQt1w8CmmUfiJlwpugju/J71a/EFBXtCffI9hdoCovbCfkUvIXS0DMTbJr5Q6bwMhVx9 4ThF+yQWZEEfzIWKxspu16dvKeKD0faJFRMSDatJPWyxmc88EholMmOvX X-Gm-Gg: ASbGncsurvDvHl5cP2+HWPZ8+NM0C64fS1/5gdZhvOBwnfk5WdiBFGqx7AlbPE8yoPu XrdVtiQ8zFFAi9ydlXxj6yoKcWlY/GE9OhyeudIDw0M6Psim7lygsFjerXDHjmzMa0VPKDJABjI ChwUwqP9hFDCWBQ62xtlpWh2UgVSDdjPLUjB2KsQuam42rDzEENQLyqb4T/4dFGrQ4VgYROTGXh b7ZgNSjTO0LdlaelQCQ8ybR059HZ3vOHa8a+B28aEuTchKkpTN4qDo2rMfe9C0WdtjMPPh8gZiL 14AC840dpzIPw+RIk4mhLSky4b0768p44s38MBPJA1sQoEfj X-Google-Smtp-Source: AGHT+IHngSAeWbnM04wginXkabPn++BrXzP1CyA07MFt6HYg5iTNdcwyQr0+aseoAa5PYhZZjISo5Y92MfOp X-Received: by 2002:a17:903:90d:b0:223:517a:d5a9 with SMTP id d9443c01a7336-22acfe8cfc5mr6316885ad.15.1744223379184; Wed, 09 Apr 2025 11:29:39 -0700 (PDT) Received: from postal.iol.unh.edu (postal.iol.unh.edu. [2606:4100:3880:1234::84]) by smtp-relay.gmail.com with ESMTPS id d9443c01a7336-22ac7b95cd7sm813565ad.59.2025.04.09.11.29.39 (version=TLS1_2 cipher=ECDHE-ECDSA-AES128-GCM-SHA256 bits=128/128); Wed, 09 Apr 2025 11:29:39 -0700 (PDT) X-Relaying-Domain: iol.unh.edu Date: Wed, 09 Apr 2025 11:29:39 -0700 (PDT) Message-ID: <67f6bc93.170a0220.29e912.2dfcSMTPIN_ADDED_MISSING@mx.google.com> Received: from [172.17.0.3] (unknown [172.18.0.217]) by postal.iol.unh.edu (Postfix) with ESMTP id 5E3C36052471; Wed, 9 Apr 2025 14:29:38 -0400 (EDT) Subject: |SUCCESS| pw152851 [PATCH] net/igc: fix xstats name From: dpdklab@iol.unh.edu To: Test Report Cc: dpdk-test-reports@iol.unh.edu In-Reply-To: <20250409010711.761050-1-kaiwenx.deng@intel.com> References: <20250409010711.761050-1-kaiwenx.deng@intel.com> Content-Type: text/plain X-BeenThere: test-report@dpdk.org X-Mailman-Version: 2.1.29 Precedence: list List-Id: automatic DPDK test reports List-Unsubscribe: , List-Archive: List-Post: List-Help: List-Subscribe: , Errors-To: test-report-bounces@dpdk.org Test-Label: iol-sample-apps-testing Test-Status: SUCCESS http://dpdk.org/patch/152851 _Testing PASS_ Submitter: Kaiwen Deng Date: Wednesday, April 09 2025 01:07:11 DPDK git baseline: Repo:dpdk Branch: master CommitID:d7817c378fecd07c59360667f93c25dff4b1a145 152851 --> testing pass Upstream job id: ACVP-FIPS-testing#9493 Test environment and result as below: +--------------------+----------------------+----------------------+ | Environment | compressdev_zlib_pmd | dpdk_fips_validation | +====================+======================+======================+ | Ubuntu 22.04 (ARM) | PASS | SKIPPED | +--------------------+----------------------+----------------------+ | Ubuntu 22.04 | PASS | SKIPPED | +--------------------+----------------------+----------------------+ | Ubuntu 20.04 | SKIPPED | PASS | +--------------------+----------------------+----------------------+ Ubuntu 22.04 (ARM) Kernel: 5.15.0-97-generic Compiler: gcc gcc (Ubuntu 11.4.0-1ubuntu1~22.04) 11.4.0 Ubuntu 22.04 Kernel: 5.15.0-100-generic Compiler: gcc gcc (Ubuntu 11.4.0-1ubuntu1~22.04) 11.4.0 Ubuntu 20.04 Kernel: Depends on container host Compiler: gcc (Ubuntu 9.4.0-1ubuntu1~20.04.2) 9.4.0 To view detailed results, visit: https://lab.dpdk.org/results/dashboard/patchsets/32978/ UNH-IOL DPDK Community Lab To manage your email subscriptions, visit: https://lab.dpdk.org/results/dashboard/preferences/subscriptions/