From mboxrd@z Thu Jan 1 00:00:00 1970 Return-Path: Received: from mails.dpdk.org (mails.dpdk.org [217.70.189.124]) by inbox.dpdk.org (Postfix) with ESMTP id 22F2E46548 for ; Wed, 9 Apr 2025 22:15:11 +0200 (CEST) Received: from mails.dpdk.org (localhost [127.0.0.1]) by mails.dpdk.org (Postfix) with ESMTP id E680F40613; Wed, 9 Apr 2025 22:15:10 +0200 (CEST) Received: from mail-il1-f227.google.com (mail-il1-f227.google.com [209.85.166.227]) by mails.dpdk.org (Postfix) with ESMTP id 06946402B7 for ; Wed, 9 Apr 2025 22:15:09 +0200 (CEST) Received: by mail-il1-f227.google.com with SMTP id e9e14a558f8ab-3d434c84b7eso782505ab.1 for ; Wed, 09 Apr 2025 13:15:09 -0700 (PDT) DKIM-Signature: v=1; a=rsa-sha256; c=relaxed/relaxed; d=iol.unh.edu; s=unh-iol; t=1744229709; x=1744834509; darn=dpdk.org; h=references:in-reply-to:cc:to:from:subject:message-id:date:from:to :cc:subject:date:message-id:reply-to; bh=WGlXiwXlPpHAREktHdBS7c4ZHAx73A0aPrWS+EcrjcE=; b=Cr5iGJaltb1AeId26IEwzwGcQrliSpxR7mVvxqP9wvOCqjm5xSoJITPZUHwrQBKEUV 29e4PIs807JGEhh/tG2AbqcwxkwDQoiSuv+qrpO2MOxiikdQIMpWONv6OvEAsW2dBraC OOqq6GY2Yg/oPJZB0BWa8PfuSLUdFxZZBRx5c= X-Google-DKIM-Signature: v=1; a=rsa-sha256; c=relaxed/relaxed; d=1e100.net; s=20230601; t=1744229709; x=1744834509; h=references:in-reply-to:cc:to:from:subject:message-id:date :x-gm-message-state:from:to:cc:subject:date:message-id:reply-to; bh=WGlXiwXlPpHAREktHdBS7c4ZHAx73A0aPrWS+EcrjcE=; b=YLIkT2d7fcbuavpsk+xPY8yH00/d8Gbv3vb/5i2a2TT9zO9zETNQZZqft7JMVyRLOs GbftI7aFju76UYjkBofxXQhoinyyjJL3GuLcZ0V7NCTAubp0AnudoNXk2RE0PSshxrgj Rs4n6S9tT8P8UmerqHGr+hx0aTSCo19fvrz8JtRQIJko++oVmmc+DexB0xg0MI3j2od3 3HahRifQTS0eGysTHWxkp6FoEXDjOkLsl3iOKAJFoXzCdiOJaGKJyIIPRwjn8NGQIZZP qv+sWon3c/oZ8iijx4BjzlbeGFptDGWYbG9i3Q5Szfz907x6T0do3BwxCYlqoFBcQ3am K8oQ== X-Gm-Message-State: AOJu0Yx0Fu5v9K/q/82xRWvR9PxxPnKV16I310UTD0UARs+/67s/tDK8 i7kVOjlIKPhex74FbfNL+TwUE2392xRHeCYAPzq8HhqqakeHONXBAcD1Qau5F5LfhVZg23cNpQ3 cUB0DOlFlvAEy9Kqa0T1irWeqm4sIjMRjZrwRx3RZ X-Gm-Gg: ASbGncuBzgiuQH5ei+LIcI02oGvOlndbyGKttv9HkdSZP7P784vkDhE1emoRUnWNgmf o0r543WBtMGzMMd0iyQegrX2/ziqecYrWTFpZuJMfj4jSSa/wfef3prkAQvN4CywCf+szTpBCYv Mh2CHZ11Q1s2+n9KB5IqwKzJCdTkynY7eCnJ1ZTkQe9VyY+OzDiClDQqjcYsCUSXwkjFhNfp7Oj KdZFJQoL4zXCQ4VvJHF2meulLJXEoaQb8M/+ecjnIzxm+hGV0b4Q2rAAOvCsiaWrLPepbDzdsFx RcuSXKLfwisY/vQJTJFwftNUyWZoYBLGfnxC X-Google-Smtp-Source: AGHT+IFVtGnMPS8wA2EKY5dwWPhXG2lxOPA778UtCZLvtOXJAmjvBpTYNl9R4gD3wtkTt2ylX2nZw2WSs20M X-Received: by 2002:a05:6e02:3b07:b0:3d2:aa73:7b65 with SMTP id e9e14a558f8ab-3d7e46f812emr4656405ab.6.1744229709292; Wed, 09 Apr 2025 13:15:09 -0700 (PDT) Received: from postal.iol.unh.edu (postal.iol.unh.edu. [132.177.123.84]) by smtp-relay.gmail.com with ESMTPS id e9e14a558f8ab-3d7dbaa43d5sm1635015ab.38.2025.04.09.13.15.09 (version=TLS1_2 cipher=ECDHE-ECDSA-AES128-GCM-SHA256 bits=128/128); Wed, 09 Apr 2025 13:15:09 -0700 (PDT) X-Relaying-Domain: iol.unh.edu Date: Wed, 09 Apr 2025 13:15:09 -0700 (PDT) Message-ID: <67f6d54d.050a0220.2db78c.5437SMTPIN_ADDED_MISSING@mx.google.com> Received: from [172.17.0.3] (unknown [172.18.0.217]) by postal.iol.unh.edu (Postfix) with ESMTP id B839F6052472; Wed, 9 Apr 2025 16:15:08 -0400 (EDT) Subject: |SUCCESS| pw152854 [PATCH] [v1] net/idpf: avoid truncation of consta From: dpdklab@iol.unh.edu To: Test Report Cc: dpdk-test-reports@iol.unh.edu In-Reply-To: <20250409125440.7103-1-praveen.shetty@intel.com> References: <20250409125440.7103-1-praveen.shetty@intel.com> Content-Type: text/plain X-BeenThere: test-report@dpdk.org X-Mailman-Version: 2.1.29 Precedence: list List-Id: automatic DPDK test reports List-Unsubscribe: , List-Archive: List-Post: List-Help: List-Subscribe: , Errors-To: test-report-bounces@dpdk.org Test-Label: iol-sample-apps-testing Test-Status: SUCCESS http://dpdk.org/patch/152854 _Testing PASS_ Submitter: Praveen Shetty Date: Wednesday, April 09 2025 12:54:40 DPDK git baseline: Repo:dpdk Branch: master CommitID:d7817c378fecd07c59360667f93c25dff4b1a145 152854 --> testing pass Upstream job id: ACVP-FIPS-testing#9497 Test environment and result as below: +--------------------+----------------------+----------------------+ | Environment | compressdev_zlib_pmd | dpdk_fips_validation | +====================+======================+======================+ | Ubuntu 22.04 (ARM) | PASS | SKIPPED | +--------------------+----------------------+----------------------+ | Ubuntu 22.04 | PASS | SKIPPED | +--------------------+----------------------+----------------------+ | Ubuntu 20.04 | SKIPPED | PASS | +--------------------+----------------------+----------------------+ Ubuntu 22.04 (ARM) Kernel: 5.15.0-97-generic Compiler: gcc gcc (Ubuntu 11.4.0-1ubuntu1~22.04) 11.4.0 Ubuntu 22.04 Kernel: 5.15.0-100-generic Compiler: gcc gcc (Ubuntu 11.4.0-1ubuntu1~22.04) 11.4.0 Ubuntu 20.04 Kernel: Depends on container host Compiler: gcc (Ubuntu 9.4.0-1ubuntu1~20.04.2) 9.4.0 To view detailed results, visit: https://lab.dpdk.org/results/dashboard/patchsets/32981/ UNH-IOL DPDK Community Lab To manage your email subscriptions, visit: https://lab.dpdk.org/results/dashboard/preferences/subscriptions/