From mboxrd@z Thu Jan 1 00:00:00 1970 Return-Path: Received: from mails.dpdk.org (mails.dpdk.org [217.70.189.124]) by inbox.dpdk.org (Postfix) with ESMTP id 149A046548 for ; Wed, 9 Apr 2025 22:40:04 +0200 (CEST) Received: from mails.dpdk.org (localhost [127.0.0.1]) by mails.dpdk.org (Postfix) with ESMTP id D5CBF40613; Wed, 9 Apr 2025 22:40:03 +0200 (CEST) Received: from mail-pl1-f226.google.com (mail-pl1-f226.google.com [209.85.214.226]) by mails.dpdk.org (Postfix) with ESMTP id DB84E40613 for ; Wed, 9 Apr 2025 22:40:02 +0200 (CEST) Received: by mail-pl1-f226.google.com with SMTP id d9443c01a7336-22a976f3131so742785ad.3 for ; Wed, 09 Apr 2025 13:40:02 -0700 (PDT) DKIM-Signature: v=1; a=rsa-sha256; c=relaxed/relaxed; d=iol.unh.edu; s=unh-iol; t=1744231202; x=1744836002; darn=dpdk.org; h=cc:to:from:subject:message-id:date:from:to:cc:subject:date :message-id:reply-to; bh=75yFtT9T5fzoIMZIpGAc13CBp94K38nbb+62IN/Pa78=; b=haBAHAY/BfQIV67brHTFY6w2OzfvIcPIIUlf+AKzzoMLjd1gFJhEJyVpXzTzj3Mvvg OtRyOV6bGxgUfW5eIwF6Xf0PPzotz91Z3VWtwEMqpwaCyahsbER+6RwxPD5V2J2xfzdf DkaHlOBrw6Ba7MMjrMV73C61CggtLIeGJXEMU= X-Google-DKIM-Signature: v=1; a=rsa-sha256; c=relaxed/relaxed; d=1e100.net; s=20230601; t=1744231202; x=1744836002; h=cc:to:from:subject:message-id:date:x-gm-message-state:from:to:cc :subject:date:message-id:reply-to; bh=75yFtT9T5fzoIMZIpGAc13CBp94K38nbb+62IN/Pa78=; b=Sjkr072hrZtj2xU/cWaaVNJsrpTF4//pBh53Jk524yUXv9p2oqaR016/DbYYxAY1bv p2Qt8gearqaqqOV/j3DmEGLQEdKyvfpdXAv8t9QEiPsoZdBD5zfOcqlGpvdR1XzOF19i BtCyfTYXlsrkBF8t833urUrBJkfreaV8st2C2YdBiQ5Y7M58AoMl9eemEKIW0MolOlCa kxIyPOBE5eJTS7rgwvMvweBpk1gQKx5mOFlE0WG51MiwMGFvjKDf6guPJJDYFv3XT2+y PpTWfTNcPm+km5Kp3W1X+jURAIM+7bE7URLJ/rMqO8AHUzZITt/qIubLhDJQGzupp6KR pEmA== X-Gm-Message-State: AOJu0YxMWt8DtMf+tF51fqp8fING+QnKuI3ichHq0tui26XSyfMwjsX1 5H2orwSd4AsFIedxl+fMge2XjlWHfYWiBgebIjOyz0STL/W+9Fo7LL5t6AJ+VTUzwMW/rM4cyIN 9KZloROyVW/IEng6amK5iJ61SrtW0pqUI+2nNyj92 X-Gm-Gg: ASbGncu7b34QkHYgKSazqXL9yMFn+NsTcN+keSqfCj1LDq0T5Pqtj63iYK9+DuXK5nx VY+J85JW1TLdp0kiItkaR/hURLw8AVK8VwMgmUjd/Y15oG679WYJaT3FpUtSArdR77nY0ACWnAs zxAjlvjXeynwxIYMsXH/LM36X6BYZtWfJjI9wQh0vsGSgHDeZcE7ny8F6Y47P+QklJh80pWW2zV 8xe2gtAQCrwjmc5ImmdVBCcT4bJhC0t6I1T26otu7NrmhtUbfDbi8K9w3GK8Tjkd2P+uyAUWYQs 7876GJPr+1XR6CRfUFPHbBaif8xIQYitmyHQ X-Google-Smtp-Source: AGHT+IFwH3HnGZjAkEWoGVHYjeOx8uc+Gi/QSLloqPzFih5j62tg0ZAtnq5PYUJOFB8xr6bGGH7y3PcsoZ5q X-Received: by 2002:a17:903:3d03:b0:224:a74:28cd with SMTP id d9443c01a7336-22b2edfd7bcmr4400765ad.31.1744231201980; Wed, 09 Apr 2025 13:40:01 -0700 (PDT) Received: from postal.iol.unh.edu (postal.iol.unh.edu. [132.177.123.84]) by smtp-relay.gmail.com with ESMTPS id d9443c01a7336-22ac7cc906fsm934015ad.128.2025.04.09.13.40.01 (version=TLS1_2 cipher=ECDHE-ECDSA-AES128-GCM-SHA256 bits=128/128); Wed, 09 Apr 2025 13:40:01 -0700 (PDT) X-Relaying-Domain: iol.unh.edu Date: Wed, 09 Apr 2025 13:40:01 -0700 (PDT) Message-ID: <67f6db21.170a0220.1ddc77.3e91SMTPIN_ADDED_MISSING@mx.google.com> Received: from [172.17.0.4] (unknown [172.18.0.217]) by postal.iol.unh.edu (Postfix) with ESMTP id 60B366052471; Wed, 9 Apr 2025 16:40:01 -0400 (EDT) Subject: |SUCCESS| [GIT MASTER] d7817c378fecd07c59360667f93c25dff4b1a145 From: dpdklab@iol.unh.edu To: Test Report Cc: dpdk-test-reports@iol.unh.edu, Bruce Richardson Content-Type: text/plain X-BeenThere: test-report@dpdk.org X-Mailman-Version: 2.1.29 Precedence: list List-Id: automatic DPDK test reports List-Unsubscribe: , List-Archive: List-Post: List-Help: List-Subscribe: , Errors-To: test-report-bounces@dpdk.org _Testing PASS_ Branch: dpdk-next-net-intel d7817c378fecd07c59360667f93c25dff4b1a145 --> testing pass Upstream job id: ACVP-FIPS-testing#9498 Test environment and result as below: +--------------------+----------------------+----------------------+ | Environment | compressdev_zlib_pmd | dpdk_fips_validation | +====================+======================+======================+ | Ubuntu 22.04 (ARM) | PASS | SKIPPED | +--------------------+----------------------+----------------------+ | Ubuntu 22.04 | PASS | SKIPPED | +--------------------+----------------------+----------------------+ | Ubuntu 20.04 | SKIPPED | PASS | +--------------------+----------------------+----------------------+ Ubuntu 22.04 (ARM) Kernel: 5.15.0-97-generic Compiler: gcc gcc (Ubuntu 11.4.0-1ubuntu1~22.04) 11.4.0 Ubuntu 22.04 Kernel: 5.15.0-100-generic Compiler: gcc gcc (Ubuntu 11.4.0-1ubuntu1~22.04) 11.4.0 Ubuntu 20.04 Kernel: Depends on container host Compiler: gcc (Ubuntu 9.4.0-1ubuntu1~20.04.2) 9.4.0 To view detailed results, visit: https://lab.dpdk.org/results/dashboard/tarballs/33207/ UNH-IOL DPDK Community Lab To manage your email subscriptions, visit: https://lab.dpdk.org/results/dashboard/preferences/subscriptions/