From mboxrd@z Thu Jan 1 00:00:00 1970 Return-Path: Received: from mails.dpdk.org (mails.dpdk.org [217.70.189.124]) by inbox.dpdk.org (Postfix) with ESMTP id 3F76746548 for ; Wed, 9 Apr 2025 23:07:23 +0200 (CEST) Received: from mails.dpdk.org (localhost [127.0.0.1]) by mails.dpdk.org (Postfix) with ESMTP id 1065540613; Wed, 9 Apr 2025 23:07:23 +0200 (CEST) Received: from mail-pl1-f228.google.com (mail-pl1-f228.google.com [209.85.214.228]) by mails.dpdk.org (Postfix) with ESMTP id A026C402B7 for ; Wed, 9 Apr 2025 23:07:22 +0200 (CEST) Received: by mail-pl1-f228.google.com with SMTP id d9443c01a7336-224191d92e4so930325ad.3 for ; Wed, 09 Apr 2025 14:07:22 -0700 (PDT) DKIM-Signature: v=1; a=rsa-sha256; c=relaxed/relaxed; d=iol.unh.edu; s=unh-iol; t=1744232841; x=1744837641; darn=dpdk.org; h=cc:to:from:subject:message-id:date:from:to:cc:subject:date :message-id:reply-to; bh=SKzCNv+enD02bDpbjFFgEME8kP5ON+xbSSweTEdRVI8=; b=MiXuTMysZuyLKvSDDi3YVoABQPltaXb2HgVRLO+jdDoNdymFbWniAjiBRQOFErBJ6q +PiLq8kwVN2OWXUINQF/co6/VNpqfu1lc32E4C553AHWtJ79eorHiKrX76IvMam7HXl7 kWcfLNubYl1CCJBVR+C88rT8wn4ltQkuMvzCQ= X-Google-DKIM-Signature: v=1; a=rsa-sha256; c=relaxed/relaxed; d=1e100.net; s=20230601; t=1744232841; x=1744837641; h=cc:to:from:subject:message-id:date:x-gm-message-state:from:to:cc :subject:date:message-id:reply-to; bh=SKzCNv+enD02bDpbjFFgEME8kP5ON+xbSSweTEdRVI8=; b=e8jEAFbBZbBMCffIFFYRrnr4YRhBchWdYtcectL5HunNITJvJu5CT/OlX0why0Jzjf t50vVywZieP2Ld5VHKCmerxLMDbZEF2hVr/j4IzAc1wRndOXtfX/2favcP4IjZZknvot 9H5icKZIvcpgmqnLwofTlFJ9lVJuGXLjOmAUH5SoTczHv0HW9O8Vy7YgJAJgQ8eKXRDu 5CQToLpd9K5nMDdDWKCVsFsWk3/ykDp8Uqb62vk5qTrlm0Jhq1U9g+Cy89RTPC+XGBur GbAfrCQBSYrdHAglGjPenU2G3xUbfK7MsbdzhLgRq/HcrZiRu97Boo+sX3zXM7qo6A0s tb0w== X-Gm-Message-State: AOJu0YwaOnds9MMjT65mNnOu2Gx10OPIrtXdQTUv+DCIzvwGSH38l9Dl 73ekg6AK62Ihsn0Q1brBLx4obJnTzpUQmjSG6crzMeAh1RaQAj/trmb7EXDcdjsLq/CLWG6G6oa 61VGjhLyHnc9PSPQ+9NrgswzdpV65KdnNJVMQl4Ijh20fLhRRnn43nqUN X-Gm-Gg: ASbGnctSHdlliPMn0WFce5eeRKT9ofL2PUa1oFS+wu/yGMpweZ0y2RsPNlEPD6ZJTxh U7NGMI2zX/nbnbJvpu+3dIdKcKhtg/ptobHTqW5nTMiVxFYxU8xCo2siGFEAMGUnrZl25zIz1RF iEnUt52LKF/pKVm2yGyzyIRorAFc2bSLYuSGCXsIDyPHonIMHK/x49zMl6JJbdcdrxqn3ask+Z5 mP52374sfcir/nHUT9iVkp6n2EnxhelxTn3DHLANNy76ZwV97JMHS9qXMDnMO9uLLvS2GR+e/Oo +hhVWqc5gX60OJBKo2hpiDe6YK786WkEaSgVOz3gX75/FV39 X-Google-Smtp-Source: AGHT+IEcksY2uch6kbSdBSFgg5921q7xm0yZvz2FN1Tr63l9ijwijAcvflHLWz/IhMAhWyZJb/SJmhhvJwFi X-Received: by 2002:a17:902:ea0a:b0:223:2cae:4a96 with SMTP id d9443c01a7336-22b42c14cf7mr3795495ad.42.1744232841580; Wed, 09 Apr 2025 14:07:21 -0700 (PDT) Received: from postal.iol.unh.edu (postal.iol.unh.edu. [2606:4100:3880:1234::84]) by smtp-relay.gmail.com with ESMTPS id d9443c01a7336-22ac7cb54c0sm989325ad.116.2025.04.09.14.07.21 (version=TLS1_2 cipher=ECDHE-ECDSA-AES128-GCM-SHA256 bits=128/128); Wed, 09 Apr 2025 14:07:21 -0700 (PDT) X-Relaying-Domain: iol.unh.edu Date: Wed, 09 Apr 2025 14:07:21 -0700 (PDT) Message-ID: <67f6e189.170a0220.16b03d.43c5SMTPIN_ADDED_MISSING@mx.google.com> Received: from [172.17.0.3] (unknown [172.18.0.217]) by postal.iol.unh.edu (Postfix) with ESMTP id E67A06052471; Wed, 9 Apr 2025 17:07:20 -0400 (EDT) Subject: |SUCCESS| [GIT MASTER] 0b2f016cd76d4fb382eea54b8a6aaf9474586fbc From: dpdklab@iol.unh.edu To: Test Report Cc: dpdk-test-reports@iol.unh.edu, Stephen Hemminger Content-Type: text/plain X-BeenThere: test-report@dpdk.org X-Mailman-Version: 2.1.29 Precedence: list List-Id: automatic DPDK test reports List-Unsubscribe: , List-Archive: List-Post: List-Help: List-Subscribe: , Errors-To: test-report-bounces@dpdk.org _Testing PASS_ Branch: dpdk-next-net 0b2f016cd76d4fb382eea54b8a6aaf9474586fbc --> testing pass Upstream job id: ACVP-FIPS-testing#9499 Test environment and result as below: +--------------------+----------------------+----------------------+ | Environment | compressdev_zlib_pmd | dpdk_fips_validation | +====================+======================+======================+ | Ubuntu 22.04 (ARM) | PASS | SKIPPED | +--------------------+----------------------+----------------------+ | Ubuntu 22.04 | PASS | SKIPPED | +--------------------+----------------------+----------------------+ | Ubuntu 20.04 | SKIPPED | PASS | +--------------------+----------------------+----------------------+ Ubuntu 22.04 (ARM) Kernel: 5.15.0-97-generic Compiler: gcc gcc (Ubuntu 11.4.0-1ubuntu1~22.04) 11.4.0 Ubuntu 22.04 Kernel: 5.15.0-100-generic Compiler: gcc gcc (Ubuntu 11.4.0-1ubuntu1~22.04) 11.4.0 Ubuntu 20.04 Kernel: Depends on container host Compiler: gcc (Ubuntu 9.4.0-1ubuntu1~20.04.2) 9.4.0 To view detailed results, visit: https://lab.dpdk.org/results/dashboard/tarballs/33208/ UNH-IOL DPDK Community Lab To manage your email subscriptions, visit: https://lab.dpdk.org/results/dashboard/preferences/subscriptions/