From mboxrd@z Thu Jan  1 00:00:00 1970
Return-Path: <test-report-bounces@dpdk.org>
Received: from mails.dpdk.org (mails.dpdk.org [217.70.189.124])
	by inbox.dpdk.org (Postfix) with ESMTP id 1DFF646548
	for <public@inbox.dpdk.org>; Thu, 10 Apr 2025 01:58:44 +0200 (CEST)
Received: from mails.dpdk.org (localhost [127.0.0.1])
	by mails.dpdk.org (Postfix) with ESMTP id 2787E402E1;
	Thu, 10 Apr 2025 01:58:43 +0200 (CEST)
Received: from mail-pg1-f226.google.com (mail-pg1-f226.google.com
 [209.85.215.226])
 by mails.dpdk.org (Postfix) with ESMTP id B6B7940288
 for <test-report@dpdk.org>; Thu, 10 Apr 2025 01:58:42 +0200 (CEST)
Received: by mail-pg1-f226.google.com with SMTP id
 41be03b00d2f7-879d2e419b9so227662a12.2
 for <test-report@dpdk.org>; Wed, 09 Apr 2025 16:58:42 -0700 (PDT)
DKIM-Signature: v=1; a=rsa-sha256; c=relaxed/relaxed;
 d=iol.unh.edu; s=unh-iol; t=1744243122; x=1744847922; darn=dpdk.org;
 h=references:in-reply-to:cc:to:from:subject:message-id:date:from:to
 :cc:subject:date:message-id:reply-to;
 bh=lMU7cuBLWgUWsn+Jit95FwH4uF32lYhdKp95WI+bnVo=;
 b=diyRvo24MQkIxtq6/sMxZSSJj41kAncfZGorCiZTjeGy7i9hNl9D9GPys+ork/NwcV
 n9pai2MgRoImzFik+1zSDfigvGo21tgOZfUT4AaN6NCS77x+fyb1q47RAs4XxNxRzvWw
 8VW3ywITDyiMgGCC46R7VAZn6cNZBdPxP+X4Y=
X-Google-DKIM-Signature: v=1; a=rsa-sha256; c=relaxed/relaxed;
 d=1e100.net; s=20230601; t=1744243122; x=1744847922;
 h=references:in-reply-to:cc:to:from:subject:message-id:date
 :x-gm-message-state:from:to:cc:subject:date:message-id:reply-to;
 bh=lMU7cuBLWgUWsn+Jit95FwH4uF32lYhdKp95WI+bnVo=;
 b=QOb6h2RGSW9hYj5NXRB35GhADVlF6LVBLQCqV+aroKLeWtANoJpdMbg9xlPLsMt8L6
 D/vnBTzlVp/fQCFx74gJm8gNlOkUa/lvvCZg+ms7oN+31dHNHLnPiIpS63PSddBPFXcv
 niQZkwpsBR4yBPPS9jx61YTEgPN+4fcVMWh+IvciENGuyGz7+3BGN6yhcYc7hwWiUsOm
 FZkqa/VQXIiBoA4bXOgs2pgWW3kr4ZRDuEKvIeXK0dvGn/2hdWYPQy3OE5ZrEB/2P1+b
 AxkLQkjgUV0ejOVECpXeWU3GU1v4RNJI49PoyZZ5it/GW9hyt61P7aIU8/+WmG5jU8wx
 Y2hg==
X-Gm-Message-State: AOJu0YwVsoKWZRBhcSYvyvdjXSbZ2ln6eReuWbpCAkbZaOEzUyksqo5I
 J3nBlhT+Q/ko4uz/PvH1hWhpxvCp4tV7zohWkNqDAJhB66hG1Vd1wG0/AsS+H+DRlFNyu6jwx+n
 4P7kaBOO9uUB3DF295X/oHhEcxDAzSXs0VEw4Pb1Z
X-Gm-Gg: ASbGnctJsaUyUpCMDN8hMbQWngh6ypIxNdYUJ/XGS9vHN4UYuZPeRAZ/u716x+/6jQK
 fj7dDrf49lrwm8zsgqdRjL1fs7foQRsV8QVVVxEHQkr1hl5H0wnd4LEQ+ppFJPTsMP+eWgga+w7
 A1/2/7W6dSxDLi9MNftetuMuwdfSvBqRGvO3RGtKlFQ+xrSJTcZtbr7+Fx7PFRrNQh7VUtspJwd
 EcA/zYBFbrjsQl4+oZNj2Fqq8lNIBP+DkzHtNXaZvLqDMa2xVf6pcW0nLDO+Q4uF5YTW9t1xQ3N
 1lb/wuAFxAVhxn269JK3a04ZM++WynrWjw6A
X-Google-Smtp-Source: AGHT+IFpEbgxaicz53R+xY8gozKDaxeVxnphQa+Mb0Kd+Qzir1WI+Lt5f/pCabvIRe0jquDYyld4lNIAsRSR
X-Received: by 2002:a17:902:e88f:b0:224:78e:4ebe with SMTP id
 d9443c01a7336-22b42c049f6mr11740895ad.33.1744243121817; 
 Wed, 09 Apr 2025 16:58:41 -0700 (PDT)
Received: from postal.iol.unh.edu (postal.iol.unh.edu. [132.177.123.84])
 by smtp-relay.gmail.com with ESMTPS id
 d9443c01a7336-22ac7b6ba08sm1225705ad.42.2025.04.09.16.58.41
 (version=TLS1_2 cipher=ECDHE-ECDSA-AES128-GCM-SHA256 bits=128/128);
 Wed, 09 Apr 2025 16:58:41 -0700 (PDT)
X-Relaying-Domain: iol.unh.edu
Date: Wed, 09 Apr 2025 16:58:41 -0700 (PDT)
Message-ID: <67f709b1.170a0220.2b8848.4c13SMTPIN_ADDED_MISSING@mx.google.com>
Received: from [172.17.0.4] (unknown [172.18.0.217])
 by postal.iol.unh.edu (Postfix) with ESMTP id 38BFA6052471;
 Wed,  9 Apr 2025 19:58:41 -0400 (EDT)
Subject: |SUCCESS| pw152857-152860 [PATCH] [4/4] dts: extend meson fast tests
From: dpdklab@iol.unh.edu
To: Test Report <test-report@dpdk.org>
Cc: dpdk-test-reports@iol.unh.edu
In-Reply-To: <20250409223825.1579256-5-probb@iol.unh.edu>
References: <20250409223825.1579256-5-probb@iol.unh.edu>
Content-Type: text/plain
X-BeenThere: test-report@dpdk.org
X-Mailman-Version: 2.1.29
Precedence: list
List-Id: automatic DPDK test reports <test-report.dpdk.org>
List-Unsubscribe: <https://mails.dpdk.org/options/test-report>,
 <mailto:test-report-request@dpdk.org?subject=unsubscribe>
List-Archive: <http://mails.dpdk.org/archives/test-report/>
List-Post: <mailto:test-report@dpdk.org>
List-Help: <mailto:test-report-request@dpdk.org?subject=help>
List-Subscribe: <https://mails.dpdk.org/listinfo/test-report>,
 <mailto:test-report-request@dpdk.org?subject=subscribe>
Errors-To: test-report-bounces@dpdk.org

Test-Label: iol-unit-arm64-testing
Test-Status: SUCCESS
http://dpdk.org/patch/152860

_Testing PASS_

Submitter: Patrick Robb <probb@iol.unh.edu>
Date: Wednesday, April 09 2025 22:38:25 
DPDK git baseline: Repo:dpdk
  Branch: master
  CommitID:c933d60a7f8696695eb08ae655f2d809aedc29d5

152857-152860 --> testing pass

Upstream job id: Generic-Unit-Test-DPDK#330057

Test environment and result as below:

+-----------------------------+----------------+--------------+------------------------------+---------------------------+
|         Environment         | dpdk_unit_test | lpm_autotest | cryptodev_sw_snow3g_autotest | cryptodev_sw_zuc_autotest |
+=============================+================+==============+==============================+===========================+
| CentOS Stream 9 (ARM)       | PASS           | SKIPPED      | SKIPPED                      | SKIPPED                   |
+-----------------------------+----------------+--------------+------------------------------+---------------------------+
| CentOS Stream 10 (ARM)      | PASS           | SKIPPED      | SKIPPED                      | SKIPPED                   |
+-----------------------------+----------------+--------------+------------------------------+---------------------------+
| Ubuntu 22.04 (ARM)          | PASS           | SKIPPED      | SKIPPED                      | SKIPPED                   |
+-----------------------------+----------------+--------------+------------------------------+---------------------------+
| Fedora 41 (ARM Clang)       | PASS           | SKIPPED      | SKIPPED                      | SKIPPED                   |
+-----------------------------+----------------+--------------+------------------------------+---------------------------+
| RHEL9 (ARM)                 | PASS           | SKIPPED      | SKIPPED                      | SKIPPED                   |
+-----------------------------+----------------+--------------+------------------------------+---------------------------+
| Fedora 40 (ARM Clang)       | PASS           | SKIPPED      | SKIPPED                      | SKIPPED                   |
+-----------------------------+----------------+--------------+------------------------------+---------------------------+
| Fedora 41 (ARM)             | PASS           | SKIPPED      | SKIPPED                      | SKIPPED                   |
+-----------------------------+----------------+--------------+------------------------------+---------------------------+
| Fedora 40 (ARM)             | PASS           | SKIPPED      | SKIPPED                      | SKIPPED                   |
+-----------------------------+----------------+--------------+------------------------------+---------------------------+
| Ubuntu 20.04 (ARM)          | PASS           | SKIPPED      | SKIPPED                      | SKIPPED                   |
+-----------------------------+----------------+--------------+------------------------------+---------------------------+
| Debian 12 (arm)             | PASS           | SKIPPED      | PASS                         | PASS                      |
+-----------------------------+----------------+--------------+------------------------------+---------------------------+
| Ubuntu 24.04 (ARM)          | PASS           | SKIPPED      | SKIPPED                      | SKIPPED                   |
+-----------------------------+----------------+--------------+------------------------------+---------------------------+
| 32-bit Ubuntu 22.04.4 (ARM) | PASS           | SKIPPED      | SKIPPED                      | SKIPPED                   |
+-----------------------------+----------------+--------------+------------------------------+---------------------------+
| Ubuntu 20.04 ARM SVE        | SKIPPED        | PASS         | SKIPPED                      | SKIPPED                   |
+-----------------------------+----------------+--------------+------------------------------+---------------------------+


CentOS Stream 9 (ARM)
	Kernel: Depends on container host
	Compiler: gcc 11.5.0 20240719 (Red Hat 11.5.0-2)

CentOS Stream 10 (ARM)
	Kernel: Depends on container host
	Compiler: gcc 14.2.1 20241104 (Red Hat 14.2.1-6)

Ubuntu 22.04 (ARM)
	Kernel: Depends on container host
	Compiler: gcc (Ubuntu 11.4.0-1ubuntu1~22.04) 11.4.0

Fedora 41 (ARM Clang)
	Kernel: Depends on container host
	Compiler: clang 19.1.5 (Fedora 19.1.5-1.fc41)

RHEL9 (ARM)
	Kernel: Depends on container host
	Compiler: gcc 11.5.0 20240719 (Red Hat 11.5.0-2)

Fedora 40 (ARM Clang)
	Kernel: Depends on container host
	Compiler: clang 18.1.8 (Fedora 18.1.8-1.fc40)

Fedora 41 (ARM)
	Kernel: Depends on container host
	Compiler: gcc 14.2.1 20240912 (Red Hat 14.2.1-3)

Fedora 40 (ARM)
	Kernel: Depends on container host
	Compiler: gcc 14.2.1 20240912 (Red Hat 14.2.1-3)

Ubuntu 20.04 (ARM)
	Kernel: Depends on container host
	Compiler: gcc (Ubuntu 9.4.0-1ubuntu1~20.04.2) 9.4.0

Debian 12 (arm)
	Kernel: Depends on container host
	Compiler: gcc (Debian 12.2.0-14) 12.2.0

Ubuntu 24.04 (ARM)
	Kernel: Depends on container host
	Compiler: gcc (Ubuntu 13.3.0-6ubuntu2~24.04) 13.3.0

32-bit Ubuntu 22.04.4 (ARM)
	Kernel: 5.15.83+ aarch64
	Compiler: gcc (Ubuntu 11.4.0-1ubuntu1~22.04) 11.4.0

Ubuntu 20.04 ARM SVE
	Kernel: Depends on container host
	Compiler: gcc (Ubuntu 10.5.0-1ubuntu1~20.04) 10.5.0

To view detailed results, visit:
https://lab.dpdk.org/results/dashboard/patchsets/32983/

UNH-IOL DPDK Community Lab

To manage your email subscriptions, visit: 
https://lab.dpdk.org/results/dashboard/preferences/subscriptions/