From mboxrd@z Thu Jan 1 00:00:00 1970 Return-Path: Received: from mails.dpdk.org (mails.dpdk.org [217.70.189.124]) by inbox.dpdk.org (Postfix) with ESMTP id 8ACE646549 for ; Thu, 10 Apr 2025 02:12:28 +0200 (CEST) Received: from mails.dpdk.org (localhost [127.0.0.1]) by mails.dpdk.org (Postfix) with ESMTP id 65D14402E1; Thu, 10 Apr 2025 02:12:28 +0200 (CEST) Received: from mail-pf1-f226.google.com (mail-pf1-f226.google.com [209.85.210.226]) by mails.dpdk.org (Postfix) with ESMTP id 2722640288 for ; Thu, 10 Apr 2025 02:12:27 +0200 (CEST) Received: by mail-pf1-f226.google.com with SMTP id d2e1a72fcca58-736b34a71a1so235406b3a.0 for ; Wed, 09 Apr 2025 17:12:27 -0700 (PDT) DKIM-Signature: v=1; a=rsa-sha256; c=relaxed/relaxed; d=iol.unh.edu; s=unh-iol; t=1744243946; x=1744848746; darn=dpdk.org; h=references:in-reply-to:cc:to:from:subject:message-id:date:from:to :cc:subject:date:message-id:reply-to; bh=26IrU4jKRk6Kk3zVoESJpc4buvHUq29xL2HzjtlGQKU=; b=ScGdqIhB5rEFfFatOCX1TK/VG2uFuqK28ip7qwiW7qwcexqCURF2k7Ftw/g6lS/7xV 066MWqWCdiXFqJdVIF1QpOL1mKzbFDW1NevxujxXbyhQ8J8kPnf9nyf13eLrMRTWEg5H QLZ/rngaxqsfKneXNC7pYp8scv+Fb6Kogmwlw= X-Google-DKIM-Signature: v=1; a=rsa-sha256; c=relaxed/relaxed; d=1e100.net; s=20230601; t=1744243946; x=1744848746; h=references:in-reply-to:cc:to:from:subject:message-id:date :x-gm-message-state:from:to:cc:subject:date:message-id:reply-to; bh=26IrU4jKRk6Kk3zVoESJpc4buvHUq29xL2HzjtlGQKU=; b=VRLuJEZs2lMzRiZxOGyAXoBzPSSoi10+LcT75me/+r4WvaBueOy/rV43I5dR+Wuk2/ Q12dXfUnf4cmrRuXH4gx3qGmp1bdUNNx/0uCnseDmrrqEoeYy28gRMdxK5jp16tNZZMO yFGUpRlGu6wRBeVtuOYhDgfr83vnVv9Klt5aenjsiUUySYFM2KXaI9MC3J2GdYqBDB9Q /daJeuNmqQy0wzcNak/aYJNe3wvB9sr8wG4IBR/HDa4LV4DQmU6+K8L9qivO/ZLoBYzZ VAhfDGWqKyRqlt7GtsKJWVFxsJo7DFN4HB2iY5PueLvfrvkiji9Fjp8PJLQVjVlEO+gG Mgcg== X-Gm-Message-State: AOJu0Yzt1m1HXW6s4inzjZmxuo99VfcUoMFyYSCAK4JY+iyGnNcX5NTp mGZEIvs5N3MJp9ZEw8VVjKM0fR1QJZGeGkh0yO0GW1I2ePAUou7rt4aN8e1Jo/g7cUeSnUvahZR u6Uv4N1JZXm4bltG5RmdvHudkr4xvCOr77MBo+Va+ X-Gm-Gg: ASbGncsb7UuDvonOteZE6xWI+pNyo2lLp0D42g5HrEqwnjQ0EsyTDfkJOkWp3tbzJ/o tC0iRkVu+RFWSM4O+ESuFbG7QMhZ525cpkWth2234UsZz64bzaanZw27Et3PT1ztzxh3a1EKaJZ BY/RDJW54UpeolaMocHIs1tOfxXPO0xwDkesh6SHSF1RmDdsE8JJ9KLBsrPWYrpee8kQJw8FRO2 3NYJiOmfbLehufSjKXs0GDAzNO/o50EDZISLwWdP6V2SusT5vbUORXt2YQPDtS+khgdrrIwtIwU 5fmun1lQe5eTYS4EnMZTDN2igi626qvTqfj4 X-Google-Smtp-Source: AGHT+IHl51nK/cpCCSVAsIA+VCNvJ4vveXPCXtev9M2I3QUm6HUVVcOJ4+fRD0GW3P3vxUmofdC841izgqzX X-Received: by 2002:a05:6a00:21c7:b0:736:ab1d:7ed5 with SMTP id d2e1a72fcca58-73bbec497cfmr1118025b3a.0.1744243946045; Wed, 09 Apr 2025 17:12:26 -0700 (PDT) Received: from postal.iol.unh.edu (postal.iol.unh.edu. [132.177.123.84]) by smtp-relay.gmail.com with ESMTPS id d2e1a72fcca58-73bb1e593dcsm182039b3a.24.2025.04.09.17.12.25 (version=TLS1_2 cipher=ECDHE-ECDSA-AES128-GCM-SHA256 bits=128/128); Wed, 09 Apr 2025 17:12:26 -0700 (PDT) X-Relaying-Domain: iol.unh.edu Date: Wed, 09 Apr 2025 17:12:26 -0700 (PDT) Message-ID: <67f70cea.050a0220.3d8932.6099SMTPIN_ADDED_MISSING@mx.google.com> Received: from [172.21.0.6] (unknown [172.18.0.240]) by postal.iol.unh.edu (Postfix) with ESMTP id 24C8C6052471; Wed, 9 Apr 2025 20:12:25 -0400 (EDT) Subject: |SUCCESS| pw152857-152860 [PATCH] [4/4] dts: extend meson fast tests From: dpdklab@iol.unh.edu To: Test Report Cc: dpdk-test-reports@iol.unh.edu In-Reply-To: <20250409223825.1579256-5-probb@iol.unh.edu> References: <20250409223825.1579256-5-probb@iol.unh.edu> Content-Type: text/plain X-BeenThere: test-report@dpdk.org X-Mailman-Version: 2.1.29 Precedence: list List-Id: automatic DPDK test reports List-Unsubscribe: , List-Archive: List-Post: List-Help: List-Subscribe: , Errors-To: test-report-bounces@dpdk.org Test-Label: iol-sample-apps-testing Test-Status: SUCCESS http://dpdk.org/patch/152860 _Testing PASS_ Submitter: Patrick Robb Date: Wednesday, April 09 2025 22:38:25 DPDK git baseline: Repo:dpdk Branch: master CommitID:c933d60a7f8696695eb08ae655f2d809aedc29d5 152857-152860 --> testing pass Upstream job id: ACVP-FIPS-testing#9500 Test environment and result as below: +--------------------+----------------------+----------------------+ | Environment | dpdk_fips_validation | compressdev_zlib_pmd | +====================+======================+======================+ | Ubuntu 20.04 | PASS | SKIPPED | +--------------------+----------------------+----------------------+ | Ubuntu 22.04 (ARM) | SKIPPED | PASS | +--------------------+----------------------+----------------------+ | Ubuntu 22.04 | SKIPPED | PASS | +--------------------+----------------------+----------------------+ Ubuntu 20.04 Kernel: Depends on container host Compiler: gcc (Ubuntu 9.4.0-1ubuntu1~20.04.2) 9.4.0 Ubuntu 22.04 (ARM) Kernel: 5.15.0-97-generic Compiler: gcc gcc (Ubuntu 11.4.0-1ubuntu1~22.04) 11.4.0 Ubuntu 22.04 Kernel: 5.15.0-100-generic Compiler: gcc gcc (Ubuntu 11.4.0-1ubuntu1~22.04) 11.4.0 To view detailed results, visit: https://lab.dpdk.org/results/dashboard/patchsets/32983/ UNH-IOL DPDK Community Lab To manage your email subscriptions, visit: https://lab.dpdk.org/results/dashboard/preferences/subscriptions/