From mboxrd@z Thu Jan 1 00:00:00 1970 Return-Path: Received: from mails.dpdk.org (mails.dpdk.org [217.70.189.124]) by inbox.dpdk.org (Postfix) with ESMTP id E2BBE46549 for ; Thu, 10 Apr 2025 02:25:06 +0200 (CEST) Received: from mails.dpdk.org (localhost [127.0.0.1]) by mails.dpdk.org (Postfix) with ESMTP id DEBF2402E1; Thu, 10 Apr 2025 02:25:06 +0200 (CEST) Received: from mail-pl1-f226.google.com (mail-pl1-f226.google.com [209.85.214.226]) by mails.dpdk.org (Postfix) with ESMTP id 892A440288 for ; Thu, 10 Apr 2025 02:25:05 +0200 (CEST) Received: by mail-pl1-f226.google.com with SMTP id d9443c01a7336-2241053582dso3024925ad.1 for ; Wed, 09 Apr 2025 17:25:05 -0700 (PDT) DKIM-Signature: v=1; a=rsa-sha256; c=relaxed/relaxed; d=iol.unh.edu; s=unh-iol; t=1744244705; x=1744849505; darn=dpdk.org; h=references:in-reply-to:cc:to:from:subject:message-id:date:from:to :cc:subject:date:message-id:reply-to; bh=tpRZjCIjkHisJhCPCfAPJM9SeXMDc5jURrpridtYhiE=; b=RW5QKa6Nqi8475JFaZKge8cl5jOLfv//Xowhiqtps4oDjTd/Va48p+vnowAB81zk++ lUQLF5WMwrdtPwapW+t4i1e6CV65DezjsWxUiKN7jnOF1D2aAb9arkdGBTYn7/qSC+eV 87pGVymIKZwKpjMImE/nmAmbIrvhb/eyschk4= X-Google-DKIM-Signature: v=1; a=rsa-sha256; c=relaxed/relaxed; d=1e100.net; s=20230601; t=1744244705; x=1744849505; h=references:in-reply-to:cc:to:from:subject:message-id:date :x-gm-message-state:from:to:cc:subject:date:message-id:reply-to; bh=tpRZjCIjkHisJhCPCfAPJM9SeXMDc5jURrpridtYhiE=; b=W0c1YlKxq1QjcmKLarveraNK7rz692KgECQ1ymPIvynzIert/UYxycGoT+e8MlNiJ/ wRq8x/NumCfnAZYW7qQUq938Ex8HVMlu0rEZTZPsyV1AIuYzVPWaBjoscavFmiCTOugY P4jrJwEyHqveGqApeiQlgTrHR/u0XUhb10QVW6KSXhs/UlHTxXRdh2/PpLkPf/17B4Hv rDc3Bm5kjNTbxXv7ilsFMncn5j2Dvlr2wQNye3w+JziTvvQ5FMR5/5XWVdQQa+HSHJhB 9u4kYfLvx1niYKWG3iQSvkY2uVM2jdzU4Ah5rnJiHz30tWPkD0UrdDC1wEJhBrFcD3QX ZvgA== X-Gm-Message-State: AOJu0Yz548aJrZAd5mwkCva5HXcAkIFUQ6H0T6H2jc6DT/W3l032pajG rFPFEVaYOwAO/d0IANKQsXpLfGSXOUF+Uwx7YeF9PeXOQBSogDbdYplZev7pZVCyIUDalNuUOns A00yYY+t9h+Tr9//8hM90xNU1xuNbgV+SGTLQ9i7A X-Gm-Gg: ASbGncuY5SnquVeH6IVIYbX7FqAilpyqz22BrPH2jjplrGsj4HaPHFnVoOMSD9lq4e+ faeO45NFCxTBzrAfaT15B+zrQD365S2IYarOraGHMec/GPXbmD22Rna9jW5auSU2sBTWQc94n6E 6tEt7/Rz2RakFVKgfKBzddyrGoSyrNXi0YBY+rcyBWfz8Glrt+zNaAnvbcimKRkRv2itm7/4fBb y9ymHELRrLVE/k21OVVjtru7IvWy5XV4XTeQeG04HXYrsw47G8twT0OGq1Ga5rTt5XeZTjJr7iv OepPZk5PHxAzgP7GCzGrqNXZ0mN3kOeQdYt2 X-Google-Smtp-Source: AGHT+IFGDwERjTtCdCndA6sMnwyLscSArPUMqLV6e0TG78qhDwqiN8Az5W+q0tjrO8fGQZykD3ahzmbD9gYN X-Received: by 2002:a17:903:1a67:b0:221:7b4a:475a with SMTP id d9443c01a7336-22b42c6e609mr8885185ad.52.1744244704658; Wed, 09 Apr 2025 17:25:04 -0700 (PDT) Received: from postal.iol.unh.edu (postal.iol.unh.edu. [132.177.123.84]) by smtp-relay.gmail.com with ESMTPS id d9443c01a7336-22ac7caf709sm1296205ad.98.2025.04.09.17.25.04 (version=TLS1_2 cipher=ECDHE-ECDSA-AES128-GCM-SHA256 bits=128/128); Wed, 09 Apr 2025 17:25:04 -0700 (PDT) X-Relaying-Domain: iol.unh.edu Date: Wed, 09 Apr 2025 17:25:04 -0700 (PDT) Message-ID: <67f70fe0.170a0220.26f6d9.5466SMTPIN_ADDED_MISSING@mx.google.com> Received: from [172.21.0.7] (unknown [172.18.0.240]) by postal.iol.unh.edu (Postfix) with ESMTP id BE8A66052471; Wed, 9 Apr 2025 20:25:03 -0400 (EDT) Subject: |SUCCESS| pw152857-152860 [PATCH] [4/4] dts: extend meson fast tests From: dpdklab@iol.unh.edu To: Test Report Cc: dpdk-test-reports@iol.unh.edu In-Reply-To: <20250409223825.1579256-5-probb@iol.unh.edu> References: <20250409223825.1579256-5-probb@iol.unh.edu> Content-Type: text/plain X-BeenThere: test-report@dpdk.org X-Mailman-Version: 2.1.29 Precedence: list List-Id: automatic DPDK test reports List-Unsubscribe: , List-Archive: List-Post: List-Help: List-Subscribe: , Errors-To: test-report-bounces@dpdk.org Test-Label: iol-compile-amd64-testing Test-Status: SUCCESS http://dpdk.org/patch/152860 _Testing PASS_ Submitter: Patrick Robb Date: Wednesday, April 09 2025 22:38:25 DPDK git baseline: Repo:dpdk Branch: master CommitID:c933d60a7f8696695eb08ae655f2d809aedc29d5 152857-152860 --> testing pass Upstream job id: Generic-DPDK-Compile-Meson#378887 Test environment and result as below: +-----------------------------------+--------------------+-------------------+------------------+-------------------------+-------------------+----------------------+ | Environment | dpdk_meson_compile | dpdk_compile_spdk | dpdk_compile_ovs | dpdk_llvm_clang_compile | dpdk_msvc_compile | dpdk_mingw64_compile | +===================================+====================+===================+==================+=========================+===================+======================+ | CentOS Stream 9 | PASS | PASS | SKIPPED | SKIPPED | SKIPPED | SKIPPED | +-----------------------------------+--------------------+-------------------+------------------+-------------------------+-------------------+----------------------+ | CentOS Stream 10 | PASS | SKIPPED | SKIPPED | SKIPPED | SKIPPED | SKIPPED | +-----------------------------------+--------------------+-------------------+------------------+-------------------------+-------------------+----------------------+ | Debian 12 | PASS | PASS | SKIPPED | SKIPPED | SKIPPED | SKIPPED | +-----------------------------------+--------------------+-------------------+------------------+-------------------------+-------------------+----------------------+ | Fedora 40 (Clang) | PASS | PASS | SKIPPED | SKIPPED | SKIPPED | SKIPPED | +-----------------------------------+--------------------+-------------------+------------------+-------------------------+-------------------+----------------------+ | Fedora 40 | PASS | PASS | SKIPPED | SKIPPED | SKIPPED | SKIPPED | +-----------------------------------+--------------------+-------------------+------------------+-------------------------+-------------------+----------------------+ | Fedora 41 (Clang) | PASS | PASS | PASS | SKIPPED | SKIPPED | SKIPPED | +-----------------------------------+--------------------+-------------------+------------------+-------------------------+-------------------+----------------------+ | Fedora 41 | PASS | PASS | PASS | SKIPPED | SKIPPED | SKIPPED | +-----------------------------------+--------------------+-------------------+------------------+-------------------------+-------------------+----------------------+ | openSUSE Leap 15 | PASS | SKIPPED | SKIPPED | SKIPPED | SKIPPED | SKIPPED | +-----------------------------------+--------------------+-------------------+------------------+-------------------------+-------------------+----------------------+ | RHEL8 | PASS | SKIPPED | SKIPPED | SKIPPED | SKIPPED | SKIPPED | +-----------------------------------+--------------------+-------------------+------------------+-------------------------+-------------------+----------------------+ | Ubuntu 20.04 | PASS | SKIPPED | SKIPPED | SKIPPED | SKIPPED | SKIPPED | +-----------------------------------+--------------------+-------------------+------------------+-------------------------+-------------------+----------------------+ | RHEL9 | PASS | SKIPPED | SKIPPED | SKIPPED | SKIPPED | SKIPPED | +-----------------------------------+--------------------+-------------------+------------------+-------------------------+-------------------+----------------------+ | Ubuntu 22.04 | PASS | PASS | SKIPPED | SKIPPED | SKIPPED | SKIPPED | +-----------------------------------+--------------------+-------------------+------------------+-------------------------+-------------------+----------------------+ | Ubuntu 24.04 | PASS | PASS | PASS | SKIPPED | SKIPPED | SKIPPED | +-----------------------------------+--------------------+-------------------+------------------+-------------------------+-------------------+----------------------+ | Alpine | PASS | SKIPPED | SKIPPED | SKIPPED | SKIPPED | SKIPPED | +-----------------------------------+--------------------+-------------------+------------------+-------------------------+-------------------+----------------------+ | Ubuntu 24.04 32 Bit Cross Compile | PASS | SKIPPED | SKIPPED | SKIPPED | SKIPPED | SKIPPED | +-----------------------------------+--------------------+-------------------+------------------+-------------------------+-------------------+----------------------+ | FreeBSD 13.5 | PASS | SKIPPED | SKIPPED | SKIPPED | SKIPPED | SKIPPED | +-----------------------------------+--------------------+-------------------+------------------+-------------------------+-------------------+----------------------+ | FreeBSD 14.2 | PASS | SKIPPED | SKIPPED | SKIPPED | SKIPPED | SKIPPED | +-----------------------------------+--------------------+-------------------+------------------+-------------------------+-------------------+----------------------+ | Windows Server 2022 | SKIPPED | SKIPPED | SKIPPED | PASS | PASS | PASS | +-----------------------------------+--------------------+-------------------+------------------+-------------------------+-------------------+----------------------+ CentOS Stream 9 Kernel: Depends on container host Compiler: gcc 11.5.0 20240719 (Red Hat 11.5.0-2) CentOS Stream 10 Kernel: Depends on container host Compiler: gcc 14.2.1 20241104 (Red Hat 14.2.1-6) Debian 12 Kernel: Depends on container host Compiler: gcc (Debian 12.2.0-14) 12.2.0 Fedora 40 (Clang) Kernel: Depends on container host Compiler: clang 18.1.8 (Fedora 18.1.8-1.fc40) Fedora 40 Kernel: Depends on container host Compiler: gcc 14.2.1 20240912 (Red Hat 14.2.1-3) Fedora 41 (Clang) Kernel: Depends on container host Compiler: clang 19.1.5 (Fedora 19.1.5-1.fc41) Fedora 41 Kernel: Depends on container host Compiler: gcc 14.2.1 20240912 (Red Hat 14.2.1-3) openSUSE Leap 15 Kernel: Depends on container host Compiler: gcc (SUSE Linux) 7.5.0 RHEL8 Kernel: Depends on container host Compiler: gcc 8.5.0 20210514 (Red Hat 8.5.0-22) Ubuntu 20.04 Kernel: Depends on container host Compiler: gcc (Ubuntu 9.4.0-1ubuntu1~20.04.2) 9.4.0 RHEL9 Kernel: Depends on container host Compiler: gcc 11.5.0 20240719 (Red Hat 11.5.0-2) Ubuntu 22.04 Kernel: Depends on container host Compiler: gcc (Ubuntu 11.4.0-1ubuntu1~22.04) 11.4.0 Ubuntu 24.04 Kernel: Depends on container host Compiler: gcc (Ubuntu 13.3.0-6ubuntu2~24.04) 13.3.0 Alpine Kernel: Depends on container host Compiler: gcc (Alpine 14.2.0) 14.2.0 Ubuntu 24.04 32 Bit Cross Compile Kernel: Depends on container host Compiler: gcc (Ubuntu 13.3.0-6ubuntu2~24.04) 13.3.0 FreeBSD 13.5 Kernel: 13.5-RELEASE Compiler: clang 19.1.7 FreeBSD 14.2 Kernel: 14.2-RELEASE Compiler: clang 18.1.6 Windows Server 2022 Kernel: 10.0.20348.2031 Compiler: clang 15.0.7, gcc 14.1.0 (MinGW), and MSVC VS 19.39.33521 To view detailed results, visit: https://lab.dpdk.org/results/dashboard/patchsets/32983/ UNH-IOL DPDK Community Lab To manage your email subscriptions, visit: https://lab.dpdk.org/results/dashboard/preferences/subscriptions/