From mboxrd@z Thu Jan 1 00:00:00 1970 Return-Path: Received: from mails.dpdk.org (mails.dpdk.org [217.70.189.124]) by inbox.dpdk.org (Postfix) with ESMTP id 7E03646549 for ; Thu, 10 Apr 2025 02:41:30 +0200 (CEST) Received: from mails.dpdk.org (localhost [127.0.0.1]) by mails.dpdk.org (Postfix) with ESMTP id 59ED8402E1; Thu, 10 Apr 2025 02:41:30 +0200 (CEST) Received: from mail-qk1-f226.google.com (mail-qk1-f226.google.com [209.85.222.226]) by mails.dpdk.org (Postfix) with ESMTP id 2625640288 for ; Thu, 10 Apr 2025 02:41:29 +0200 (CEST) Received: by mail-qk1-f226.google.com with SMTP id af79cd13be357-7c58974ed57so26855985a.2 for ; Wed, 09 Apr 2025 17:41:29 -0700 (PDT) DKIM-Signature: v=1; a=rsa-sha256; c=relaxed/relaxed; d=iol.unh.edu; s=unh-iol; t=1744245688; x=1744850488; darn=dpdk.org; h=references:in-reply-to:cc:to:from:subject:message-id:date:from:to :cc:subject:date:message-id:reply-to; bh=ki2iQmMabEEVVbL2uCGIfre3tdiL4SdJC/B029mJBuo=; b=Hb+lRfnMMaWgjf+nh+YuH2rDgblBm/cQm1An3YTl+HQ/75P71v86hXpMTN8CIlDFrO 1iv/t914OIbd2RSKPM/ugb1aBA44T0Yga0WNV7xmsRKQiIW830EQtNFpxxtVfJhG9yL+ M21++GeqpZp+Y1uA9YcodtWuVnfyT0dPINnn0= X-Google-DKIM-Signature: v=1; a=rsa-sha256; c=relaxed/relaxed; d=1e100.net; s=20230601; t=1744245688; x=1744850488; h=references:in-reply-to:cc:to:from:subject:message-id:date :x-gm-message-state:from:to:cc:subject:date:message-id:reply-to; bh=ki2iQmMabEEVVbL2uCGIfre3tdiL4SdJC/B029mJBuo=; b=s5s0sTGX8XptPVkNtlMZFzoNXGxjebRoNdAZpJI+y3TWmvRFtXkVzf0/7vrV2icZpN sWoGbe6rSQSquGJjgwADA0Mo8z2aD/JwY83tGPbr999alouJpwAEM2XzdmuQ9N3GJPv1 bflKX6X/B3o2etFWY1DyolxToOrVQYNKSLGeV/kTs6UMRcWl81Cxuz/Tj8GElJ9bjJ47 JBt1y+1uncWbkBL5F9eNWAH9v9RcINY1jCAC4Jdoai/Kq9pUF91zIRctWwjEaO9N+GTk hluLUXGgxmot4oDsWLbHFuf8Wz0Dpm8tEchsUOZKbw2deC+TZGHXWBaB7b0a9sauoeS+ zrxQ== X-Gm-Message-State: AOJu0YwLLcs4vt7Yz9hXqDHeqypRMjAvFTj15ia7SQb2PPvVlR4lVWkf WkBEHdTbUWnD+KijYHskb9YlVxm4Cc2ELzI4Ouve+bE9QVn8J7sNLu7mSiymLnVJiVMi9hR4K+Z 5vTf6Qrcnnq8wANHflJLP5b+Z6U/y19PK+7Phuq6x3OtcjBtPTh7Ds3nO X-Gm-Gg: ASbGncuisK/X7E3xnhk+h4Ecj25M72hJIZSepdG5YHi37xPpaGkX1P7qksVEVWdpLY9 z19YlaEu3IzpbA2GHNRNbjGb9rL17C0yiu6YrIcJXIqvrn8h3z/JDGN6/rhzy9PGZfMLPY3uwdj tLInCKa2TICfH56i8scqIuA/obk2pLaqSE/AH0U+PmrjT/zsMMoJCr6xWJKDso5T4Uu9j39JNRp Idw+DRXMY0cibZTr8X7EkHEmVUMbfDUApWR+OnvQDl+nn7ImkzKpA4e6Qnm8xgcXLlEWwY1HHJE o5rzF/lJb14pIOjxLXQiaeiCV5Js+NCyKTQjT3gPddvA39Lt X-Google-Smtp-Source: AGHT+IHJH/J/lT6dyY0x+snuIbjDglcSOvafsx/EYlfm7fTM7wTSioglSxgK6QXGF1hIqu1DC67pr+JDgUSu X-Received: by 2002:a05:620a:288c:b0:7c7:a45d:3a5 with SMTP id af79cd13be357-7c7a766c8c3mr112714285a.14.1744245688460; Wed, 09 Apr 2025 17:41:28 -0700 (PDT) Received: from postal.iol.unh.edu (postal.iol.unh.edu. [2606:4100:3880:1234::84]) by smtp-relay.gmail.com with ESMTPS id 6a1803df08f44-6f0de95c1casm1840746d6.13.2025.04.09.17.41.28 (version=TLS1_2 cipher=ECDHE-ECDSA-AES128-GCM-SHA256 bits=128/128); Wed, 09 Apr 2025 17:41:28 -0700 (PDT) X-Relaying-Domain: iol.unh.edu Date: Wed, 09 Apr 2025 17:41:28 -0700 (PDT) Message-ID: <67f713b8.d40a0220.1f16b.5d11SMTPIN_ADDED_MISSING@mx.google.com> Received: from [172.21.0.5] (unknown [172.18.0.240]) by postal.iol.unh.edu (Postfix) with ESMTP id 1A5BA6052471; Wed, 9 Apr 2025 20:41:28 -0400 (EDT) Subject: |SUCCESS| pw152857-152860 [PATCH] [4/4] dts: extend meson fast tests From: dpdklab@iol.unh.edu To: Test Report Cc: dpdk-test-reports@iol.unh.edu In-Reply-To: <20250409223825.1579256-5-probb@iol.unh.edu> References: <20250409223825.1579256-5-probb@iol.unh.edu> Content-Type: text/plain X-BeenThere: test-report@dpdk.org X-Mailman-Version: 2.1.29 Precedence: list List-Id: automatic DPDK test reports List-Unsubscribe: , List-Archive: List-Post: List-Help: List-Subscribe: , Errors-To: test-report-bounces@dpdk.org Test-Label: iol-abi-testing Test-Status: SUCCESS http://dpdk.org/patch/152860 _Testing PASS_ Submitter: Patrick Robb Date: Wednesday, April 09 2025 22:38:25 DPDK git baseline: Repo:dpdk Branch: master CommitID:c933d60a7f8696695eb08ae655f2d809aedc29d5 152857-152860 --> testing pass Upstream job id: Generic-DPDK-Compile-ABI#122880 Test environment and result as below: +-------------------+----------+ | Environment | abi_test | +===================+==========+ | CentOS Stream 9 | PASS | +-------------------+----------+ | CentOS Stream 10 | PASS | +-------------------+----------+ | Debian 12 | PASS | +-------------------+----------+ | Fedora 40 (Clang) | PASS | +-------------------+----------+ | Fedora 41 (Clang) | PASS | +-------------------+----------+ | Fedora 40 | PASS | +-------------------+----------+ | openSUSE Leap 15 | PASS | +-------------------+----------+ | Fedora 41 | PASS | +-------------------+----------+ | RHEL8 | PASS | +-------------------+----------+ | RHEL9 | PASS | +-------------------+----------+ | Ubuntu 24.04 | PASS | +-------------------+----------+ | Ubuntu 22.04 | PASS | +-------------------+----------+ CentOS Stream 9 Kernel: Depends on container host Compiler: gcc 11.5.0 20240719 (Red Hat 11.5.0-2) CentOS Stream 10 Kernel: Depends on container host Compiler: gcc 14.2.1 20241104 (Red Hat 14.2.1-6) Debian 12 Kernel: Depends on container host Compiler: gcc (Debian 12.2.0-14) 12.2.0 Fedora 40 (Clang) Kernel: Depends on container host Compiler: clang 18.1.8 (Fedora 18.1.8-1.fc40) Fedora 41 (Clang) Kernel: Depends on container host Compiler: clang 19.1.5 (Fedora 19.1.5-1.fc41) Fedora 40 Kernel: Depends on container host Compiler: gcc 14.2.1 20240912 (Red Hat 14.2.1-3) openSUSE Leap 15 Kernel: Depends on container host Compiler: gcc (SUSE Linux) 7.5.0 Fedora 41 Kernel: Depends on container host Compiler: gcc 14.2.1 20240912 (Red Hat 14.2.1-3) RHEL8 Kernel: Depends on container host Compiler: gcc 8.5.0 20210514 (Red Hat 8.5.0-22) RHEL9 Kernel: Depends on container host Compiler: gcc 11.5.0 20240719 (Red Hat 11.5.0-2) Ubuntu 24.04 Kernel: Depends on container host Compiler: gcc (Ubuntu 13.3.0-6ubuntu2~24.04) 13.3.0 Ubuntu 22.04 Kernel: Depends on container host Compiler: gcc (Ubuntu 11.4.0-1ubuntu1~22.04) 11.4.0 To view detailed results, visit: https://lab.dpdk.org/results/dashboard/patchsets/32983/ UNH-IOL DPDK Community Lab To manage your email subscriptions, visit: https://lab.dpdk.org/results/dashboard/preferences/subscriptions/