From mboxrd@z Thu Jan 1 00:00:00 1970 Return-Path: Received: from mails.dpdk.org (mails.dpdk.org [217.70.189.124]) by inbox.dpdk.org (Postfix) with ESMTP id 64F0446549 for ; Thu, 10 Apr 2025 02:43:04 +0200 (CEST) Received: from mails.dpdk.org (localhost [127.0.0.1]) by mails.dpdk.org (Postfix) with ESMTP id 8F3F2402E1; Thu, 10 Apr 2025 02:43:03 +0200 (CEST) Received: from mail-qv1-f97.google.com (mail-qv1-f97.google.com [209.85.219.97]) by mails.dpdk.org (Postfix) with ESMTP id A2C1440288 for ; Thu, 10 Apr 2025 02:43:01 +0200 (CEST) Received: by mail-qv1-f97.google.com with SMTP id 6a1803df08f44-6f0ad74483fso2147476d6.1 for ; Wed, 09 Apr 2025 17:43:01 -0700 (PDT) DKIM-Signature: v=1; a=rsa-sha256; c=relaxed/relaxed; d=iol.unh.edu; s=unh-iol; t=1744245781; x=1744850581; darn=dpdk.org; h=references:in-reply-to:cc:to:from:subject:message-id:date:from:to :cc:subject:date:message-id:reply-to; bh=uSaZweqmsTAo4PkLdUnlr5QIVjiphayaUYCgPxx2X20=; b=Ifo11pEUdu19HGryjcvh88CLIpc2el+JR3mmogui3D/4FNeYERbCdHxOlJdUaV/Cyz bNx6JO/H9RSRCq/qDk4HOvzawTm+J2VDFsm07gT9YXe7SOLXrj/DTYGly6g5+a9Oy6Y4 7K24CbW+52d8UYwNp2aA+bdR7iKx13GNtzFU8= X-Google-DKIM-Signature: v=1; a=rsa-sha256; c=relaxed/relaxed; d=1e100.net; s=20230601; t=1744245781; x=1744850581; h=references:in-reply-to:cc:to:from:subject:message-id:date :x-gm-message-state:from:to:cc:subject:date:message-id:reply-to; bh=uSaZweqmsTAo4PkLdUnlr5QIVjiphayaUYCgPxx2X20=; b=NoxsT/nJeYR+S8nkVxmUqG+H0RwMQsPxff7Z9CrXqYgGUmn3COwSKmfIZivniB6s6Q PFpeYNgwyDLEci5JI1qyr207zEgQQaqiVMNBJ07epNkd5uFJNbj7UiobNYaYLJ9oUb/P pJ5PcVKXBiA+XbLZHg//+Azw3Ow5Hg5ciIm7yaxITFkG+S5/7VI6Gb4qaMN0vSJYN+Qz MI/hcUwwGRNGBCxfDEW4B1wGFUX/voq9S1N5swkPp2B+q3q6XeizxRl1Fu2X1zoiDwkT BnjkvtB20VMycmpvhjXwtRDb/hUgFkc2jMbzTfwSbYnvDr1awev2weJQOrnz8KFnzqpL WUnw== X-Gm-Message-State: AOJu0YyiXk+mS0vj7og9hLhXxQv90XDJqpinMqTPB4+7R0Nqnfl6Sp59 szosYbgfoIX3On5409mm4yONQyRNbBtcuKxk2OYZsDGTTC4DnIGiEmNza4ed+AiEQT5a1bdrW1y Y72pYdw59iGmrU5It5wXrp8JF5z67BuPDjjts5zePnlZ5P4BXgsuD96Wp X-Gm-Gg: ASbGncs3KqbfYXrJQnQFnK9gx7OtKb0fVUzq+6sWGOvcahKQT4b73sLP6hVBUYxcrW9 wItaElNpIxo5rLQAjEVXY1NtVtQPyywL/M9T7TGnaUlprdJJHQi5OJ1mBx+T5TvXdoBe9fs8Gju 14WzZlSFE5VosvSBOMgF4FqLPqTpriDosr6HoHYyZKv5f+7lpycA49iQ1y/GQ7iiw2+JTh7PLIm cTGy7P/hH6mKlkRitCuZhfrF9jDyKWtrq8CiYOFNqhVpzz2JsyjcjWwLGLTyKa49Dg40cc9oOUC +zpMtqnUrampkcVZXBNXqo8r5oQme8vI4UY1KeJ1jbrbYEse X-Google-Smtp-Source: AGHT+IFbJIn1Qke/s3pCUNX9nbaaVlrJm5px5YBICHfa0PNDqWZn2/ZvhKjw9gE95YFr+IeAbXKN4zmNPNde X-Received: by 2002:a05:6214:20ee:b0:6d8:8fdd:9791 with SMTP id 6a1803df08f44-6f0e5aa9769mr13344196d6.25.1744245781081; Wed, 09 Apr 2025 17:43:01 -0700 (PDT) Received: from postal.iol.unh.edu (postal.iol.unh.edu. [2606:4100:3880:1234::84]) by smtp-relay.gmail.com with ESMTPS id 6a1803df08f44-6f0de95cc6esm1852776d6.10.2025.04.09.17.43.01 (version=TLS1_2 cipher=ECDHE-ECDSA-AES128-GCM-SHA256 bits=128/128); Wed, 09 Apr 2025 17:43:01 -0700 (PDT) X-Relaying-Domain: iol.unh.edu Date: Wed, 09 Apr 2025 17:43:01 -0700 (PDT) Message-ID: <67f71415.050a0220.1bdded.6081SMTPIN_ADDED_MISSING@mx.google.com> Received: from [172.21.0.5] (unknown [172.18.0.240]) by postal.iol.unh.edu (Postfix) with ESMTP id B44B16052471; Wed, 9 Apr 2025 20:43:00 -0400 (EDT) Subject: |SUCCESS| pw152857-152860 [PATCH] [4/4] dts: extend meson fast tests From: dpdklab@iol.unh.edu To: Test Report Cc: dpdk-test-reports@iol.unh.edu In-Reply-To: <20250409223825.1579256-5-probb@iol.unh.edu> References: <20250409223825.1579256-5-probb@iol.unh.edu> Content-Type: text/plain X-BeenThere: test-report@dpdk.org X-Mailman-Version: 2.1.29 Precedence: list List-Id: automatic DPDK test reports List-Unsubscribe: , List-Archive: List-Post: List-Help: List-Subscribe: , Errors-To: test-report-bounces@dpdk.org Test-Label: iol-abi-testing Test-Status: SUCCESS http://dpdk.org/patch/152860 _Testing PASS_ Submitter: Patrick Robb Date: Wednesday, April 09 2025 22:38:25 DPDK git baseline: Repo:dpdk Branch: master CommitID:c933d60a7f8696695eb08ae655f2d809aedc29d5 152857-152860 --> testing pass Upstream job id: Generic-DPDK-Compile-ABI#122883 Test environment and result as below: +-------------------+----------+ | Environment | abi_test | +===================+==========+ | CentOS Stream 9 | PASS | +-------------------+----------+ | CentOS Stream 10 | PASS | +-------------------+----------+ | Debian 12 | PASS | +-------------------+----------+ | Fedora 40 (Clang) | PASS | +-------------------+----------+ | Fedora 41 (Clang) | PASS | +-------------------+----------+ | Fedora 40 | PASS | +-------------------+----------+ | openSUSE Leap 15 | PASS | +-------------------+----------+ | Fedora 41 | PASS | +-------------------+----------+ | RHEL8 | PASS | +-------------------+----------+ | RHEL9 | PASS | +-------------------+----------+ | Ubuntu 24.04 | PASS | +-------------------+----------+ | Ubuntu 22.04 | PASS | +-------------------+----------+ CentOS Stream 9 Kernel: Depends on container host Compiler: gcc 11.5.0 20240719 (Red Hat 11.5.0-2) CentOS Stream 10 Kernel: Depends on container host Compiler: gcc 14.2.1 20241104 (Red Hat 14.2.1-6) Debian 12 Kernel: Depends on container host Compiler: gcc (Debian 12.2.0-14) 12.2.0 Fedora 40 (Clang) Kernel: Depends on container host Compiler: clang 18.1.8 (Fedora 18.1.8-1.fc40) Fedora 41 (Clang) Kernel: Depends on container host Compiler: clang 19.1.5 (Fedora 19.1.5-1.fc41) Fedora 40 Kernel: Depends on container host Compiler: gcc 14.2.1 20240912 (Red Hat 14.2.1-3) openSUSE Leap 15 Kernel: Depends on container host Compiler: gcc (SUSE Linux) 7.5.0 Fedora 41 Kernel: Depends on container host Compiler: gcc 14.2.1 20240912 (Red Hat 14.2.1-3) RHEL8 Kernel: Depends on container host Compiler: gcc 8.5.0 20210514 (Red Hat 8.5.0-22) RHEL9 Kernel: Depends on container host Compiler: gcc 11.5.0 20240719 (Red Hat 11.5.0-2) Ubuntu 24.04 Kernel: Depends on container host Compiler: gcc (Ubuntu 13.3.0-6ubuntu2~24.04) 13.3.0 Ubuntu 22.04 Kernel: Depends on container host Compiler: gcc (Ubuntu 11.4.0-1ubuntu1~22.04) 11.4.0 To view detailed results, visit: https://lab.dpdk.org/results/dashboard/patchsets/32983/ UNH-IOL DPDK Community Lab To manage your email subscriptions, visit: https://lab.dpdk.org/results/dashboard/preferences/subscriptions/