From mboxrd@z Thu Jan 1 00:00:00 1970 Return-Path: Received: from mails.dpdk.org (mails.dpdk.org [217.70.189.124]) by inbox.dpdk.org (Postfix) with ESMTP id 39D5F46549 for ; Thu, 10 Apr 2025 02:48:26 +0200 (CEST) Received: from mails.dpdk.org (localhost [127.0.0.1]) by mails.dpdk.org (Postfix) with ESMTP id 0DE07402E1; Thu, 10 Apr 2025 02:48:26 +0200 (CEST) Received: from mail-yw1-f226.google.com (mail-yw1-f226.google.com [209.85.128.226]) by mails.dpdk.org (Postfix) with ESMTP id 76A6A40288 for ; Thu, 10 Apr 2025 02:48:24 +0200 (CEST) Received: by mail-yw1-f226.google.com with SMTP id 00721157ae682-6f74b78df93so4132227b3.0 for ; Wed, 09 Apr 2025 17:48:24 -0700 (PDT) DKIM-Signature: v=1; a=rsa-sha256; c=relaxed/relaxed; d=iol.unh.edu; s=unh-iol; t=1744246103; x=1744850903; darn=dpdk.org; h=references:in-reply-to:cc:to:from:subject:message-id:date:from:to :cc:subject:date:message-id:reply-to; bh=CSdLaI8/UwOsqZveAk5Kx56phe7RAP/eSAVVWVhrkpI=; b=bzgEIS4zHuNH39xmXDAR598B0zGfsWxx6q4eiIUh35Ktb7BHwtJf5qrtOfxfDq42Ol BNBvzEjoH/4KRxZEwvLL42Cru5j2Xg1kcv9xiqWXUpXuqAGdETCvw3riL8EPqtrD/VR5 j9OjmgGAN1q4ujs4AQpL1tboT4tuzsZKBATHk= X-Google-DKIM-Signature: v=1; a=rsa-sha256; c=relaxed/relaxed; d=1e100.net; s=20230601; t=1744246103; x=1744850903; h=references:in-reply-to:cc:to:from:subject:message-id:date :x-gm-message-state:from:to:cc:subject:date:message-id:reply-to; bh=CSdLaI8/UwOsqZveAk5Kx56phe7RAP/eSAVVWVhrkpI=; b=KudnRZ+DlkhZycxfvwdiXutK5m/K4EK3RjlcHXD46RkB+BNO3B9p1h7iHkrP9lqbFb X6c5EVQiZoz8bH29KbJw+ONytiBH2MmgZnP6BjnWyYAFQ7OtjVhLveMeA8SbCdNnGjGF dkUVV2GZbA+A8KMzlwy6+Q3PzwbZwnmbWwv8iJM0FWdnJD2dCuBXXRVk58U5dz/dgI2x eViCFoXTqxfQM4ahheRmThvOzgLAhsOqtPERBz04cxV3qIvgM1ZIMjC39tY8arTEJ6VM KQgQ+iFI2hdyqaT8u+7LFswnCZQ28AVibVKcVz33rbMmzj/YkXdlYCEBATjusQ4pI+t/ Ehkw== X-Gm-Message-State: AOJu0Yy+IBz1l2XETt76rup830l6QEYFyYEFC8997obFzlWkje1IejU0 6PJubmpEzUOzYVHmAnU+paMbYrm2XKmVoEDuc5Vi66StUKOjj2Ccc3W+fABmqQjCCA4UiNEAN/r o2FM65r9OnVjfUroDgyWDvZucUdL3tW4qGEso1F9EDNWg1sK6xzJFIBfk X-Gm-Gg: ASbGncsXRdqViV/31HyCpjQ18duMQKoRx42AjimqqvfWifzexZAW7qOI8Rvv4uMFAVc 9/JWzK3Cq3LH5jfoJeitdENGq4U3miI3CnvFUpjgxffmD0UjZ4agLrlIln82wdEKVRlgdMhj2wV yw9s0Be01Avjf6u4SWGKkkiH7ydqxev+vhWqgdLzC8m4zYP8gm3tgLhvpviAhoV8iGeTjxd7ztJ H/tmqYzbZvLKyFgKbv2CFQ2FU+99cL5Gq5V8vmnZpbIHByDlEK0iaJbEgcnnT73ev2yquakq6wl gD8flU5dfXrV48jaO91v7aIsURCILWCGCiKsshUzkf3+v2Os X-Google-Smtp-Source: AGHT+IFx/8GdO4RyOJNdLkyTqU9Y2wiQUPICrUMSx6LVw6bCs58POSHGCcVQFIFpPaOkRAlgca7L5SWFmbhb X-Received: by 2002:a05:690c:6c0d:b0:702:d54:5794 with SMTP id 00721157ae682-7054c8d4fafmr5458767b3.31.1744246103724; Wed, 09 Apr 2025 17:48:23 -0700 (PDT) Received: from postal.iol.unh.edu (postal.iol.unh.edu. [2606:4100:3880:1234::84]) by smtp-relay.gmail.com with ESMTPS id 00721157ae682-7053e1440ddsm1580997b3.29.2025.04.09.17.48.23 (version=TLS1_2 cipher=ECDHE-ECDSA-AES128-GCM-SHA256 bits=128/128); Wed, 09 Apr 2025 17:48:23 -0700 (PDT) X-Relaying-Domain: iol.unh.edu Date: Wed, 09 Apr 2025 17:48:23 -0700 (PDT) Message-ID: <67f71557.050a0220.11117d.4f67SMTPIN_ADDED_MISSING@mx.google.com> Received: from [172.17.0.3] (unknown [172.18.0.217]) by postal.iol.unh.edu (Postfix) with ESMTP id 4495C6052471; Wed, 9 Apr 2025 20:48:23 -0400 (EDT) Subject: |SUCCESS| pw152855-152856 [PATCH] [v5,2/2] node: use node mbuf dynfi From: dpdklab@iol.unh.edu To: Test Report Cc: dpdk-test-reports@iol.unh.edu In-Reply-To: <20250409135554.2180390-3-nsaxena@marvell.com> References: <20250409135554.2180390-3-nsaxena@marvell.com> Content-Type: text/plain X-BeenThere: test-report@dpdk.org X-Mailman-Version: 2.1.29 Precedence: list List-Id: automatic DPDK test reports List-Unsubscribe: , List-Archive: List-Post: List-Help: List-Subscribe: , Errors-To: test-report-bounces@dpdk.org Test-Label: iol-unit-amd64-testing Test-Status: SUCCESS http://dpdk.org/patch/152856 _Testing PASS_ Submitter: Nitin Saxena Date: Wednesday, April 09 2025 13:55:53 DPDK git baseline: Repo:dpdk Branch: master CommitID:8ee74a69abcf48563f05adeafecd298bb03477a8 152855-152856 --> testing pass Upstream job id: Generic-VM-Unit-Test-DPDK#27901 Test environment and result as below: +---------------------+----------------+ | Environment | dpdk_unit_test | +=====================+================+ | Fedora 40 | PASS | +---------------------+----------------+ | Fedora 40 (Clang) | PASS | +---------------------+----------------+ | CentOS Stream 9 | PASS | +---------------------+----------------+ | Debian 12 | PASS | +---------------------+----------------+ | CentOS Stream 10 | PASS | +---------------------+----------------+ | Fedora 41 (Clang) | PASS | +---------------------+----------------+ | RHEL8 | PASS | +---------------------+----------------+ | RHEL9 | PASS | +---------------------+----------------+ | Fedora 41 | PASS | +---------------------+----------------+ | Ubuntu 22.04 | PASS | +---------------------+----------------+ | Ubuntu 20.04 | PASS | +---------------------+----------------+ | Ubuntu 24.04 | PASS | +---------------------+----------------+ | Windows Server 2022 | PASS | +---------------------+----------------+ Fedora 40 Kernel: Depends on container host Compiler: gcc 14.2.1 20240912 (Red Hat 14.2.1-3) Fedora 40 (Clang) Kernel: Depends on container host Compiler: clang 18.1.8 (Fedora 18.1.8-1.fc40) CentOS Stream 9 Kernel: Depends on container host Compiler: gcc 11.5.0 20240719 (Red Hat 11.5.0-2) Debian 12 Kernel: Depends on container host Compiler: gcc (Debian 12.2.0-14) 12.2.0 CentOS Stream 10 Kernel: Depends on container host Compiler: gcc 14.2.1 20241104 (Red Hat 14.2.1-6) Fedora 41 (Clang) Kernel: Depends on container host Compiler: clang 19.1.5 (Fedora 19.1.5-1.fc41) RHEL8 Kernel: Depends on container host Compiler: gcc 8.5.0 20210514 (Red Hat 8.5.0-22) RHEL9 Kernel: Depends on container host Compiler: gcc 11.5.0 20240719 (Red Hat 11.5.0-2) Fedora 41 Kernel: Depends on container host Compiler: gcc 14.2.1 20240912 (Red Hat 14.2.1-3) Ubuntu 22.04 Kernel: Depends on container host Compiler: gcc (Ubuntu 11.4.0-1ubuntu1~22.04) 11.4.0 Ubuntu 20.04 Kernel: Depends on container host Compiler: gcc (Ubuntu 9.4.0-1ubuntu1~20.04.2) 9.4.0 Ubuntu 24.04 Kernel: Depends on container host Compiler: gcc (Ubuntu 13.3.0-6ubuntu2~24.04) 13.3.0 Windows Server 2022 Kernel: 10.0.20348.2031 Compiler: clang 15.0.7, gcc 14.1.0 (MinGW), and MSVC VS 19.39.33521 To view detailed results, visit: https://lab.dpdk.org/results/dashboard/patchsets/32982/ UNH-IOL DPDK Community Lab To manage your email subscriptions, visit: https://lab.dpdk.org/results/dashboard/preferences/subscriptions/