From mboxrd@z Thu Jan 1 00:00:00 1970 Return-Path: Received: from mails.dpdk.org (mails.dpdk.org [217.70.189.124]) by inbox.dpdk.org (Postfix) with ESMTP id 4C2A446549 for ; Thu, 10 Apr 2025 02:51:29 +0200 (CEST) Received: from mails.dpdk.org (localhost [127.0.0.1]) by mails.dpdk.org (Postfix) with ESMTP id 5B6E8402E1; Thu, 10 Apr 2025 02:51:28 +0200 (CEST) Received: from mail-oa1-f100.google.com (mail-oa1-f100.google.com [209.85.160.100]) by mails.dpdk.org (Postfix) with ESMTP id 6378C40288 for ; Thu, 10 Apr 2025 02:51:26 +0200 (CEST) Received: by mail-oa1-f100.google.com with SMTP id 586e51a60fabf-2c77a5747e0so120946fac.2 for ; Wed, 09 Apr 2025 17:51:26 -0700 (PDT) DKIM-Signature: v=1; a=rsa-sha256; c=relaxed/relaxed; d=iol.unh.edu; s=unh-iol; t=1744246285; x=1744851085; darn=dpdk.org; h=references:in-reply-to:cc:to:from:subject:message-id:date:from:to :cc:subject:date:message-id:reply-to; bh=q31NFf8crCmEPE6uxIfdlqa5NMsMpldyUJUINQE+9lc=; b=eiK6y/gA1qQuAb0mokPzqgy9wAS26iV2zEj/9tdPI3e6bVpSXKVX3fG22Jn/RYPVRk ACWH6eTXn8719ura3WsdKrHXUzZBf9e4YbyA+WRJD1IUcKCGzFAu59/ABplwp7vb5Rmu /VOk+ZfvGQIFXzMAuiC+bi4gTtzZvn1UqVakY= X-Google-DKIM-Signature: v=1; a=rsa-sha256; c=relaxed/relaxed; d=1e100.net; s=20230601; t=1744246285; x=1744851085; h=references:in-reply-to:cc:to:from:subject:message-id:date :x-gm-message-state:from:to:cc:subject:date:message-id:reply-to; bh=q31NFf8crCmEPE6uxIfdlqa5NMsMpldyUJUINQE+9lc=; b=n0/Obot0xUGwheEen3Z0z+2W2rLq6xYlQe/COKOAXOBervOgLyqlwmz0BCKwyeBwpI RAZ6C1XtN+tgit5QgiLfwmGXwhKH3lfYdp4hvssghN59QDB4Ej8lwxXx6TwtyWxgaBmc 41PqZo4OVDuqmmsZHRkbIdl1zkWU2i4hxGic2qExIRbGF2fC6Y1pUztzlA3+Mo2pgZ6B sqMA4f2z3atc+TIsLx8d5Mr/bUvVBTacGrIAq5QNdbp1dWPyVwWi0MkMLbMqhfCXdLeB 2TqDw8GaSHy/7rcY39UEmJVrbx58x4oLSTf9Pj+PMvbmY96aNh/jJmn5nIdGmWZXtyOk jU2Q== X-Gm-Message-State: AOJu0YzlP49hBvdPDgfVQn3d5yXFLEeFhb4KCUGQdY8vzfwyGoLrAKfb DsG8NKZCZSdBVR5EV08a/ngfa4Jpcx3UdBzVmZx9c5WJwvKq5JnmPvYGNbeJ/TOvH+6gkq5xPc7 Sia/pxd5iI26VDpuk5FvF5cGw/v2kCeKfJ9Oz5nTI X-Gm-Gg: ASbGncs54sD8w9x7sUBmnblTrzkBXrcZsosRM+y7yLLrJYAN3tIqzASx1AzUQ8hZmnf lG8k+qv4A9Dif3QiKl7NTW9EY4SBDiu6WCsYj7RqzVOStixZe75cJCV01IzYlaZ5FH4dKh03boL SJuuHAuIi/IDvU2IUSAGwfsEiHtNQzawOX5FoQBgLYxj/0IrmZA7mbmnp5XfUYrii3h8A+8MWrF /Bvw2olE8+3bVHvrDXP8wiJTILdDSuGJobnEsJkHwPqCAlOrplmWnr/MP/WXZNR7I0n20Y9yTV2 GBdAsaoM3veffS0RDI0/II6Ad5znvSREpbjH X-Google-Smtp-Source: AGHT+IEw/broszH+DnGY39RyUILk4JojdH2AAiv09Z0PzHIJeroyzbWXweHdebmZvSVan+p6BJjoAgtlyzY7 X-Received: by 2002:a05:6870:9c8b:b0:29e:4340:b1b with SMTP id 586e51a60fabf-2d0b3604c4emr472004fac.9.1744246285179; Wed, 09 Apr 2025 17:51:25 -0700 (PDT) Received: from postal.iol.unh.edu (postal.iol.unh.edu. [132.177.123.84]) by smtp-relay.gmail.com with ESMTPS id 586e51a60fabf-2d096cd1730sm183775fac.30.2025.04.09.17.51.25 (version=TLS1_2 cipher=ECDHE-ECDSA-AES128-GCM-SHA256 bits=128/128); Wed, 09 Apr 2025 17:51:25 -0700 (PDT) X-Relaying-Domain: iol.unh.edu Date: Wed, 09 Apr 2025 17:51:25 -0700 (PDT) Message-ID: <67f7160d.050a0220.1d1f2.5c77SMTPIN_ADDED_MISSING@mx.google.com> Received: from [172.17.0.5] (unknown [172.18.0.217]) by postal.iol.unh.edu (Postfix) with ESMTP id 8BCE96052471; Wed, 9 Apr 2025 20:51:24 -0400 (EDT) Subject: |SUCCESS| pw152855-152856 [PATCH] [v5,2/2] node: use node mbuf dynfi From: dpdklab@iol.unh.edu To: Test Report Cc: dpdk-test-reports@iol.unh.edu In-Reply-To: <20250409135554.2180390-3-nsaxena@marvell.com> References: <20250409135554.2180390-3-nsaxena@marvell.com> Content-Type: text/plain X-BeenThere: test-report@dpdk.org X-Mailman-Version: 2.1.29 Precedence: list List-Id: automatic DPDK test reports List-Unsubscribe: , List-Archive: List-Post: List-Help: List-Subscribe: , Errors-To: test-report-bounces@dpdk.org Test-Label: iol-unit-arm64-testing Test-Status: SUCCESS http://dpdk.org/patch/152856 _Testing PASS_ Submitter: Nitin Saxena Date: Wednesday, April 09 2025 13:55:53 DPDK git baseline: Repo:dpdk Branch: master CommitID:8ee74a69abcf48563f05adeafecd298bb03477a8 152855-152856 --> testing pass Upstream job id: Generic-Unit-Test-DPDK#330090 Test environment and result as below: +-----------------------------+----------------+--------------+------------------------------+---------------------------+ | Environment | dpdk_unit_test | lpm_autotest | cryptodev_sw_snow3g_autotest | cryptodev_sw_zuc_autotest | +=============================+================+==============+==============================+===========================+ | 32-bit Ubuntu 22.04.4 (ARM) | PASS | SKIPPED | SKIPPED | SKIPPED | +-----------------------------+----------------+--------------+------------------------------+---------------------------+ | CentOS Stream 9 (ARM) | PASS | SKIPPED | SKIPPED | SKIPPED | +-----------------------------+----------------+--------------+------------------------------+---------------------------+ | Debian 12 (arm) | PASS | SKIPPED | PASS | PASS | +-----------------------------+----------------+--------------+------------------------------+---------------------------+ | CentOS Stream 10 (ARM) | PASS | SKIPPED | SKIPPED | SKIPPED | +-----------------------------+----------------+--------------+------------------------------+---------------------------+ | Fedora 40 (ARM Clang) | PASS | SKIPPED | SKIPPED | SKIPPED | +-----------------------------+----------------+--------------+------------------------------+---------------------------+ | Fedora 40 (ARM) | PASS | SKIPPED | SKIPPED | SKIPPED | +-----------------------------+----------------+--------------+------------------------------+---------------------------+ | Fedora 41 (ARM) | PASS | SKIPPED | SKIPPED | SKIPPED | +-----------------------------+----------------+--------------+------------------------------+---------------------------+ | Ubuntu 20.04 (ARM) | PASS | SKIPPED | SKIPPED | SKIPPED | +-----------------------------+----------------+--------------+------------------------------+---------------------------+ | Fedora 41 (ARM Clang) | PASS | SKIPPED | SKIPPED | SKIPPED | +-----------------------------+----------------+--------------+------------------------------+---------------------------+ | RHEL9 (ARM) | PASS | SKIPPED | SKIPPED | SKIPPED | +-----------------------------+----------------+--------------+------------------------------+---------------------------+ | Ubuntu 22.04 (ARM) | PASS | SKIPPED | SKIPPED | SKIPPED | +-----------------------------+----------------+--------------+------------------------------+---------------------------+ | Ubuntu 24.04 (ARM) | PASS | SKIPPED | SKIPPED | SKIPPED | +-----------------------------+----------------+--------------+------------------------------+---------------------------+ | Ubuntu 20.04 ARM SVE | SKIPPED | PASS | SKIPPED | SKIPPED | +-----------------------------+----------------+--------------+------------------------------+---------------------------+ 32-bit Ubuntu 22.04.4 (ARM) Kernel: 5.15.83+ aarch64 Compiler: gcc (Ubuntu 11.4.0-1ubuntu1~22.04) 11.4.0 CentOS Stream 9 (ARM) Kernel: Depends on container host Compiler: gcc 11.5.0 20240719 (Red Hat 11.5.0-2) Debian 12 (arm) Kernel: Depends on container host Compiler: gcc (Debian 12.2.0-14) 12.2.0 CentOS Stream 10 (ARM) Kernel: Depends on container host Compiler: gcc 14.2.1 20241104 (Red Hat 14.2.1-6) Fedora 40 (ARM Clang) Kernel: Depends on container host Compiler: clang 18.1.8 (Fedora 18.1.8-1.fc40) Fedora 40 (ARM) Kernel: Depends on container host Compiler: gcc 14.2.1 20240912 (Red Hat 14.2.1-3) Fedora 41 (ARM) Kernel: Depends on container host Compiler: gcc 14.2.1 20240912 (Red Hat 14.2.1-3) Ubuntu 20.04 (ARM) Kernel: Depends on container host Compiler: gcc (Ubuntu 9.4.0-1ubuntu1~20.04.2) 9.4.0 Fedora 41 (ARM Clang) Kernel: Depends on container host Compiler: clang 19.1.5 (Fedora 19.1.5-1.fc41) RHEL9 (ARM) Kernel: Depends on container host Compiler: gcc 11.5.0 20240719 (Red Hat 11.5.0-2) Ubuntu 22.04 (ARM) Kernel: Depends on container host Compiler: gcc (Ubuntu 11.4.0-1ubuntu1~22.04) 11.4.0 Ubuntu 24.04 (ARM) Kernel: Depends on container host Compiler: gcc (Ubuntu 13.3.0-6ubuntu2~24.04) 13.3.0 Ubuntu 20.04 ARM SVE Kernel: Depends on container host Compiler: gcc (Ubuntu 10.5.0-1ubuntu1~20.04) 10.5.0 To view detailed results, visit: https://lab.dpdk.org/results/dashboard/patchsets/32982/ UNH-IOL DPDK Community Lab To manage your email subscriptions, visit: https://lab.dpdk.org/results/dashboard/preferences/subscriptions/