From mboxrd@z Thu Jan 1 00:00:00 1970 Return-Path: Received: from mails.dpdk.org (mails.dpdk.org [217.70.189.124]) by inbox.dpdk.org (Postfix) with ESMTP id 48F4C46549 for ; Thu, 10 Apr 2025 02:59:16 +0200 (CEST) Received: from mails.dpdk.org (localhost [127.0.0.1]) by mails.dpdk.org (Postfix) with ESMTP id 20D68402E1; Thu, 10 Apr 2025 02:59:16 +0200 (CEST) Received: from mail-yw1-f228.google.com (mail-yw1-f228.google.com [209.85.128.228]) by mails.dpdk.org (Postfix) with ESMTP id 5538840288 for ; Thu, 10 Apr 2025 02:59:14 +0200 (CEST) Received: by mail-yw1-f228.google.com with SMTP id 00721157ae682-6febbd3b75cso2887567b3.0 for ; Wed, 09 Apr 2025 17:59:14 -0700 (PDT) DKIM-Signature: v=1; a=rsa-sha256; c=relaxed/relaxed; d=iol.unh.edu; s=unh-iol; t=1744246753; x=1744851553; darn=dpdk.org; h=references:in-reply-to:cc:to:from:subject:message-id:date:from:to :cc:subject:date:message-id:reply-to; bh=xt0oP2UsfUjFXSkBuejk9ikWzGnqK5WlqZOpZQBZ8aQ=; b=Xddw96TDMx5KLNh45jC1CxD+R1R/M298XpZ55pAo5v/CG8kgTbMwlSLDaUBnOIc0U9 13aAhtpo9C8dYGee9J/lzAlK3DCQdPSNDFL5dJ9m163ycOSbOPziR8B3ItZsGKXlYeSd ciy9yfy5t+pHYv4CWGNleGNtwt2doQIN9dlL4= X-Google-DKIM-Signature: v=1; a=rsa-sha256; c=relaxed/relaxed; d=1e100.net; s=20230601; t=1744246753; x=1744851553; h=references:in-reply-to:cc:to:from:subject:message-id:date :x-gm-message-state:from:to:cc:subject:date:message-id:reply-to; bh=xt0oP2UsfUjFXSkBuejk9ikWzGnqK5WlqZOpZQBZ8aQ=; b=lYnzh6C//JaJY4mORsKxIqbXwyczkN7SXY876AkuHCf+H886f7HI6kceAHH8xQaM7s 3TfNlRZYos/fgM58qFqC/G/dZyGNC9F8DCzCHV7fF9jya5cyKLmw/NOWebtwFv0mu1kB O8ZdtSoelw3ig7iFX5hs2qRQhWh0jnwam3BipNMNwWUVUR0Oz6BbF3o8lPOd1N1oHLSe irRAwUD2e8ZPFWmKKOHkEMKf7Ar7w3C3C7gRPj0ic8lSapxpuGitCsLDBB2El9ASeknh idO+vGPhL4W9XrqmHV7689jvajUJ1d7I0E/CW7Rjn9XMftKLVGW2VSV8oksC1vTlzWqK hG1g== X-Gm-Message-State: AOJu0Yxi+PV4Q+Xqj3zt6dT+wVuvR9pLDo/buKn1BHuhAJ7aRil5PoIA nIsDKpuqlCJAXmmQo/e5ogyhOleF4DmDQmnRJcLxBcLE5jj+k3p5o5lL0rUO6i30QrTWzTed7Sn pMuL+fUavGZiVOCMakT2GCYFSQ+5xGsWCRUm75JDq X-Gm-Gg: ASbGncvmrVSWVKdAixEPIsFyAmQs+Z8+hrFkiPOPeFLxGBEz9NKtO+Ayl+41B3PgdEi f9PhHDVdtKuT4vKkHXmheszO3ojNC0qBEE+V2J3UT8RNDRcaKV8e+RmLSXjB5z9P/LRo8NcdbjB Di0/Mwa+jnuB74HIt8UkpQNcVmlXVf5gb8Ai8QCLor+zyK4CR2DJLdDGklTeMvXShH0u2HpZQSr RXQkhBxtw4BwrrldN+vZAH/r6dD9N8cfymDbNGInDqTbiL3o/T+YC9fT6iVi9jZaIo1ZuWsEHlS kMzEPoOzMsMI9ShKm6OGu14jo85U5xjns5cI X-Google-Smtp-Source: AGHT+IGKzLFKslc5ISu4KI3uOPWvvxCvIyGrIceozWaGQYknqCBrSpJ+qk3Q0t+Br+ZTPE+9TTxfRwyKDDrD X-Received: by 2002:a05:690c:4903:b0:6fd:459f:dfa7 with SMTP id 00721157ae682-7054a1836b8mr13727857b3.36.1744246753536; Wed, 09 Apr 2025 17:59:13 -0700 (PDT) Received: from postal.iol.unh.edu (postal.iol.unh.edu. [132.177.123.84]) by smtp-relay.gmail.com with ESMTPS id 00721157ae682-7053e34f258sm1601767b3.45.2025.04.09.17.59.13 (version=TLS1_2 cipher=ECDHE-ECDSA-AES128-GCM-SHA256 bits=128/128); Wed, 09 Apr 2025 17:59:13 -0700 (PDT) X-Relaying-Domain: iol.unh.edu Date: Wed, 09 Apr 2025 17:59:13 -0700 (PDT) Message-ID: <67f717e1.050a0220.18ee9d.569cSMTPIN_ADDED_MISSING@mx.google.com> Received: from [172.21.0.6] (unknown [172.18.0.240]) by postal.iol.unh.edu (Postfix) with ESMTP id 325B36052471; Wed, 9 Apr 2025 20:59:13 -0400 (EDT) Subject: |SUCCESS| pw152855-152856 [PATCH] [v5,2/2] node: use node mbuf dynfi From: dpdklab@iol.unh.edu To: Test Report Cc: dpdk-test-reports@iol.unh.edu In-Reply-To: <20250409135554.2180390-3-nsaxena@marvell.com> References: <20250409135554.2180390-3-nsaxena@marvell.com> Content-Type: text/plain X-BeenThere: test-report@dpdk.org X-Mailman-Version: 2.1.29 Precedence: list List-Id: automatic DPDK test reports List-Unsubscribe: , List-Archive: List-Post: List-Help: List-Subscribe: , Errors-To: test-report-bounces@dpdk.org Test-Label: iol-abi-testing Test-Status: SUCCESS http://dpdk.org/patch/152856 _Testing PASS_ Submitter: Nitin Saxena Date: Wednesday, April 09 2025 13:55:53 DPDK git baseline: Repo:dpdk Branch: master CommitID:8ee74a69abcf48563f05adeafecd298bb03477a8 152855-152856 --> testing pass Upstream job id: Generic-DPDK-Compile-ABI#122899 Test environment and result as below: +-------------------+----------+ | Environment | abi_test | +===================+==========+ | CentOS Stream 9 | PASS | +-------------------+----------+ | CentOS Stream 10 | PASS | +-------------------+----------+ | Fedora 41 | PASS | +-------------------+----------+ | Fedora 41 (Clang) | PASS | +-------------------+----------+ | Fedora 40 (Clang) | PASS | +-------------------+----------+ | Debian 12 | PASS | +-------------------+----------+ | Fedora 40 | PASS | +-------------------+----------+ | openSUSE Leap 15 | PASS | +-------------------+----------+ | Ubuntu 22.04 | PASS | +-------------------+----------+ | Ubuntu 24.04 | PASS | +-------------------+----------+ | RHEL8 | PASS | +-------------------+----------+ | RHEL9 | PASS | +-------------------+----------+ CentOS Stream 9 Kernel: Depends on container host Compiler: gcc 11.5.0 20240719 (Red Hat 11.5.0-2) CentOS Stream 10 Kernel: Depends on container host Compiler: gcc 14.2.1 20241104 (Red Hat 14.2.1-6) Fedora 41 Kernel: Depends on container host Compiler: gcc 14.2.1 20240912 (Red Hat 14.2.1-3) Fedora 41 (Clang) Kernel: Depends on container host Compiler: clang 19.1.5 (Fedora 19.1.5-1.fc41) Fedora 40 (Clang) Kernel: Depends on container host Compiler: clang 18.1.8 (Fedora 18.1.8-1.fc40) Debian 12 Kernel: Depends on container host Compiler: gcc (Debian 12.2.0-14) 12.2.0 Fedora 40 Kernel: Depends on container host Compiler: gcc 14.2.1 20240912 (Red Hat 14.2.1-3) openSUSE Leap 15 Kernel: Depends on container host Compiler: gcc (SUSE Linux) 7.5.0 Ubuntu 22.04 Kernel: Depends on container host Compiler: gcc (Ubuntu 11.4.0-1ubuntu1~22.04) 11.4.0 Ubuntu 24.04 Kernel: Depends on container host Compiler: gcc (Ubuntu 13.3.0-6ubuntu2~24.04) 13.3.0 RHEL8 Kernel: Depends on container host Compiler: gcc 8.5.0 20210514 (Red Hat 8.5.0-22) RHEL9 Kernel: Depends on container host Compiler: gcc 11.5.0 20240719 (Red Hat 11.5.0-2) To view detailed results, visit: https://lab.dpdk.org/results/dashboard/patchsets/32982/ UNH-IOL DPDK Community Lab To manage your email subscriptions, visit: https://lab.dpdk.org/results/dashboard/preferences/subscriptions/