From mboxrd@z Thu Jan 1 00:00:00 1970 Return-Path: Received: from mails.dpdk.org (mails.dpdk.org [217.70.189.124]) by inbox.dpdk.org (Postfix) with ESMTP id 4540A46549 for ; Thu, 10 Apr 2025 02:59:39 +0200 (CEST) Received: from mails.dpdk.org (localhost [127.0.0.1]) by mails.dpdk.org (Postfix) with ESMTP id 3F675402E1; Thu, 10 Apr 2025 02:59:39 +0200 (CEST) Received: from mail-yb1-f227.google.com (mail-yb1-f227.google.com [209.85.219.227]) by mails.dpdk.org (Postfix) with ESMTP id 8D5F540288 for ; Thu, 10 Apr 2025 02:59:37 +0200 (CEST) Received: by mail-yb1-f227.google.com with SMTP id 3f1490d57ef6-e6e09fb66c7so221184276.2 for ; Wed, 09 Apr 2025 17:59:37 -0700 (PDT) DKIM-Signature: v=1; a=rsa-sha256; c=relaxed/relaxed; d=iol.unh.edu; s=unh-iol; t=1744246777; x=1744851577; darn=dpdk.org; h=references:in-reply-to:cc:to:from:subject:message-id:date:from:to :cc:subject:date:message-id:reply-to; bh=AxSWD+cAtF2d4Tni57kaSHdcpDveeq4Bzj2YYkC7U1E=; b=gF1dApfOySDZ603wXujAon9KSGcB/50HeYAfp+Nur2tc4p4Jwn2tmqU21l4qukfF3T +Ca//w7D4HSAW/NkujLZh9JuVLVgXgxWXlupnA2Wyy7Yh4aZresSJUlMLoP15ysnGBv2 rKn7q7LQBMBo11kCAgSiU5SnkHzqgR/5MxZz0= X-Google-DKIM-Signature: v=1; a=rsa-sha256; c=relaxed/relaxed; d=1e100.net; s=20230601; t=1744246777; x=1744851577; h=references:in-reply-to:cc:to:from:subject:message-id:date :x-gm-message-state:from:to:cc:subject:date:message-id:reply-to; bh=AxSWD+cAtF2d4Tni57kaSHdcpDveeq4Bzj2YYkC7U1E=; b=pfUXmnGXdWRyq49EFcJjHQl1d1kquDWTLRxtWxxnCkVT/Gz46lqvukPfe02ZpD8yY4 wCyttbVwTHb2HCaFS9o15TeaoiarTkIuc5kItEyJSh2wEOXW0T1P56cT8WsO2Eqrl7Ky K0Ng/mm98VD7CQSzR7itEzEGrFgWHcRMOZKTM0cMFwxHergb/auhCsyCwjn6JoXwS5LB 5G4As8WQtwE8VjwtB49+Nkpz9GvbE8BfdMpZj+iaDjVtp8ZNSX3jRustthdccCdze5cR 1Cu827xA+eKUE532pE/Qcy1IqIqupuW1ym08GXo6Y/xzw9bW2k5xp5hca3nEAb6HhIwT kb4w== X-Gm-Message-State: AOJu0YxV23BjPl63BaBx2EKvrxJW2AY7ej4zBNKwzAbGeVG8gN7msjQ6 /QptQ/gzH6fo8o5fWWOWe7XZj7fUgwUxh9MnNSHUMctpdL2LEiHPHgTNBr+qEk79VzMWUKVx9U9 3z5FkiuqZcR5Wgku5aeUD3itZNZCj9k4cg3QRGqLtFSFzJwa23oRD3ezH X-Gm-Gg: ASbGncvVSlzPAx3XSqeBLs0/ydQe7QDSkv05j1ygPM+K9lMQdTy2b8gpXBG5z7nl51F Q/WUUdz83+P3T4qRgAnasmb3UwIrt/CvVLjuJ0Qh9zj0MVQVZYM8hSYPOPTfibM1B+xhCNEIQ1K JRtHEHDY8EecKlDH8InPRglCTs7h73SuQySGaaDtrALuZQlPSQEi8Wkn7yFOwfQvzWvDQy1VIA8 xKDPGTSBzDLeJMqLKfRt8DuTDl5ilWbGj7zo1OG2hDfnHK01lpkWZ/3YX22TSCBW5j52uP4Sy6k Ys70AKg+ws4xt/nnpL7GfGxSMcrNZRC2fLO4/mrUPMOsBCtt X-Google-Smtp-Source: AGHT+IFFm0OR8j/PoqUC08kHKOlUQOk+hN2oAGSg6n/E1GrM5ZNjo0Izpukz70Mvy5pwnYs99atLIx43i/qB X-Received: by 2002:a05:6902:478d:b0:e61:1339:31b with SMTP id 3f1490d57ef6-e703e1d0eb4mr1746191276.31.1744246776970; Wed, 09 Apr 2025 17:59:36 -0700 (PDT) Received: from postal.iol.unh.edu (postal.iol.unh.edu. [2606:4100:3880:1234::84]) by smtp-relay.gmail.com with ESMTPS id 3f1490d57ef6-e7032478e64sm198074276.13.2025.04.09.17.59.36 (version=TLS1_2 cipher=ECDHE-ECDSA-AES128-GCM-SHA256 bits=128/128); Wed, 09 Apr 2025 17:59:36 -0700 (PDT) X-Relaying-Domain: iol.unh.edu Date: Wed, 09 Apr 2025 17:59:36 -0700 (PDT) Message-ID: <67f717f8.250a0220.317bbe.7460SMTPIN_ADDED_MISSING@mx.google.com> Received: from [172.21.0.5] (unknown [172.18.0.240]) by postal.iol.unh.edu (Postfix) with ESMTP id 8E36C6052471; Wed, 9 Apr 2025 20:59:36 -0400 (EDT) Subject: |SUCCESS| pw152855-152856 [PATCH] [v5,2/2] node: use node mbuf dynfi From: dpdklab@iol.unh.edu To: Test Report Cc: dpdk-test-reports@iol.unh.edu In-Reply-To: <20250409135554.2180390-3-nsaxena@marvell.com> References: <20250409135554.2180390-3-nsaxena@marvell.com> Content-Type: text/plain X-BeenThere: test-report@dpdk.org X-Mailman-Version: 2.1.29 Precedence: list List-Id: automatic DPDK test reports List-Unsubscribe: , List-Archive: List-Post: List-Help: List-Subscribe: , Errors-To: test-report-bounces@dpdk.org Test-Label: iol-abi-testing Test-Status: SUCCESS http://dpdk.org/patch/152856 _Testing PASS_ Submitter: Nitin Saxena Date: Wednesday, April 09 2025 13:55:53 DPDK git baseline: Repo:dpdk Branch: master CommitID:8ee74a69abcf48563f05adeafecd298bb03477a8 152855-152856 --> testing pass Upstream job id: Generic-DPDK-Compile-ABI#122902 Test environment and result as below: +-------------------+----------+ | Environment | abi_test | +===================+==========+ | CentOS Stream 9 | PASS | +-------------------+----------+ | CentOS Stream 10 | PASS | +-------------------+----------+ | Fedora 41 | PASS | +-------------------+----------+ | Fedora 41 (Clang) | PASS | +-------------------+----------+ | Fedora 40 (Clang) | PASS | +-------------------+----------+ | Debian 12 | PASS | +-------------------+----------+ | Fedora 40 | PASS | +-------------------+----------+ | openSUSE Leap 15 | PASS | +-------------------+----------+ | Ubuntu 22.04 | PASS | +-------------------+----------+ | Ubuntu 24.04 | PASS | +-------------------+----------+ | RHEL8 | PASS | +-------------------+----------+ | RHEL9 | PASS | +-------------------+----------+ CentOS Stream 9 Kernel: Depends on container host Compiler: gcc 11.5.0 20240719 (Red Hat 11.5.0-2) CentOS Stream 10 Kernel: Depends on container host Compiler: gcc 14.2.1 20241104 (Red Hat 14.2.1-6) Fedora 41 Kernel: Depends on container host Compiler: gcc 14.2.1 20240912 (Red Hat 14.2.1-3) Fedora 41 (Clang) Kernel: Depends on container host Compiler: clang 19.1.5 (Fedora 19.1.5-1.fc41) Fedora 40 (Clang) Kernel: Depends on container host Compiler: clang 18.1.8 (Fedora 18.1.8-1.fc40) Debian 12 Kernel: Depends on container host Compiler: gcc (Debian 12.2.0-14) 12.2.0 Fedora 40 Kernel: Depends on container host Compiler: gcc 14.2.1 20240912 (Red Hat 14.2.1-3) openSUSE Leap 15 Kernel: Depends on container host Compiler: gcc (SUSE Linux) 7.5.0 Ubuntu 22.04 Kernel: Depends on container host Compiler: gcc (Ubuntu 11.4.0-1ubuntu1~22.04) 11.4.0 Ubuntu 24.04 Kernel: Depends on container host Compiler: gcc (Ubuntu 13.3.0-6ubuntu2~24.04) 13.3.0 RHEL8 Kernel: Depends on container host Compiler: gcc 8.5.0 20210514 (Red Hat 8.5.0-22) RHEL9 Kernel: Depends on container host Compiler: gcc 11.5.0 20240719 (Red Hat 11.5.0-2) To view detailed results, visit: https://lab.dpdk.org/results/dashboard/patchsets/32982/ UNH-IOL DPDK Community Lab To manage your email subscriptions, visit: https://lab.dpdk.org/results/dashboard/preferences/subscriptions/