From mboxrd@z Thu Jan 1 00:00:00 1970 Return-Path: Received: from mails.dpdk.org (mails.dpdk.org [217.70.189.124]) by inbox.dpdk.org (Postfix) with ESMTP id 7520646549 for ; Thu, 10 Apr 2025 03:00:47 +0200 (CEST) Received: from mails.dpdk.org (localhost [127.0.0.1]) by mails.dpdk.org (Postfix) with ESMTP id 70372402E1; Thu, 10 Apr 2025 03:00:47 +0200 (CEST) Received: from mail-pl1-f227.google.com (mail-pl1-f227.google.com [209.85.214.227]) by mails.dpdk.org (Postfix) with ESMTP id 3E9BA40288 for ; Thu, 10 Apr 2025 03:00:46 +0200 (CEST) Received: by mail-pl1-f227.google.com with SMTP id d9443c01a7336-22409077c06so3468225ad.1 for ; Wed, 09 Apr 2025 18:00:46 -0700 (PDT) DKIM-Signature: v=1; a=rsa-sha256; c=relaxed/relaxed; d=iol.unh.edu; s=unh-iol; t=1744246845; x=1744851645; darn=dpdk.org; h=references:in-reply-to:cc:to:from:subject:message-id:date:from:to :cc:subject:date:message-id:reply-to; bh=2sOiooNzARAR4INO2s4GRULMO5M/a+nDFR2qzzEsI+E=; b=DcbdTqRVA48EQD3Q2bOVxQKuCGvhF9ruquQpQ5RO2kr4n+n5HI68Bn9c5LRd/1f0no dpzFQZaML+z4TjTd7ihmy9qbMRudEpexger+dBFI2RDsSZUKDAMA860A+b7o1VENxvV0 Qi2Yv7plgDg6+PoVzcwuuznIJopYkJMjgl5dw= X-Google-DKIM-Signature: v=1; a=rsa-sha256; c=relaxed/relaxed; d=1e100.net; s=20230601; t=1744246845; x=1744851645; h=references:in-reply-to:cc:to:from:subject:message-id:date :x-gm-message-state:from:to:cc:subject:date:message-id:reply-to; bh=2sOiooNzARAR4INO2s4GRULMO5M/a+nDFR2qzzEsI+E=; b=ciovTT644sf33dt577icSoA+FCsljeWHwNtyMno+xLvzl8os2HHkbA0IJ9bGdJ8BwK fluwqKXivqmBWLT5hP+O1vNsOUF2aXG+1KCELyVOncmj+7eMy+/4UiNZCV21hfoCt6RE GVCQNfnPVRaT9S0gGtHYORODtdnaJb5zT5Iap29uvACOfinHyJb4leDiPP24xZdtfykP u1D3DoK2nDsAyYp9J+GfduOf6j/7FxXBCmh1HVHyGSlRvs0iWdM/K5aR9GKXHLYlERWT lrBY+JB/Y/v+zFoL+B9kNNIQW0ktHQZ9ocSwRoSIw78xcLMfg6UazU4TA+Dfo7qIpvhv Oqgw== X-Gm-Message-State: AOJu0YxuzcYvbKO2m2VYDJhqsEJ3TtGA32qW6eJNmAkeTTxkSI90jYw/ gFGT1BbPISxPafC0bmiVjz8BaoWZ4YXKh80lqpnGhgggx0pGgBttRo4lGDZtd/zdtP48Zt470lF jDQaFqHzLPt0/hL6mgsEM7yBV1FvdldTFMgObx5apVpFpZTeiGyUDJ545 X-Gm-Gg: ASbGncvwZa3xlj66hikECe7m6/o+HX3W1jEVyOLLC0ZgfoAhO87klimNGZqp7WiGjPR tAyj94lFtFSYu60SthQN97mxqxaILD8ktsfrGT5mBlF9LmpDUzc1RWSdIZA6TveBMJofq2q/8ot ItnM08sun7lwxFsej5gjFVbRgW+0yPASLeDO0l7XRmJ6TaPi7ilFixJ0J7hkC33pRXvPejU5tkj qLXR+NwESX8v8TFT9uRdHG7Pph9JZGE0w8Jhu86YXX4d+BrF0bj2/CnaJrrsQM/9x6mINDgf4Xe DVNsP6QKH4WCyCOag/Xm+MLeOmQ705uX07QIabz/B1sZdph6 X-Google-Smtp-Source: AGHT+IFXrsXu+aWPNI3Uz+BtQq30DCxsZFTzwqGLlhlV2Xq+N76z/DB879UcFX1CZI4izry6M3HtYJPUZU/k X-Received: by 2002:a17:902:ccc8:b0:224:13a4:d61e with SMTP id d9443c01a7336-22be03f4fddmr4472485ad.51.1744246845031; Wed, 09 Apr 2025 18:00:45 -0700 (PDT) Received: from postal.iol.unh.edu (postal.iol.unh.edu. [2606:4100:3880:1234::84]) by smtp-relay.gmail.com with ESMTPS id d9443c01a7336-22ac7c93b23sm1305525ad.85.2025.04.09.18.00.44 (version=TLS1_2 cipher=ECDHE-ECDSA-AES128-GCM-SHA256 bits=128/128); Wed, 09 Apr 2025 18:00:45 -0700 (PDT) X-Relaying-Domain: iol.unh.edu Date: Wed, 09 Apr 2025 18:00:45 -0700 (PDT) Message-ID: <67f7183d.170a0220.2d4935.5517SMTPIN_ADDED_MISSING@mx.google.com> Received: from [172.21.0.6] (unknown [172.18.0.240]) by postal.iol.unh.edu (Postfix) with ESMTP id 0B6DE6052472; Wed, 9 Apr 2025 21:00:44 -0400 (EDT) Subject: |SUCCESS| pw152855-152856 [PATCH] [v5,2/2] node: use node mbuf dynfi From: dpdklab@iol.unh.edu To: Test Report Cc: dpdk-test-reports@iol.unh.edu In-Reply-To: <20250409135554.2180390-3-nsaxena@marvell.com> References: <20250409135554.2180390-3-nsaxena@marvell.com> Content-Type: text/plain X-BeenThere: test-report@dpdk.org X-Mailman-Version: 2.1.29 Precedence: list List-Id: automatic DPDK test reports List-Unsubscribe: , List-Archive: List-Post: List-Help: List-Subscribe: , Errors-To: test-report-bounces@dpdk.org Test-Label: iol-unit-amd64-testing Test-Status: SUCCESS http://dpdk.org/patch/152856 _Testing PASS_ Submitter: Nitin Saxena Date: Wednesday, April 09 2025 13:55:53 DPDK git baseline: Repo:dpdk Branch: master CommitID:8ee74a69abcf48563f05adeafecd298bb03477a8 152855-152856 --> testing pass Upstream job id: Generic-VM-Unit-Test-DPDK#27902 Test environment and result as below: +---------------------+----------------+ | Environment | dpdk_unit_test | +=====================+================+ | Fedora 40 | PASS | +---------------------+----------------+ | Fedora 40 (Clang) | PASS | +---------------------+----------------+ | CentOS Stream 9 | PASS | +---------------------+----------------+ | Debian 12 | PASS | +---------------------+----------------+ | CentOS Stream 10 | PASS | +---------------------+----------------+ | Fedora 41 (Clang) | PASS | +---------------------+----------------+ | RHEL8 | PASS | +---------------------+----------------+ | RHEL9 | PASS | +---------------------+----------------+ | Fedora 41 | PASS | +---------------------+----------------+ | Ubuntu 22.04 | PASS | +---------------------+----------------+ | Ubuntu 20.04 | PASS | +---------------------+----------------+ | Ubuntu 24.04 | PASS | +---------------------+----------------+ | Windows Server 2022 | PASS | +---------------------+----------------+ Fedora 40 Kernel: Depends on container host Compiler: gcc 14.2.1 20240912 (Red Hat 14.2.1-3) Fedora 40 (Clang) Kernel: Depends on container host Compiler: clang 18.1.8 (Fedora 18.1.8-1.fc40) CentOS Stream 9 Kernel: Depends on container host Compiler: gcc 11.5.0 20240719 (Red Hat 11.5.0-2) Debian 12 Kernel: Depends on container host Compiler: gcc (Debian 12.2.0-14) 12.2.0 CentOS Stream 10 Kernel: Depends on container host Compiler: gcc 14.2.1 20241104 (Red Hat 14.2.1-6) Fedora 41 (Clang) Kernel: Depends on container host Compiler: clang 19.1.5 (Fedora 19.1.5-1.fc41) RHEL8 Kernel: Depends on container host Compiler: gcc 8.5.0 20210514 (Red Hat 8.5.0-22) RHEL9 Kernel: Depends on container host Compiler: gcc 11.5.0 20240719 (Red Hat 11.5.0-2) Fedora 41 Kernel: Depends on container host Compiler: gcc 14.2.1 20240912 (Red Hat 14.2.1-3) Ubuntu 22.04 Kernel: Depends on container host Compiler: gcc (Ubuntu 11.4.0-1ubuntu1~22.04) 11.4.0 Ubuntu 20.04 Kernel: Depends on container host Compiler: gcc (Ubuntu 9.4.0-1ubuntu1~20.04.2) 9.4.0 Ubuntu 24.04 Kernel: Depends on container host Compiler: gcc (Ubuntu 13.3.0-6ubuntu2~24.04) 13.3.0 Windows Server 2022 Kernel: 10.0.20348.2031 Compiler: clang 15.0.7, gcc 14.1.0 (MinGW), and MSVC VS 19.39.33521 To view detailed results, visit: https://lab.dpdk.org/results/dashboard/patchsets/32982/ UNH-IOL DPDK Community Lab To manage your email subscriptions, visit: https://lab.dpdk.org/results/dashboard/preferences/subscriptions/