From mboxrd@z Thu Jan 1 00:00:00 1970 Return-Path: Received: from mails.dpdk.org (mails.dpdk.org [217.70.189.124]) by inbox.dpdk.org (Postfix) with ESMTP id 3440A46549 for ; Thu, 10 Apr 2025 03:14:28 +0200 (CEST) Received: from mails.dpdk.org (localhost [127.0.0.1]) by mails.dpdk.org (Postfix) with ESMTP id 1754C402E1; Thu, 10 Apr 2025 03:14:28 +0200 (CEST) Received: from mail-yw1-f226.google.com (mail-yw1-f226.google.com [209.85.128.226]) by mails.dpdk.org (Postfix) with ESMTP id 6CF7F40288 for ; Thu, 10 Apr 2025 03:14:26 +0200 (CEST) Received: by mail-yw1-f226.google.com with SMTP id 00721157ae682-6ff37565154so3023947b3.3 for ; Wed, 09 Apr 2025 18:14:26 -0700 (PDT) DKIM-Signature: v=1; a=rsa-sha256; c=relaxed/relaxed; d=iol.unh.edu; s=unh-iol; t=1744247666; x=1744852466; darn=dpdk.org; h=references:in-reply-to:cc:to:from:subject:message-id:date:from:to :cc:subject:date:message-id:reply-to; bh=F5GTKFPbaQPNnDJkdd0W/ugVkjoXLpohQsZTbNjgfbA=; b=D5tKNHf4tgcnsCFCI5V8bbs6dmbQ5GzH06K7XTUpKXupLl630bHT8ICkNEyn7tyRDS tzB98Vju10Rttiy8GNhuLR13Xfvw8rfq1pgi5kvVkSCIjZ9MduDGN9WpELJn0d1mhfEY SUGMz/a2KoUY94rpf1sWtrvHEMOaAxnZhk+gQ= X-Google-DKIM-Signature: v=1; a=rsa-sha256; c=relaxed/relaxed; d=1e100.net; s=20230601; t=1744247666; x=1744852466; h=references:in-reply-to:cc:to:from:subject:message-id:date :x-gm-message-state:from:to:cc:subject:date:message-id:reply-to; bh=F5GTKFPbaQPNnDJkdd0W/ugVkjoXLpohQsZTbNjgfbA=; b=r5Xp0i5k41+Zhw75uOBHMpgK/jeDwv/99izmabvTL531LBUBxBABCQ3PxnniiOcoGn lGQxNI19/kt2+fNTx4b/YrjBnv5Ir3CfqUNJ6FiIvErtDkDUweGulDwqhkROPJF37cGJ NDnwXV3FWTMBYN/B+XrW7Cng4SpYgowMbrf3pZDA3N0NyyFrJ0Fr+8KARucHoKG+kuU+ bNOJccXrnbwx6gqQT0ySeAxQHrtJOBlybOFgmkSMsVI1KsdA25vKeb3ofDpWUiZKt+4P 6hh+592y7PQik++08aH5pKKwvk5QCY0+1e8CCAuMR3pqDMM4S03P083J3MQG/gTINk2w VXXg== X-Gm-Message-State: AOJu0YzxdEMEufzytkryyiZjCPiH4ryYmOZiO9GZx6SiFWG67fwa7reK hxm7dvY4TsPstnBfz3cJ/YOFSwW/GSFPW0J8nL0PkyWqf1fsoljVaxJUpM+/bXJM2MKbKtDlYKC IqZcQLPdEhm7NRoeeZzv1fVKwV7c91SShyHEkxC89bhC0h+KaWk59zvSK X-Gm-Gg: ASbGncuNe1CSBAP+BU2KLhvY9LYdon7RBVS1hnnhMIvHKj9x9YghB6RqmSsyR4/udVM ANxOv/7Oor7GMGb7ZqGJuMhVm6b6bHVEJ99RJDnFuVWtixZvbylQNNYJhKaEuc4NeJZaWQu9+HZ 2Ehu71b7gAs2SpTIItfqMDwBqt6YVrz8DRKo134seiBeLbWzsqY6KeTdIfdVFPSsWBWr+IZ7zos 9nNqRa+MWqWQUF9kzHhigReXpSm2OBGfNELQJJ/zR0V6zVHIzt1NlKguvjz2yzxhGAim30kqYsJ S2LJ07SEveHRCGC6dD2a8cJjwPmIDzCBr0N+ZqS6/YM6j78r X-Google-Smtp-Source: AGHT+IFIVNxy91oS+/T7puhcyddkn/ZsIbJJ6rbVZsVBanqs3y9BQTTloJ7h75j03LwusBqW4NZXyAWDPtcB X-Received: by 2002:a05:690c:48c8:b0:703:b47a:72db with SMTP id 00721157ae682-70549e9b7c0mr14912607b3.15.1744247665775; Wed, 09 Apr 2025 18:14:25 -0700 (PDT) Received: from postal.iol.unh.edu (postal.iol.unh.edu. [2606:4100:3880:1234::84]) by smtp-relay.gmail.com with ESMTPS id 00721157ae682-7053e0f393fsm1599037b3.2.2025.04.09.18.14.25 (version=TLS1_2 cipher=ECDHE-ECDSA-AES128-GCM-SHA256 bits=128/128); Wed, 09 Apr 2025 18:14:25 -0700 (PDT) X-Relaying-Domain: iol.unh.edu Date: Wed, 09 Apr 2025 18:14:25 -0700 (PDT) Message-ID: <67f71b71.050a0220.61d82.4c51SMTPIN_ADDED_MISSING@mx.google.com> Received: from [172.21.0.6] (unknown [172.18.0.240]) by postal.iol.unh.edu (Postfix) with ESMTP id 5D7D06052471; Wed, 9 Apr 2025 21:14:25 -0400 (EDT) Subject: |SUCCESS| pw152855-152856 [PATCH] [v5,2/2] node: use node mbuf dynfi From: dpdklab@iol.unh.edu To: Test Report Cc: dpdk-test-reports@iol.unh.edu In-Reply-To: <20250409135554.2180390-3-nsaxena@marvell.com> References: <20250409135554.2180390-3-nsaxena@marvell.com> Content-Type: text/plain X-BeenThere: test-report@dpdk.org X-Mailman-Version: 2.1.29 Precedence: list List-Id: automatic DPDK test reports List-Unsubscribe: , List-Archive: List-Post: List-Help: List-Subscribe: , Errors-To: test-report-bounces@dpdk.org Test-Label: iol-sample-apps-testing Test-Status: SUCCESS http://dpdk.org/patch/152856 _Testing PASS_ Submitter: Nitin Saxena Date: Wednesday, April 09 2025 13:55:53 DPDK git baseline: Repo:dpdk Branch: master CommitID:8ee74a69abcf48563f05adeafecd298bb03477a8 152855-152856 --> testing pass Upstream job id: ACVP-FIPS-testing#9501 Test environment and result as below: +--------------------+----------------------+----------------------+ | Environment | compressdev_zlib_pmd | dpdk_fips_validation | +====================+======================+======================+ | Ubuntu 22.04 (ARM) | PASS | SKIPPED | +--------------------+----------------------+----------------------+ | Ubuntu 22.04 | PASS | SKIPPED | +--------------------+----------------------+----------------------+ | Ubuntu 20.04 | SKIPPED | PASS | +--------------------+----------------------+----------------------+ Ubuntu 22.04 (ARM) Kernel: 5.15.0-97-generic Compiler: gcc gcc (Ubuntu 11.4.0-1ubuntu1~22.04) 11.4.0 Ubuntu 22.04 Kernel: 5.15.0-100-generic Compiler: gcc gcc (Ubuntu 11.4.0-1ubuntu1~22.04) 11.4.0 Ubuntu 20.04 Kernel: Depends on container host Compiler: gcc (Ubuntu 9.4.0-1ubuntu1~20.04.2) 9.4.0 To view detailed results, visit: https://lab.dpdk.org/results/dashboard/patchsets/32982/ UNH-IOL DPDK Community Lab To manage your email subscriptions, visit: https://lab.dpdk.org/results/dashboard/preferences/subscriptions/