From mboxrd@z Thu Jan 1 00:00:00 1970 Return-Path: Received: from mails.dpdk.org (mails.dpdk.org [217.70.189.124]) by inbox.dpdk.org (Postfix) with ESMTP id 6BB0046549 for ; Thu, 10 Apr 2025 03:16:13 +0200 (CEST) Received: from mails.dpdk.org (localhost [127.0.0.1]) by mails.dpdk.org (Postfix) with ESMTP id 4A421402E1; Thu, 10 Apr 2025 03:16:13 +0200 (CEST) Received: from mail-yw1-f228.google.com (mail-yw1-f228.google.com [209.85.128.228]) by mails.dpdk.org (Postfix) with ESMTP id 3CE3340288 for ; Thu, 10 Apr 2025 03:16:12 +0200 (CEST) Received: by mail-yw1-f228.google.com with SMTP id 00721157ae682-6f666c94285so3144057b3.3 for ; Wed, 09 Apr 2025 18:16:12 -0700 (PDT) DKIM-Signature: v=1; a=rsa-sha256; c=relaxed/relaxed; d=iol.unh.edu; s=unh-iol; t=1744247771; x=1744852571; darn=dpdk.org; h=references:in-reply-to:cc:to:from:subject:message-id:date:from:to :cc:subject:date:message-id:reply-to; bh=nmxz9U72f5d1dvl9Z+kYQ0vd9B4BI418rpBLgJG71Do=; b=Deks9xwASoj4ibmOZisyssJQwHJhqXfYymoYLUl84AHnY3kdN5Z5q9LQ3z+B+WN2JT 9TCgKg2yT6wEn2GFUlqAewJaQzF1h4zqkG1XnEAUcy/oBfEwT1CVKBtBPd3mBLuVTjsC xgeLEs2SxhjJza8hGW+VEp7pDoHWErScl+6uU= X-Google-DKIM-Signature: v=1; a=rsa-sha256; c=relaxed/relaxed; d=1e100.net; s=20230601; t=1744247771; x=1744852571; h=references:in-reply-to:cc:to:from:subject:message-id:date :x-gm-message-state:from:to:cc:subject:date:message-id:reply-to; bh=nmxz9U72f5d1dvl9Z+kYQ0vd9B4BI418rpBLgJG71Do=; b=SRSTCXi/jYU1e+QKOhqxyNxFOy25UhgPLKipTZhPE1MRUt0hW2fcwTt0wEuvhGrh2S vTMPwsDh+f1VBDV7ammU13x6sRctxVAy8/LaLJqceOH/35NsLLvCt/Suyr/uLV9fcXf7 Cogp0WFwe3ytt/90KXyErNRx77dxzs1u2HDFgfG3ZifZfBsuK5pN3u7juLHz+yDNV9O/ cR/fhNnxAQ8xXj/Czvi5I4B0xOkpydtk/cw77Kn8Fid1tTBtPjaO/ZTdzOhpDhF3erSK 4udsztc2S7BYFCiDzgyBfz0LkBc3n9wXy1+yfsheBdBbYdzH+YeTVJWdiX7//Lu5eotU sQrQ== X-Gm-Message-State: AOJu0Yxn7tbL9xOg9Z14y4TcSBuqlBEXpNpYqEdVY4A4Nv2oOGb4gu0C Nr5ftdsQ4zd+GWibsH3wcBe25S5pA033KO9YFAlrbFS7PyDIx1e6ShFsa0ld0C9K3G6PTS5a80W TShBW1hanyUuNoYJ6haK/XT4kood93XaIycVMxqNa8lzmcTGyx/73Lngy X-Gm-Gg: ASbGncvSL2g3IB71+ZlKdnSw8c+iSFrCBwfDiiW9VW6D+dVLnztVK0/wYZW8d4pDghS aXWtPjVa/ciVCXDjnp96zIzqkQmFtVn8wZm5qL0e2Ep4nWOh/L2nV2kDXCX+zJoFpWVDwcagYvS 8F5OTfaTwO+GIx091RR0XaznL01ZU0TVG1268KirCHEqJeFLJo1KS9ZvCWxd/eKliSPuX06kRbq iNq86BfhJfjA43fHDbbty3snouySLAweR3phmwD79E/s1z42lPmteuPUFRrPOIBjaJP0v86UXsD AfVAccPMoG4X6PSKLcUll5HwsZ5rr5ozacQlVE4/kHWcGvPK X-Google-Smtp-Source: AGHT+IHESRENLBykLqgER5rsLG9cVYuDhNvzuYyJbq/EfqvJUUJO6XBjQ0ZbXLN13pZawxTDnvJ9HGZqh4Ox X-Received: by 2002:a05:690c:6e13:b0:6f9:b12b:8953 with SMTP id 00721157ae682-70549ea23admr15923387b3.20.1744247771496; Wed, 09 Apr 2025 18:16:11 -0700 (PDT) Received: from postal.iol.unh.edu (postal.iol.unh.edu. [2606:4100:3880:1234::84]) by smtp-relay.gmail.com with ESMTPS id 00721157ae682-7053e175b3bsm1560367b3.38.2025.04.09.18.16.11 (version=TLS1_2 cipher=ECDHE-ECDSA-AES128-GCM-SHA256 bits=128/128); Wed, 09 Apr 2025 18:16:11 -0700 (PDT) X-Relaying-Domain: iol.unh.edu Date: Wed, 09 Apr 2025 18:16:11 -0700 (PDT) Message-ID: <67f71bdb.050a0220.3815dc.4d89SMTPIN_ADDED_MISSING@mx.google.com> Received: from [172.21.0.6] (unknown [172.18.0.240]) by postal.iol.unh.edu (Postfix) with ESMTP id 1B40F6052471; Wed, 9 Apr 2025 21:16:11 -0400 (EDT) Subject: |SUCCESS| pw152857-152860 [PATCH] [4/4] dts: extend meson fast tests From: dpdklab@iol.unh.edu To: Test Report Cc: dpdk-test-reports@iol.unh.edu In-Reply-To: <20250409223825.1579256-5-probb@iol.unh.edu> References: <20250409223825.1579256-5-probb@iol.unh.edu> Content-Type: text/plain X-BeenThere: test-report@dpdk.org X-Mailman-Version: 2.1.29 Precedence: list List-Id: automatic DPDK test reports List-Unsubscribe: , List-Archive: List-Post: List-Help: List-Subscribe: , Errors-To: test-report-bounces@dpdk.org Test-Label: iol-compile-arm64-testing Test-Status: SUCCESS http://dpdk.org/patch/152860 _Testing PASS_ Submitter: Patrick Robb Date: Wednesday, April 09 2025 22:38:25 DPDK git baseline: Repo:dpdk Branch: master CommitID:c933d60a7f8696695eb08ae655f2d809aedc29d5 152857-152860 --> testing pass Upstream job id: Generic-DPDK-Compile-Meson#378893 Test environment and result as below: +----------------------------------------+--------------------+ | Environment | dpdk_meson_compile | +========================================+====================+ | RHEL9 (ARM) | PASS | +----------------------------------------+--------------------+ | Ubuntu 20.04 ARM GCC Cross Compile | PASS | +----------------------------------------+--------------------+ | Ubuntu 20.04 ARM SVE | PASS | +----------------------------------------+--------------------+ | Debian 12 with MUSDK | PASS | +----------------------------------------+--------------------+ | Fedora 40 (ARM) | PASS | +----------------------------------------+--------------------+ | Ubuntu 20.04 (ARM) | PASS | +----------------------------------------+--------------------+ | Fedora 40 (ARM Clang) | PASS | +----------------------------------------+--------------------+ | Fedora 41 (ARM Clang) | PASS | +----------------------------------------+--------------------+ | Fedora 41 (ARM) | PASS | +----------------------------------------+--------------------+ | Ubuntu 22.04 (ARM) | PASS | +----------------------------------------+--------------------+ | Ubuntu 24.04 (ARM) | PASS | +----------------------------------------+--------------------+ | CentOS Stream 9 (ARM) | PASS | +----------------------------------------+--------------------+ | CentOS Stream 10 (ARM) | PASS | +----------------------------------------+--------------------+ | Debian 12 (arm) | PASS | +----------------------------------------+--------------------+ | Ubuntu 20.04 ARM Clang Cross Compile | PASS | +----------------------------------------+--------------------+ | Ubuntu 20.04 aarch32 GCC Cross Compile | PASS | +----------------------------------------+--------------------+ RHEL9 (ARM) Kernel: Depends on container host Compiler: gcc 11.5.0 20240719 (Red Hat 11.5.0-2) Ubuntu 20.04 ARM GCC Cross Compile Kernel: Depends on container host Compiler: aarch64-linux-gnu-gcc (Ubuntu 9.4.0-1ubuntu1~20.04.2) 9.4.0 Ubuntu 20.04 ARM SVE Kernel: Depends on container host Compiler: gcc (Ubuntu 10.5.0-1ubuntu1~20.04) 10.5.0 Debian 12 with MUSDK Kernel: Depends on container host Compiler: gcc (Debian 12.2.0-14) 12.2.0 Fedora 40 (ARM) Kernel: Depends on container host Compiler: gcc 14.2.1 20240912 (Red Hat 14.2.1-3) Ubuntu 20.04 (ARM) Kernel: Depends on container host Compiler: gcc (Ubuntu 9.4.0-1ubuntu1~20.04.2) 9.4.0 Fedora 40 (ARM Clang) Kernel: Depends on container host Compiler: clang 18.1.8 (Fedora 18.1.8-1.fc40) Fedora 41 (ARM Clang) Kernel: Depends on container host Compiler: clang 19.1.5 (Fedora 19.1.5-1.fc41) Fedora 41 (ARM) Kernel: Depends on container host Compiler: gcc 14.2.1 20240912 (Red Hat 14.2.1-3) Ubuntu 22.04 (ARM) Kernel: Depends on container host Compiler: gcc (Ubuntu 11.4.0-1ubuntu1~22.04) 11.4.0 Ubuntu 24.04 (ARM) Kernel: Depends on container host Compiler: gcc (Ubuntu 13.3.0-6ubuntu2~24.04) 13.3.0 CentOS Stream 9 (ARM) Kernel: Depends on container host Compiler: gcc 11.5.0 20240719 (Red Hat 11.5.0-2) CentOS Stream 10 (ARM) Kernel: Depends on container host Compiler: gcc 14.2.1 20241104 (Red Hat 14.2.1-6) Debian 12 (arm) Kernel: Depends on container host Compiler: gcc (Debian 12.2.0-14) 12.2.0 Ubuntu 20.04 ARM Clang Cross Compile Kernel: Depends on container host Compiler: clang 10.0.0-4ubuntu1 Ubuntu 20.04 aarch32 GCC Cross Compile Kernel: Depends on container host Compiler: gcc 9.4.0 To view detailed results, visit: https://lab.dpdk.org/results/dashboard/patchsets/32983/ UNH-IOL DPDK Community Lab To manage your email subscriptions, visit: https://lab.dpdk.org/results/dashboard/preferences/subscriptions/