From mboxrd@z Thu Jan 1 00:00:00 1970 Return-Path: Received: from mails.dpdk.org (mails.dpdk.org [217.70.189.124]) by inbox.dpdk.org (Postfix) with ESMTP id 0939D46549 for ; Thu, 10 Apr 2025 03:18:53 +0200 (CEST) Received: from mails.dpdk.org (localhost [127.0.0.1]) by mails.dpdk.org (Postfix) with ESMTP id 059CA402E1; Thu, 10 Apr 2025 03:18:53 +0200 (CEST) Received: from mail-yw1-f228.google.com (mail-yw1-f228.google.com [209.85.128.228]) by mails.dpdk.org (Postfix) with ESMTP id D608940288 for ; Thu, 10 Apr 2025 03:18:50 +0200 (CEST) Received: by mail-yw1-f228.google.com with SMTP id 00721157ae682-70433283ba7so2920867b3.2 for ; Wed, 09 Apr 2025 18:18:50 -0700 (PDT) DKIM-Signature: v=1; a=rsa-sha256; c=relaxed/relaxed; d=iol.unh.edu; s=unh-iol; t=1744247930; x=1744852730; darn=dpdk.org; h=references:in-reply-to:cc:to:from:subject:message-id:date:from:to :cc:subject:date:message-id:reply-to; bh=/N9JBPhVF3w7ZX3kgUDWjMOoZnd18hHS6SiKH1Jh5U8=; b=S2TdLWBLEiKdQ8FpFcorFHIF3f+kdqF+Fj1CF0zP59+I05JT9ToSslvz5qXdBZQN9l 6skd9PmA6Fddu5VC5wEcI8oaFVJ/wVdjac63beXGxnavk0WHsXw3c49MwvuTkfc2yw0q +E7h1WsvyOCx0H5zg+r3BVuBAX4bfZQpS3/mg= X-Google-DKIM-Signature: v=1; a=rsa-sha256; c=relaxed/relaxed; d=1e100.net; s=20230601; t=1744247930; x=1744852730; h=references:in-reply-to:cc:to:from:subject:message-id:date :x-gm-message-state:from:to:cc:subject:date:message-id:reply-to; bh=/N9JBPhVF3w7ZX3kgUDWjMOoZnd18hHS6SiKH1Jh5U8=; b=nLuzMt0DVK7dKsDgVHObn6iHTCSaKTI8c91TeGO0Tf6nRqr/v1KZYIqsOCKAnwvucX 6oXDAB3viK8+nUDLsBQ97bM0b6qUiMUp10uP4FRRJjAVEC99SfRAZebT17BJVQMkyULc 9s0g+DLxUjya58/U84dZiObXKKKrx8gRzAr8t70w8ahBIlTAErj4u0qfJRWQerkPeUdf FxZBNG6gMmNPrIvQmSoTHRDrVyNCYVet0tUftnHstXDrUfkyfQy6wevpqa7q9nCCrQlL cg8XKzFe6f7aPl88skb7PS0N08Ja0NEQFYBJVHvgqIcQoNFu/oIMyX08/R2yQ8spr8hQ ooPg== X-Gm-Message-State: AOJu0Yy+tZ8VRB9+XD5lUDsTsGBnm7EYBUZZEDGsut997bIKtpDN34EP T8ln8d0+g+6pUZ10F/wG4YskljpbJj4J2R6xUya4P1GbgE1Eb/d3TN+4kxynfDDj4abA8EUpJaj 2MuJxQsgogmKDBYs2w04K5doPifyrqFWTOtVWR6rckiQ3qh3LPsFqU+DZ X-Gm-Gg: ASbGncvfIatvh21rkROJjRXBmvl4/E1PwXmFb4okBTllMHBRZCoejnC/ynDsbDW7cD7 0mQp1S5MmJ5GWTOD2GxWJa3FB8X2mobTgcZW0x481U+AD91DgZfXMWQHhnqipVQEwbu3IiyVhCb +yhO1eRYo0pWlGiFSuuIDshT525mi0aIJ4MrdaErlFOlIEXfuyJgGJJqRcmSbVXZtBo04d5oEcq WWmnTtvDrtTVTCnNJz+VkBpNkKAlxQw0d7E4TRdoWQajSclkStv6dfScy9/msM4i/MQXmOyHvw9 ExiExbhTbD8rh5KnUWTTYmCGWulENVSI0lFAl1aib3XMGSyh X-Google-Smtp-Source: AGHT+IEjlluremunOt8+nAIiycaW8g0+NUCK8o6P0up4cewddSbLF8YI+t50jAfgMb79ShxkU7TmK0M/874L X-Received: by 2002:a05:690c:f16:b0:702:537b:dca8 with SMTP id 00721157ae682-70549e75320mr13292127b3.4.1744247930301; Wed, 09 Apr 2025 18:18:50 -0700 (PDT) Received: from postal.iol.unh.edu (postal.iol.unh.edu. [2606:4100:3880:1234::84]) by smtp-relay.gmail.com with ESMTPS id 00721157ae682-7053e1350bdsm1660487b3.19.2025.04.09.18.18.50 (version=TLS1_2 cipher=ECDHE-ECDSA-AES128-GCM-SHA256 bits=128/128); Wed, 09 Apr 2025 18:18:50 -0700 (PDT) X-Relaying-Domain: iol.unh.edu Date: Wed, 09 Apr 2025 18:18:50 -0700 (PDT) Message-ID: <67f71c7a.050a0220.62b3.53dfSMTPIN_ADDED_MISSING@mx.google.com> Received: from [172.21.0.5] (unknown [172.18.0.240]) by postal.iol.unh.edu (Postfix) with ESMTP id E98566052471; Wed, 9 Apr 2025 21:18:49 -0400 (EDT) Subject: |SUCCESS| pw152857-152860 [PATCH] [4/4] dts: extend meson fast tests From: dpdklab@iol.unh.edu To: Test Report Cc: dpdk-test-reports@iol.unh.edu In-Reply-To: <20250409223825.1579256-5-probb@iol.unh.edu> References: <20250409223825.1579256-5-probb@iol.unh.edu> Content-Type: text/plain X-BeenThere: test-report@dpdk.org X-Mailman-Version: 2.1.29 Precedence: list List-Id: automatic DPDK test reports List-Unsubscribe: , List-Archive: List-Post: List-Help: List-Subscribe: , Errors-To: test-report-bounces@dpdk.org Test-Label: iol-compile-arm64-testing Test-Status: SUCCESS http://dpdk.org/patch/152860 _Testing PASS_ Submitter: Patrick Robb Date: Wednesday, April 09 2025 22:38:25 DPDK git baseline: Repo:dpdk Branch: master CommitID:c933d60a7f8696695eb08ae655f2d809aedc29d5 152857-152860 --> testing pass Upstream job id: Generic-DPDK-Compile-Meson#378895 Test environment and result as below: +----------------------------------------+--------------------+ | Environment | dpdk_meson_compile | +========================================+====================+ | RHEL9 (ARM) | PASS | +----------------------------------------+--------------------+ | Ubuntu 20.04 ARM GCC Cross Compile | PASS | +----------------------------------------+--------------------+ | Ubuntu 20.04 ARM SVE | PASS | +----------------------------------------+--------------------+ | Debian 12 with MUSDK | PASS | +----------------------------------------+--------------------+ | Fedora 40 (ARM) | PASS | +----------------------------------------+--------------------+ | Ubuntu 20.04 (ARM) | PASS | +----------------------------------------+--------------------+ | Fedora 40 (ARM Clang) | PASS | +----------------------------------------+--------------------+ | Fedora 41 (ARM Clang) | PASS | +----------------------------------------+--------------------+ | Fedora 41 (ARM) | PASS | +----------------------------------------+--------------------+ | Ubuntu 22.04 (ARM) | PASS | +----------------------------------------+--------------------+ | Ubuntu 24.04 (ARM) | PASS | +----------------------------------------+--------------------+ | CentOS Stream 9 (ARM) | PASS | +----------------------------------------+--------------------+ | CentOS Stream 10 (ARM) | PASS | +----------------------------------------+--------------------+ | Debian 12 (arm) | PASS | +----------------------------------------+--------------------+ | Ubuntu 20.04 ARM Clang Cross Compile | PASS | +----------------------------------------+--------------------+ | Ubuntu 20.04 aarch32 GCC Cross Compile | PASS | +----------------------------------------+--------------------+ RHEL9 (ARM) Kernel: Depends on container host Compiler: gcc 11.5.0 20240719 (Red Hat 11.5.0-2) Ubuntu 20.04 ARM GCC Cross Compile Kernel: Depends on container host Compiler: aarch64-linux-gnu-gcc (Ubuntu 9.4.0-1ubuntu1~20.04.2) 9.4.0 Ubuntu 20.04 ARM SVE Kernel: Depends on container host Compiler: gcc (Ubuntu 10.5.0-1ubuntu1~20.04) 10.5.0 Debian 12 with MUSDK Kernel: Depends on container host Compiler: gcc (Debian 12.2.0-14) 12.2.0 Fedora 40 (ARM) Kernel: Depends on container host Compiler: gcc 14.2.1 20240912 (Red Hat 14.2.1-3) Ubuntu 20.04 (ARM) Kernel: Depends on container host Compiler: gcc (Ubuntu 9.4.0-1ubuntu1~20.04.2) 9.4.0 Fedora 40 (ARM Clang) Kernel: Depends on container host Compiler: clang 18.1.8 (Fedora 18.1.8-1.fc40) Fedora 41 (ARM Clang) Kernel: Depends on container host Compiler: clang 19.1.5 (Fedora 19.1.5-1.fc41) Fedora 41 (ARM) Kernel: Depends on container host Compiler: gcc 14.2.1 20240912 (Red Hat 14.2.1-3) Ubuntu 22.04 (ARM) Kernel: Depends on container host Compiler: gcc (Ubuntu 11.4.0-1ubuntu1~22.04) 11.4.0 Ubuntu 24.04 (ARM) Kernel: Depends on container host Compiler: gcc (Ubuntu 13.3.0-6ubuntu2~24.04) 13.3.0 CentOS Stream 9 (ARM) Kernel: Depends on container host Compiler: gcc 11.5.0 20240719 (Red Hat 11.5.0-2) CentOS Stream 10 (ARM) Kernel: Depends on container host Compiler: gcc 14.2.1 20241104 (Red Hat 14.2.1-6) Debian 12 (arm) Kernel: Depends on container host Compiler: gcc (Debian 12.2.0-14) 12.2.0 Ubuntu 20.04 ARM Clang Cross Compile Kernel: Depends on container host Compiler: clang 10.0.0-4ubuntu1 Ubuntu 20.04 aarch32 GCC Cross Compile Kernel: Depends on container host Compiler: gcc 9.4.0 To view detailed results, visit: https://lab.dpdk.org/results/dashboard/patchsets/32983/ UNH-IOL DPDK Community Lab To manage your email subscriptions, visit: https://lab.dpdk.org/results/dashboard/preferences/subscriptions/