From mboxrd@z Thu Jan 1 00:00:00 1970 Return-Path: Received: from mails.dpdk.org (mails.dpdk.org [217.70.189.124]) by inbox.dpdk.org (Postfix) with ESMTP id 6947946549 for ; Thu, 10 Apr 2025 03:39:58 +0200 (CEST) Received: from mails.dpdk.org (localhost [127.0.0.1]) by mails.dpdk.org (Postfix) with ESMTP id 3837A402E1; Thu, 10 Apr 2025 03:39:58 +0200 (CEST) Received: from mail-il1-f226.google.com (mail-il1-f226.google.com [209.85.166.226]) by mails.dpdk.org (Postfix) with ESMTP id BA72E40288 for ; Thu, 10 Apr 2025 03:39:56 +0200 (CEST) Received: by mail-il1-f226.google.com with SMTP id e9e14a558f8ab-3d450154245so2971875ab.2 for ; Wed, 09 Apr 2025 18:39:56 -0700 (PDT) DKIM-Signature: v=1; a=rsa-sha256; c=relaxed/relaxed; d=iol.unh.edu; s=unh-iol; t=1744249196; x=1744853996; darn=dpdk.org; h=cc:to:from:subject:message-id:date:from:to:cc:subject:date :message-id:reply-to; bh=DPDmW10LBuraVEEMvhY0889vFJzh/hyQ3s0iMSZdGKA=; b=CpUgkxG6KmYmXKda45OqrrYpPTdiBWDDNhQIkmtOSAPtJ6+KQWTLv1stV08iysFp09 bq7PaXJh49ipjj686e50WtusaPUMvAYBd9RjdAR90gd+KimsRZCvfDLuSpDps7Wq9dP6 uMq49yN3GQ1yGQORDEqzktdfCIDR6fkkqYjyk= X-Google-DKIM-Signature: v=1; a=rsa-sha256; c=relaxed/relaxed; d=1e100.net; s=20230601; t=1744249196; x=1744853996; h=cc:to:from:subject:message-id:date:x-gm-message-state:from:to:cc :subject:date:message-id:reply-to; bh=DPDmW10LBuraVEEMvhY0889vFJzh/hyQ3s0iMSZdGKA=; b=cpGDYtH0Y3uVpU2Y7+lmUw1pGGzibL5alGbBzoc695mBuob/neHz3fd0ifjc3MJhyB PEPAOd2aubgOKjx0bhMhMn2uVfORP6Y7Fb6J5B0okG/Kbf8b+v4tAbeCuCYBIUYn8oSa 3YkgR6h4EoFVU1NNT5BcjmCpHlqtfsRUkFzVbCNoG4+NxTtkiUvPir+0XsaiubVtlbtZ Zp5tg4lCAUNvO6Vzr6gkTMRNCV1lmdbkFUEi9d7eOS4PgNZFZdlWX5qqupCSxQ+FyFl2 9RWcOG3lxt6dSOY44SJYmwEMlKS46UzsYRZHqC0A8OIe9WEhuxaPKbZsImWgLLWoiT5R EG6A== X-Gm-Message-State: AOJu0Ywl/6jwpxgbgqtOHlAfBmN8t1gl0anBiCJpaKvp+lAH5e/d5sKi 5TWwEIfxjYdeQBizufJsxcx4HYJnSSWNCVkOciaP9IHJaarICQ6AI4u0RO3hxYqR3JCSgpMHrW5 +jJ7dG77NcCP+gIaAX9sEOKKN8Mwnjbe7L0y+KWeDWENuS2ztncIvCvc+ X-Gm-Gg: ASbGncvGB1D8wy0pdz3Cbpcc6zmWdLdcmKXr96Tky4Ikq7zgKilQVpLx2C91T2HxveV nDByr++emMZK27xFsf51dhvL0OY7187cGpd36Tq7/6G7g3fwfB68PspJk9YfHLOKaJyV4tbs7VL KFyubZ3Bj2DNj6nmlu6ur8uEKlt0LsR9phkWQKAe2dTk5By1s8PO3XzIggEEGMliUwfMXmIKuXJ VS/60wvTr5AvUecZHHqzfq9Not+7AX2vT0VrcVoa7xu3fDAgh5vjgqfLFVJ97MUu9NLkYf4mSIl TSnhHVmmmVnFi5hKrBXePbe8IR0/WnEub2OxHeMA0x5Y4M7W X-Google-Smtp-Source: AGHT+IFXUhvz1iGoEIMlEvLZy5dgJlzxAOZPR7SO0cy5LP4/sQqCxo9deIBnWRUeZLdq74kLGzhca8IyJf51 X-Received: by 2002:a05:6e02:3c04:b0:3d0:4e0c:2c96 with SMTP id e9e14a558f8ab-3d7e5f4f749mr3724165ab.2.1744249195971; Wed, 09 Apr 2025 18:39:55 -0700 (PDT) Received: from postal.iol.unh.edu (postal.iol.unh.edu. [2606:4100:3880:1234::84]) by smtp-relay.gmail.com with ESMTPS id 8926c6da1cb9f-4f505d193dbsm185677173.27.2025.04.09.18.39.55 (version=TLS1_2 cipher=ECDHE-ECDSA-AES128-GCM-SHA256 bits=128/128); Wed, 09 Apr 2025 18:39:55 -0700 (PDT) X-Relaying-Domain: iol.unh.edu Date: Wed, 09 Apr 2025 18:39:55 -0700 (PDT) Message-ID: <67f7216b.050a0220.60bb8.6501SMTPIN_ADDED_MISSING@mx.google.com> Received: from [172.21.0.6] (unknown [172.18.0.240]) by postal.iol.unh.edu (Postfix) with ESMTP id 6FF246052471; Wed, 9 Apr 2025 21:39:55 -0400 (EDT) Subject: |SUCCESS| [GIT MASTER] 8ee74a69abcf48563f05adeafecd298bb03477a8 From: dpdklab@iol.unh.edu To: Test Report Cc: dpdk-test-reports@iol.unh.edu Content-Type: text/plain X-BeenThere: test-report@dpdk.org X-Mailman-Version: 2.1.29 Precedence: list List-Id: automatic DPDK test reports List-Unsubscribe: , List-Archive: List-Post: List-Help: List-Subscribe: , Errors-To: test-report-bounces@dpdk.org _Testing PASS_ Branch: dpdk 8ee74a69abcf48563f05adeafecd298bb03477a8 --> testing pass Upstream job id: Generic-Unit-Test-DPDK#330113 Test environment and result as below: +-----------------------------+----------------+--------------+---------------------------+------------------------------+ | Environment | dpdk_unit_test | lpm_autotest | cryptodev_sw_zuc_autotest | cryptodev_sw_snow3g_autotest | +=============================+================+==============+===========================+==============================+ | 32-bit Ubuntu 22.04.4 (ARM) | PASS | SKIPPED | SKIPPED | SKIPPED | +-----------------------------+----------------+--------------+---------------------------+------------------------------+ | CentOS Stream 10 (ARM) | PASS | SKIPPED | SKIPPED | SKIPPED | +-----------------------------+----------------+--------------+---------------------------+------------------------------+ | Fedora 41 (ARM) | PASS | SKIPPED | SKIPPED | SKIPPED | +-----------------------------+----------------+--------------+---------------------------+------------------------------+ | Debian 12 (arm) | PASS | SKIPPED | PASS | PASS | +-----------------------------+----------------+--------------+---------------------------+------------------------------+ | Ubuntu 20.04 (ARM) | PASS | SKIPPED | SKIPPED | SKIPPED | +-----------------------------+----------------+--------------+---------------------------+------------------------------+ | CentOS Stream 9 (ARM) | PASS | SKIPPED | SKIPPED | SKIPPED | +-----------------------------+----------------+--------------+---------------------------+------------------------------+ | RHEL9 (ARM) | PASS | SKIPPED | SKIPPED | SKIPPED | +-----------------------------+----------------+--------------+---------------------------+------------------------------+ | Fedora 40 (ARM) | PASS | SKIPPED | SKIPPED | SKIPPED | +-----------------------------+----------------+--------------+---------------------------+------------------------------+ | Fedora 41 (ARM Clang) | PASS | SKIPPED | SKIPPED | SKIPPED | +-----------------------------+----------------+--------------+---------------------------+------------------------------+ | Fedora 40 (ARM Clang) | PASS | SKIPPED | SKIPPED | SKIPPED | +-----------------------------+----------------+--------------+---------------------------+------------------------------+ | Ubuntu 24.04 (ARM) | PASS | SKIPPED | SKIPPED | SKIPPED | +-----------------------------+----------------+--------------+---------------------------+------------------------------+ | Ubuntu 22.04 (ARM) | PASS | SKIPPED | SKIPPED | SKIPPED | +-----------------------------+----------------+--------------+---------------------------+------------------------------+ | Ubuntu 20.04 ARM SVE | SKIPPED | PASS | SKIPPED | SKIPPED | +-----------------------------+----------------+--------------+---------------------------+------------------------------+ 32-bit Ubuntu 22.04.4 (ARM) Kernel: 5.15.83+ aarch64 Compiler: gcc (Ubuntu 11.4.0-1ubuntu1~22.04) 11.4.0 CentOS Stream 10 (ARM) Kernel: Depends on container host Compiler: gcc 14.2.1 20241104 (Red Hat 14.2.1-6) Fedora 41 (ARM) Kernel: Depends on container host Compiler: gcc 14.2.1 20240912 (Red Hat 14.2.1-3) Debian 12 (arm) Kernel: Depends on container host Compiler: gcc (Debian 12.2.0-14) 12.2.0 Ubuntu 20.04 (ARM) Kernel: Depends on container host Compiler: gcc (Ubuntu 9.4.0-1ubuntu1~20.04.2) 9.4.0 CentOS Stream 9 (ARM) Kernel: Depends on container host Compiler: gcc 11.5.0 20240719 (Red Hat 11.5.0-2) RHEL9 (ARM) Kernel: Depends on container host Compiler: gcc 11.5.0 20240719 (Red Hat 11.5.0-2) Fedora 40 (ARM) Kernel: Depends on container host Compiler: gcc 14.2.1 20240912 (Red Hat 14.2.1-3) Fedora 41 (ARM Clang) Kernel: Depends on container host Compiler: clang 19.1.5 (Fedora 19.1.5-1.fc41) Fedora 40 (ARM Clang) Kernel: Depends on container host Compiler: clang 18.1.8 (Fedora 18.1.8-1.fc40) Ubuntu 24.04 (ARM) Kernel: Depends on container host Compiler: gcc (Ubuntu 13.3.0-6ubuntu2~24.04) 13.3.0 Ubuntu 22.04 (ARM) Kernel: Depends on container host Compiler: gcc (Ubuntu 11.4.0-1ubuntu1~22.04) 11.4.0 Ubuntu 20.04 ARM SVE Kernel: Depends on container host Compiler: gcc (Ubuntu 10.5.0-1ubuntu1~20.04) 10.5.0 To view detailed results, visit: https://lab.dpdk.org/results/dashboard/tarballs/33211/ UNH-IOL DPDK Community Lab To manage your email subscriptions, visit: https://lab.dpdk.org/results/dashboard/preferences/subscriptions/