From mboxrd@z Thu Jan 1 00:00:00 1970 Return-Path: Received: from mails.dpdk.org (mails.dpdk.org [217.70.189.124]) by inbox.dpdk.org (Postfix) with ESMTP id 81EA246549 for ; Thu, 10 Apr 2025 03:52:45 +0200 (CEST) Received: from mails.dpdk.org (localhost [127.0.0.1]) by mails.dpdk.org (Postfix) with ESMTP id 57C5F402E1; Thu, 10 Apr 2025 03:52:45 +0200 (CEST) Received: from mail-pf1-f226.google.com (mail-pf1-f226.google.com [209.85.210.226]) by mails.dpdk.org (Postfix) with ESMTP id 6D16F40288 for ; Thu, 10 Apr 2025 03:52:44 +0200 (CEST) Received: by mail-pf1-f226.google.com with SMTP id d2e1a72fcca58-736bfa487c3so192686b3a.1 for ; Wed, 09 Apr 2025 18:52:44 -0700 (PDT) DKIM-Signature: v=1; a=rsa-sha256; c=relaxed/relaxed; d=iol.unh.edu; s=unh-iol; t=1744249963; x=1744854763; darn=dpdk.org; h=cc:to:from:subject:message-id:date:from:to:cc:subject:date :message-id:reply-to; bh=tUeK4hZolhQiVTKpZhENP+aZOZH7CuJdvcdsezNdtAU=; b=XjX9kh1BnZsX40i/Z3+BmW6acqHfpi6uYFrx0ghBenBIS85T8dwkohYLyUB4poDnuk dXgCzVLEhggYhohEKSIAdRV92bfHI2HlytocRSeSB03A70Sf9c1fTy4tbQXEkjcmC9bD d+eQXbL5oN3olfmmwNYOu6c7UB6ubzRTgIqNI= X-Google-DKIM-Signature: v=1; a=rsa-sha256; c=relaxed/relaxed; d=1e100.net; s=20230601; t=1744249963; x=1744854763; h=cc:to:from:subject:message-id:date:x-gm-message-state:from:to:cc :subject:date:message-id:reply-to; bh=tUeK4hZolhQiVTKpZhENP+aZOZH7CuJdvcdsezNdtAU=; b=JAzkJm++M8zoa3/LUQ0VTNNVSnjBVXu7BT+nRRjl+7lzkTUMOql54ZLsdWqImtgJkq ewwxq3NCVbpPsXyc0b9QH+VO9Ac3Wd483R50hvgEWd+FXjyzSWB1+N5ZWjoAfeLg2v6z PQhexkH1ZsrREUw57BmxJDtxkltWGuwdjXI+MR328sDTtcewd70/vgzX2tjU3N1FSXS/ 72vb2zURltqP3fzssaILJdIQkeyABj4VGg+GHEjwcGJFDVpwmeIyVZ3Nb1/jvDbUzswt OycM7+xGaBDu8OBTyd74cpP63iCsmlUueCo/gsMQ9XjTa4Y0u9Aa3BEpdpM7OYQX1pZe WTIQ== X-Gm-Message-State: AOJu0YyrRazzzOufjGZLtyfCTEScH1FMFXni4vhDmeE7ikqxj7Oad2ix zV6UTpN/D7oeuEd4/9k0bwXyEYZVcEM6zGG3I9+jzAoDiOHaeuQ1PWzgVnDEPi2TD5L5DeWxqE2 ZRtm1H7N2cqupihIBzIYF2IAIDzHrAVqzk+Jz8aQG X-Gm-Gg: ASbGncvDxmK5MR2RK8ABQVyhmSOxK7RjkZZYaitLdOhT9WJr4QfbAyYlMKphAzMzK58 b/GtXsxgBYzl8Eu657upZsLUYX0q7/kVqlp87eUrRU2nOmimXOz3AvNQRCSo4etznzdQ6WKQ5MM dUQFOGeNlJhHGGaTuH7xsg2yHVPktPKfFy+qm9K3mEuFH1veKnW5O3swp7t2pu2zYGjMj8fo2XY AfetL5UiDO+AjluS7+0AMmdUaEPo3iHnz2m+tCeXeUs/da02v8alrfvRK4N0DvNRGKHywqMqGI6 4Jxa14umCMxUaCdixmH0qh4seoK17CSimozV X-Google-Smtp-Source: AGHT+IEOTbGCP98ULJAQGeNwVYIdS8kT5zwbUAcRvGfYXZAGV4ZLs00YcenOz/hMEyH6sVzavvsRSOcB3puO X-Received: by 2002:a05:6a20:3944:b0:1f5:9aac:64dc with SMTP id adf61e73a8af0-201694e0108mr1708139637.20.1744249963549; Wed, 09 Apr 2025 18:52:43 -0700 (PDT) Received: from postal.iol.unh.edu (postal.iol.unh.edu. [132.177.123.84]) by smtp-relay.gmail.com with ESMTPS id 41be03b00d2f7-b02a0817ddcsm125404a12.2.2025.04.09.18.52.43 (version=TLS1_2 cipher=ECDHE-ECDSA-AES128-GCM-SHA256 bits=128/128); Wed, 09 Apr 2025 18:52:43 -0700 (PDT) X-Relaying-Domain: iol.unh.edu Date: Wed, 09 Apr 2025 18:52:43 -0700 (PDT) Message-ID: <67f7246b.050a0220.1ceb23.3a9bSMTPIN_ADDED_MISSING@mx.google.com> Received: from [172.17.0.3] (unknown [172.18.0.217]) by postal.iol.unh.edu (Postfix) with ESMTP id 9F0BD6052471; Wed, 9 Apr 2025 21:52:42 -0400 (EDT) Subject: |SUCCESS| [GIT MASTER] 8ee74a69abcf48563f05adeafecd298bb03477a8 From: dpdklab@iol.unh.edu To: Test Report Cc: dpdk-test-reports@iol.unh.edu Content-Type: text/plain X-BeenThere: test-report@dpdk.org X-Mailman-Version: 2.1.29 Precedence: list List-Id: automatic DPDK test reports List-Unsubscribe: , List-Archive: List-Post: List-Help: List-Subscribe: , Errors-To: test-report-bounces@dpdk.org _Testing PASS_ Branch: dpdk 8ee74a69abcf48563f05adeafecd298bb03477a8 --> testing pass Upstream job id: Generic-Unit-Test-DPDK#330116 Test environment and result as below: +---------------------+----------------+ | Environment | dpdk_unit_test | +=====================+================+ | Arch Linux | PASS | +---------------------+----------------+ | Fedora 40 (Clang) | PASS | +---------------------+----------------+ | Debian 12 | PASS | +---------------------+----------------+ | CentOS Stream 9 | PASS | +---------------------+----------------+ | Fedora 41 | PASS | +---------------------+----------------+ | CentOS Stream 10 | PASS | +---------------------+----------------+ | Fedora 40 | PASS | +---------------------+----------------+ | RHEL8 | PASS | +---------------------+----------------+ | Ubuntu 24.04 | PASS | +---------------------+----------------+ | RHEL9 | PASS | +---------------------+----------------+ | Ubuntu 20.04 | PASS | +---------------------+----------------+ | Ubuntu 22.04 | PASS | +---------------------+----------------+ | Fedora 41 (Clang) | PASS | +---------------------+----------------+ | Windows Server 2022 | PASS | +---------------------+----------------+ Arch Linux Kernel: Depends on container host Compiler: gcc 14.2.1 20240910 Fedora 40 (Clang) Kernel: Depends on container host Compiler: clang 18.1.8 (Fedora 18.1.8-1.fc40) Debian 12 Kernel: Depends on container host Compiler: gcc (Debian 12.2.0-14) 12.2.0 CentOS Stream 9 Kernel: Depends on container host Compiler: gcc 11.5.0 20240719 (Red Hat 11.5.0-2) Fedora 41 Kernel: Depends on container host Compiler: gcc 14.2.1 20240912 (Red Hat 14.2.1-3) CentOS Stream 10 Kernel: Depends on container host Compiler: gcc 14.2.1 20241104 (Red Hat 14.2.1-6) Fedora 40 Kernel: Depends on container host Compiler: gcc 14.2.1 20240912 (Red Hat 14.2.1-3) RHEL8 Kernel: Depends on container host Compiler: gcc 8.5.0 20210514 (Red Hat 8.5.0-22) Ubuntu 24.04 Kernel: Depends on container host Compiler: gcc (Ubuntu 13.3.0-6ubuntu2~24.04) 13.3.0 RHEL9 Kernel: Depends on container host Compiler: gcc 11.5.0 20240719 (Red Hat 11.5.0-2) Ubuntu 20.04 Kernel: Depends on container host Compiler: gcc (Ubuntu 9.4.0-1ubuntu1~20.04.2) 9.4.0 Ubuntu 22.04 Kernel: Depends on container host Compiler: gcc (Ubuntu 11.4.0-1ubuntu1~22.04) 11.4.0 Fedora 41 (Clang) Kernel: Depends on container host Compiler: clang 19.1.5 (Fedora 19.1.5-1.fc41) Windows Server 2022 Kernel: 10.0.20348.2031 Compiler: clang 15.0.7, gcc 14.1.0 (MinGW), and MSVC VS 19.39.33521 To view detailed results, visit: https://lab.dpdk.org/results/dashboard/tarballs/33211/ UNH-IOL DPDK Community Lab To manage your email subscriptions, visit: https://lab.dpdk.org/results/dashboard/preferences/subscriptions/