From mboxrd@z Thu Jan 1 00:00:00 1970 Return-Path: Received: from mails.dpdk.org (mails.dpdk.org [217.70.189.124]) by inbox.dpdk.org (Postfix) with ESMTP id BC3B446549 for ; Thu, 10 Apr 2025 03:55:04 +0200 (CEST) Received: from mails.dpdk.org (localhost [127.0.0.1]) by mails.dpdk.org (Postfix) with ESMTP id 96985402E1; Thu, 10 Apr 2025 03:55:04 +0200 (CEST) Received: from mail-pg1-f226.google.com (mail-pg1-f226.google.com [209.85.215.226]) by mails.dpdk.org (Postfix) with ESMTP id B39BE40288 for ; Thu, 10 Apr 2025 03:55:03 +0200 (CEST) Received: by mail-pg1-f226.google.com with SMTP id 41be03b00d2f7-af28bc68846so311838a12.1 for ; Wed, 09 Apr 2025 18:55:03 -0700 (PDT) DKIM-Signature: v=1; a=rsa-sha256; c=relaxed/relaxed; d=iol.unh.edu; s=unh-iol; t=1744250102; x=1744854902; darn=dpdk.org; h=cc:to:from:subject:message-id:date:from:to:cc:subject:date :message-id:reply-to; bh=qSpnMslJIQ4bouIqshUWXh1rrpqh3rUavMcTSdry6Wg=; b=dABH0BzZuX3y3vo9z5YkyZfhdTN3sygxDAWOrI/JCdbjLf1zsIHVzBoW2ZIPgX7cdZ eEui5gO4K9FjRkarHvMA1R9+/5UBCVPUaCIrAlsz/kQtsPGaeqCtKSTW0LYoPra5zCjG wFyZv3JLU6PWF/3I62rXDJrNy4PF7emaM9Wf4= X-Google-DKIM-Signature: v=1; a=rsa-sha256; c=relaxed/relaxed; d=1e100.net; s=20230601; t=1744250102; x=1744854902; h=cc:to:from:subject:message-id:date:x-gm-message-state:from:to:cc :subject:date:message-id:reply-to; bh=qSpnMslJIQ4bouIqshUWXh1rrpqh3rUavMcTSdry6Wg=; b=FJ2P0VmDbI6wG+gBTrpSz0r9gVZEEUTq6s/7zDt8/KsgxtQMRJ6SCRAr1ILtj0LuEq 2hm5XreU97Kz0zHVDPlU1jRok08nuilC8pth0R8N4R4bPfrS1kfAbS2NXcfUv+InYFmi x5z05K8Um2O2C48npTa5pisZa3/jIm8Wx7vqYaVIDCU2TYNU4kw50VorASuwXfrnzmpt ecZbAd3FQgsdmoQ7B/S9wvjbQjl/PEBZyPljpqZmwJPinPLj4BD0GTbgvhs4hlbR9pX2 pM/GAFzQJQ9TdaA7z83N0q1PcvfzpjqYwrtIWKInQBCY7HweMG/rOQ5I7ZOsyjQme8mH /Qbg== X-Gm-Message-State: AOJu0YxMUqMR68HogiAM869nQ33PR1Q7Xy7R8bu01hT7NhCPj1hyVzYW zFr6lnHaeZ6aihiCtmtva1mrfaB2GV5XEn6CuXASIf9FFaP273pvODnirYqlxfUSF6JTeUUEj1K s4xmSaIp1Cxg2PV44F0TAb3FjkdbzZeDjpij2qwZupKM40T7nOxszLO1+ X-Gm-Gg: ASbGncsSApVytBVvoeBxmbIIavoXcCZ/+pwoq9zmcw2bOhE387pJKTPazZ2iVdd+u+C sNr/OdD3awKpkWW8/XAkUZ7ufKb299H00EGTaFXVyUO1wPl5EgI6/JC0KaGc98lLmUkJt1hnOlW QCmncMHaTDwXSpfdEqgr9PjrlNYybHGe8z0zzKA7Tb3xti6cHlwIhLuE+1RRDZ8VCqsto/KeT8N wIkp6ykLKdGt7zregsDhvRkP4gStx/zbg3jG02bKB0YNZ9ieyML5UGV7vPbb3I4hjHKTfFNyofj IqKjhAaALaGV9h/d+xhU4HSMcjtexaI69G6sRNe4lnXsLUjR X-Google-Smtp-Source: AGHT+IHhz5G5xIQilIvpGMAMwk/6uvqWhdY7B1I87+vgxaPK3fTJt4Q/pHCHlPBygs+bQuuRCsGjKZAVsUeD X-Received: by 2002:a05:6a21:3482:b0:1f3:486c:8509 with SMTP id adf61e73a8af0-2016cd622c1mr679525637.25.1744250102676; Wed, 09 Apr 2025 18:55:02 -0700 (PDT) Received: from postal.iol.unh.edu (postal.iol.unh.edu. [2606:4100:3880:1234::84]) by smtp-relay.gmail.com with ESMTPS id 41be03b00d2f7-b02a11d2abbsm201681a12.17.2025.04.09.18.55.02 (version=TLS1_2 cipher=ECDHE-ECDSA-AES128-GCM-SHA256 bits=128/128); Wed, 09 Apr 2025 18:55:02 -0700 (PDT) X-Relaying-Domain: iol.unh.edu Date: Wed, 09 Apr 2025 18:55:02 -0700 (PDT) Message-ID: <67f724f6.630a0220.fb125.7cfaSMTPIN_ADDED_MISSING@mx.google.com> Received: from [172.17.0.3] (unknown [172.18.0.217]) by postal.iol.unh.edu (Postfix) with ESMTP id CAE536052471; Wed, 9 Apr 2025 21:55:01 -0400 (EDT) Subject: |SUCCESS| [GIT MASTER] 8ee74a69abcf48563f05adeafecd298bb03477a8 From: dpdklab@iol.unh.edu To: Test Report Cc: dpdk-test-reports@iol.unh.edu Content-Type: text/plain X-BeenThere: test-report@dpdk.org X-Mailman-Version: 2.1.29 Precedence: list List-Id: automatic DPDK test reports List-Unsubscribe: , List-Archive: List-Post: List-Help: List-Subscribe: , Errors-To: test-report-bounces@dpdk.org _Testing PASS_ Branch: dpdk 8ee74a69abcf48563f05adeafecd298bb03477a8 --> testing pass Upstream job id: Generic-DPDK-Compile-ABI#122915 Test environment and result as below: +-------------------+----------+ | Environment | abi_test | +===================+==========+ | openSUSE Leap 15 | PASS | +-------------------+----------+ | Fedora 40 (Clang) | PASS | +-------------------+----------+ | CentOS Stream 9 | PASS | +-------------------+----------+ | RHEL8 | PASS | +-------------------+----------+ | CentOS Stream 10 | PASS | +-------------------+----------+ | Fedora 40 | PASS | +-------------------+----------+ | Debian 12 | PASS | +-------------------+----------+ | Fedora 41 | PASS | +-------------------+----------+ | Fedora 41 (Clang) | PASS | +-------------------+----------+ | Arch Linux | PASS | +-------------------+----------+ | Ubuntu 24.04 | PASS | +-------------------+----------+ | RHEL9 | PASS | +-------------------+----------+ | Ubuntu 22.04 | PASS | +-------------------+----------+ openSUSE Leap 15 Kernel: Depends on container host Compiler: gcc (SUSE Linux) 7.5.0 Fedora 40 (Clang) Kernel: Depends on container host Compiler: clang 18.1.8 (Fedora 18.1.8-1.fc40) CentOS Stream 9 Kernel: Depends on container host Compiler: gcc 11.5.0 20240719 (Red Hat 11.5.0-2) RHEL8 Kernel: Depends on container host Compiler: gcc 8.5.0 20210514 (Red Hat 8.5.0-22) CentOS Stream 10 Kernel: Depends on container host Compiler: gcc 14.2.1 20241104 (Red Hat 14.2.1-6) Fedora 40 Kernel: Depends on container host Compiler: gcc 14.2.1 20240912 (Red Hat 14.2.1-3) Debian 12 Kernel: Depends on container host Compiler: gcc (Debian 12.2.0-14) 12.2.0 Fedora 41 Kernel: Depends on container host Compiler: gcc 14.2.1 20240912 (Red Hat 14.2.1-3) Fedora 41 (Clang) Kernel: Depends on container host Compiler: clang 19.1.5 (Fedora 19.1.5-1.fc41) Arch Linux Kernel: Depends on container host Compiler: gcc 14.2.1 20240910 Ubuntu 24.04 Kernel: Depends on container host Compiler: gcc (Ubuntu 13.3.0-6ubuntu2~24.04) 13.3.0 RHEL9 Kernel: Depends on container host Compiler: gcc 11.5.0 20240719 (Red Hat 11.5.0-2) Ubuntu 22.04 Kernel: Depends on container host Compiler: gcc (Ubuntu 11.4.0-1ubuntu1~22.04) 11.4.0 To view detailed results, visit: https://lab.dpdk.org/results/dashboard/tarballs/33211/ UNH-IOL DPDK Community Lab To manage your email subscriptions, visit: https://lab.dpdk.org/results/dashboard/preferences/subscriptions/