From mboxrd@z Thu Jan 1 00:00:00 1970 Return-Path: Received: from mails.dpdk.org (mails.dpdk.org [217.70.189.124]) by inbox.dpdk.org (Postfix) with ESMTP id 243AC46549 for ; Thu, 10 Apr 2025 03:58:58 +0200 (CEST) Received: from mails.dpdk.org (localhost [127.0.0.1]) by mails.dpdk.org (Postfix) with ESMTP id F2E45402E1; Thu, 10 Apr 2025 03:58:57 +0200 (CEST) Received: from mail-il1-f227.google.com (mail-il1-f227.google.com [209.85.166.227]) by mails.dpdk.org (Postfix) with ESMTP id BB9C440288 for ; Thu, 10 Apr 2025 03:58:56 +0200 (CEST) Received: by mail-il1-f227.google.com with SMTP id e9e14a558f8ab-3ce886a2d5bso3712315ab.1 for ; Wed, 09 Apr 2025 18:58:56 -0700 (PDT) DKIM-Signature: v=1; a=rsa-sha256; c=relaxed/relaxed; d=iol.unh.edu; s=unh-iol; t=1744250336; x=1744855136; darn=dpdk.org; h=cc:to:from:subject:message-id:date:from:to:cc:subject:date :message-id:reply-to; bh=Yu+/glFlGbpnPOZ9mGz+i1w2esImcTkg1LyqUGZx45w=; b=KjILN3UZgWhv1LC5O3bqjVUVury5BQ9KaF2rPpdnkvyrA9TRn3N2cXYkG1tGuYS/vb IwQzQ9VRhMl0fCZmd7DBBOIkdntabKaVS80+6NFQ8ctw77qAQDkMpsbvuY4Iq/trgvRV mZq95PEzKXVSRQz8zt085wS4DjHHYlenV6YQk= X-Google-DKIM-Signature: v=1; a=rsa-sha256; c=relaxed/relaxed; d=1e100.net; s=20230601; t=1744250336; x=1744855136; h=cc:to:from:subject:message-id:date:x-gm-message-state:from:to:cc :subject:date:message-id:reply-to; bh=Yu+/glFlGbpnPOZ9mGz+i1w2esImcTkg1LyqUGZx45w=; b=dTAWOnSWD26w+bcZ9sAFMZiEOY4oozpWwQ/DGq/kD6f5O8bjx7KrboifiNG+fDJQoi XHi7xyjlg88KOMAbYVnlyvvkhCmISxbBNuWSRF1asHK9myzZ8qK68fR+LmRbzgeQVJTv 8OSVPcVh42pi1buaiUtYuJ9CW6AmTV0DWbFdOrhXxFVZoSiJGGv8vi0rBUGxCIZQIVbB jDwebIOK7saKJiajkNTVjkAvVWAzSNYKu5OB1NF9483OGIMnXzQdwUZlYk39GPe5poo9 6G0Esb+O8tZorCDppmiRpbGRYC5PfCIopDQJsLQxSOoq2VHbY+fUSTIw2nqNb3+4KrBS kCIQ== X-Gm-Message-State: AOJu0YyVwDDbxefiC/5uAqNINT6pGe3YEUF0iwOq+5UicCiY+B3Sr5Ui a3vZ90zJEWFTYBi0YVQ4WRNEAPXbnwd+k7x9ziCJvGfnlLa/U9awzjkv9eSMpkAcEe/8/hM1K8g UfYLdG6d384u5ZKPvm527HH8sKAxdJePlAOKYlUwD X-Gm-Gg: ASbGncvytlDm+8hEU0n9oJPNWeaiLfMzLhRQKn1WaO2CqZc40EZWWINaU7ErIYjLVgd n/C6yhkJXOJ212cpIFPIeBdze02PKL24oGExVF2Hq4DOQRJI7pUUJL7YtXi2E2C3+/HLfe5vKC2 IkGHTaz4zcY/QzMJVO7VJuHSsOF9E/+NSPlVSBVhxDQxCZvHb79MaU58wDMxB1FRdIVq6YM21Mv zO+f7d2JsSNyJthoQyMbPsW1+cBeJK9KMJlCr/SCaYlJM47dwgDCdmDwBef9lTYBPILObRMGWrr iDj7rmMvQ6by64gjM/1jb/P+cO0lGd708bLR X-Google-Smtp-Source: AGHT+IFdyYUivASlXrijdH0XCP3B8nC0yrdG58MczIGWsp8OuviRSXangyjqyL+ZpHo/GHautuWJSaB0lVQ5 X-Received: by 2002:a05:6e02:1748:b0:3d1:7835:1031 with SMTP id e9e14a558f8ab-3d7e5f693f0mr4849725ab.7.1744250336064; Wed, 09 Apr 2025 18:58:56 -0700 (PDT) Received: from postal.iol.unh.edu (postal.iol.unh.edu. [132.177.123.84]) by smtp-relay.gmail.com with ESMTPS id e9e14a558f8ab-3d7dba78434sm2029525ab.12.2025.04.09.18.58.55 (version=TLS1_2 cipher=ECDHE-ECDSA-AES128-GCM-SHA256 bits=128/128); Wed, 09 Apr 2025 18:58:56 -0700 (PDT) X-Relaying-Domain: iol.unh.edu Date: Wed, 09 Apr 2025 18:58:56 -0700 (PDT) Message-ID: <67f725e0.050a0220.1c8536.67feSMTPIN_ADDED_MISSING@mx.google.com> Received: from [172.17.0.3] (unknown [172.18.0.217]) by postal.iol.unh.edu (Postfix) with ESMTP id 582396052471; Wed, 9 Apr 2025 21:58:55 -0400 (EDT) Subject: |SUCCESS| [GIT MASTER] 8ee74a69abcf48563f05adeafecd298bb03477a8 From: dpdklab@iol.unh.edu To: Test Report Cc: dpdk-test-reports@iol.unh.edu Content-Type: text/plain X-BeenThere: test-report@dpdk.org X-Mailman-Version: 2.1.29 Precedence: list List-Id: automatic DPDK test reports List-Unsubscribe: , List-Archive: List-Post: List-Help: List-Subscribe: , Errors-To: test-report-bounces@dpdk.org _Testing PASS_ Branch: dpdk 8ee74a69abcf48563f05adeafecd298bb03477a8 --> testing pass Upstream job id: ACVP-FIPS-testing#9502 Test environment and result as below: +--------------------+----------------------+----------------------+ | Environment | compressdev_zlib_pmd | dpdk_fips_validation | +====================+======================+======================+ | Ubuntu 22.04 (ARM) | PASS | SKIPPED | +--------------------+----------------------+----------------------+ | Ubuntu 22.04 | PASS | SKIPPED | +--------------------+----------------------+----------------------+ | Ubuntu 20.04 | SKIPPED | PASS | +--------------------+----------------------+----------------------+ Ubuntu 22.04 (ARM) Kernel: 5.15.0-97-generic Compiler: gcc gcc (Ubuntu 11.4.0-1ubuntu1~22.04) 11.4.0 Ubuntu 22.04 Kernel: 5.15.0-100-generic Compiler: gcc gcc (Ubuntu 11.4.0-1ubuntu1~22.04) 11.4.0 Ubuntu 20.04 Kernel: Depends on container host Compiler: gcc (Ubuntu 9.4.0-1ubuntu1~20.04.2) 9.4.0 To view detailed results, visit: https://lab.dpdk.org/results/dashboard/tarballs/33211/ UNH-IOL DPDK Community Lab To manage your email subscriptions, visit: https://lab.dpdk.org/results/dashboard/preferences/subscriptions/