From mboxrd@z Thu Jan  1 00:00:00 1970
Return-Path: <test-report-bounces@dpdk.org>
Received: from mails.dpdk.org (mails.dpdk.org [217.70.189.124])
	by inbox.dpdk.org (Postfix) with ESMTP id 038C74654A
	for <public@inbox.dpdk.org>; Thu, 10 Apr 2025 04:22:04 +0200 (CEST)
Received: from mails.dpdk.org (localhost [127.0.0.1])
	by mails.dpdk.org (Postfix) with ESMTP id D2C11402E1;
	Thu, 10 Apr 2025 04:22:04 +0200 (CEST)
Received: from mail-ua1-f100.google.com (mail-ua1-f100.google.com
 [209.85.222.100])
 by mails.dpdk.org (Postfix) with ESMTP id 425FF40288
 for <test-report@dpdk.org>; Thu, 10 Apr 2025 04:22:03 +0200 (CEST)
Received: by mail-ua1-f100.google.com with SMTP id
 a1e0cc1a2514c-86b9d1f729eso130453241.3
 for <test-report@dpdk.org>; Wed, 09 Apr 2025 19:22:03 -0700 (PDT)
DKIM-Signature: v=1; a=rsa-sha256; c=relaxed/relaxed;
 d=iol.unh.edu; s=unh-iol; t=1744251722; x=1744856522; darn=dpdk.org;
 h=references:in-reply-to:cc:to:from:subject:message-id:date:from:to
 :cc:subject:date:message-id:reply-to;
 bh=IiuF4w1jBYrHqbIrCdxTFCPdo9OQsSENAatElFO6AQo=;
 b=AFJTLDSiTccjNUnGSjYEtpz0OQE1MEgMF6vP1/tFkYeY3Sx0uUwzTo1R6pSxQdT9hP
 dnqnY9RHrAtGDLYYWJ+5JyyzweBfm2zmvcJ50p7Aellb9tggY5Y5jevANqyVd9ZogCWg
 FzIovgmxKQNHqY+oh9imLFMpFtETQz98O55QI=
X-Google-DKIM-Signature: v=1; a=rsa-sha256; c=relaxed/relaxed;
 d=1e100.net; s=20230601; t=1744251722; x=1744856522;
 h=references:in-reply-to:cc:to:from:subject:message-id:date
 :x-gm-message-state:from:to:cc:subject:date:message-id:reply-to;
 bh=IiuF4w1jBYrHqbIrCdxTFCPdo9OQsSENAatElFO6AQo=;
 b=ZrLNfPKgCVPSbn+SqFb2PLby8NTaB9xMS4sNoeb/I/7IksE3kdFiXDDP1yy/TfmXaG
 cDQEnPabgcc58vX6UFmqufhKLLCcqSy/Rp8moI3MD79OmEcwslHeQp58cSB3dVttUkM8
 Z6z7OyQaBvm+mOmqVeIGYBqLHM9hoFQg0pWtlDbSv4r8tb/CxiCA+/q/TujhLGEW/Jy6
 4E9I8//V++49GzPH9/um3xAUsZ6JOYlik0kWXSyCWUzMAS4gVcklRIVquf3dwdgAkj1v
 8gRuPxFeeRylXhU+NXUJRq35pBkSBUF+tP3slyPE1EKOX6ifuvAq1nxSYvf+bUafDEz2
 vkkw==
X-Gm-Message-State: AOJu0YzpvVVMLIt14Gtgq/G/x6agEsN2jjcKqNF6B5oHrDvPfKGYXvDC
 qkJ+tATXRg+Ekn1MZeamjzcB+MackA9HKo2JSuWb5j1aswEBKVNQXioB+gPy1lhSus6qcdJTjuX
 9sjZskDQZAYHXagvCIJba9yYJdZpn4SvqaxvBrG9TRnXZm+jvUQTOCItz
X-Gm-Gg: ASbGncvq8C51larDjkQ0dQGpVNUeL4rIbzTQLhYgikhJ+dKgMpELl7DsHOG9SrqXpNo
 JL3iMG1wX/SWviuJoQtfz3zuVmWEJCdfVKDAh85KL2b+ccrI5VuYUxIiadnnYNcfvU70YOIyaA7
 vldx/LOgUYBB9UV5fmkM4jTH0sK8sw9j3dekrFqYEEPF8s4B/23NrmSzvdlLSlWixK/ZXTAsf/o
 XliV30d38qYESOfSJGTuAcfVkFKDl8OLGR0e3+GN76NmQLBRHUerjMlpXUSlrbFa1YM0ryoK/ie
 cbhL7U1LKB1R9C3uXoEqHQ4jKsuvI89yGgI9gj/+sOEo4Wku
X-Google-Smtp-Source: AGHT+IEojPnIRfdhaV6rua0t2f3ToFcBR0V1I+aYFOxx/PvvbxQL0UsX3A74L4UJj9SZpy/V1Bfux7G8R5CU
X-Received: by 2002:a05:6102:1504:b0:4c4:df5b:330f with SMTP id
 ada2fe7eead31-4c9d35c5df5mr1060104137.17.1744251722591; 
 Wed, 09 Apr 2025 19:22:02 -0700 (PDT)
Received: from postal.iol.unh.edu (postal.iol.unh.edu.
 [2606:4100:3880:1234::84]) by smtp-relay.gmail.com with ESMTPS id
 a1e0cc1a2514c-87555fe05acsm92926241.0.2025.04.09.19.22.02
 (version=TLS1_2 cipher=ECDHE-ECDSA-AES128-GCM-SHA256 bits=128/128);
 Wed, 09 Apr 2025 19:22:02 -0700 (PDT)
X-Relaying-Domain: iol.unh.edu
Date: Wed, 09 Apr 2025 19:22:02 -0700 (PDT)
Message-ID: <67f72b4a.050a0220.6d4c2.2c25SMTPIN_ADDED_MISSING@mx.google.com>
Received: from [172.17.0.3] (unknown [172.18.0.217])
 by postal.iol.unh.edu (Postfix) with ESMTP id 306A96052471;
 Wed,  9 Apr 2025 22:22:02 -0400 (EDT)
Subject: |SUCCESS| pw152855-152856 [PATCH] [v5,2/2] node: use node mbuf dynfi
From: dpdklab@iol.unh.edu
To: Test Report <test-report@dpdk.org>
Cc: dpdk-test-reports@iol.unh.edu
In-Reply-To: <20250409135554.2180390-3-nsaxena@marvell.com>
References: <20250409135554.2180390-3-nsaxena@marvell.com>
Content-Type: text/plain
X-BeenThere: test-report@dpdk.org
X-Mailman-Version: 2.1.29
Precedence: list
List-Id: automatic DPDK test reports <test-report.dpdk.org>
List-Unsubscribe: <https://mails.dpdk.org/options/test-report>,
 <mailto:test-report-request@dpdk.org?subject=unsubscribe>
List-Archive: <http://mails.dpdk.org/archives/test-report/>
List-Post: <mailto:test-report@dpdk.org>
List-Help: <mailto:test-report-request@dpdk.org?subject=help>
List-Subscribe: <https://mails.dpdk.org/listinfo/test-report>,
 <mailto:test-report-request@dpdk.org?subject=subscribe>
Errors-To: test-report-bounces@dpdk.org

Test-Label: iol-compile-arm64-testing
Test-Status: SUCCESS
http://dpdk.org/patch/152856

_Testing PASS_

Submitter: Nitin Saxena <nsaxena@marvell.com>
Date: Wednesday, April 09 2025 13:55:53 
DPDK git baseline: Repo:dpdk
  Branch: master
  CommitID:8ee74a69abcf48563f05adeafecd298bb03477a8

152855-152856 --> testing pass

Upstream job id: Generic-DPDK-Compile-Meson#378920

Test environment and result as below:

+----------------------------------------+--------------------+
|              Environment               | dpdk_meson_compile |
+========================================+====================+
| RHEL9 (ARM)                            | PASS               |
+----------------------------------------+--------------------+
| Ubuntu 20.04 ARM GCC Cross Compile     | PASS               |
+----------------------------------------+--------------------+
| Debian 12 with MUSDK                   | PASS               |
+----------------------------------------+--------------------+
| Ubuntu 20.04 ARM SVE                   | PASS               |
+----------------------------------------+--------------------+
| Fedora 41 (ARM)                        | PASS               |
+----------------------------------------+--------------------+
| Fedora 40 (ARM Clang)                  | PASS               |
+----------------------------------------+--------------------+
| Fedora 40 (ARM)                        | PASS               |
+----------------------------------------+--------------------+
| Fedora 41 (ARM Clang)                  | PASS               |
+----------------------------------------+--------------------+
| Ubuntu 24.04 (ARM)                     | PASS               |
+----------------------------------------+--------------------+
| Ubuntu 20.04 (ARM)                     | PASS               |
+----------------------------------------+--------------------+
| CentOS Stream 9 (ARM)                  | PASS               |
+----------------------------------------+--------------------+
| CentOS Stream 10 (ARM)                 | PASS               |
+----------------------------------------+--------------------+
| Debian 12 (arm)                        | PASS               |
+----------------------------------------+--------------------+
| Ubuntu 20.04 ARM Clang Cross Compile   | PASS               |
+----------------------------------------+--------------------+
| Ubuntu 20.04 aarch32 GCC Cross Compile | PASS               |
+----------------------------------------+--------------------+
| Ubuntu 22.04 (ARM)                     | PASS               |
+----------------------------------------+--------------------+


RHEL9 (ARM)
	Kernel: Depends on container host
	Compiler: gcc 11.5.0 20240719 (Red Hat 11.5.0-2)

Ubuntu 20.04 ARM GCC Cross Compile
	Kernel: Depends on container host
	Compiler: aarch64-linux-gnu-gcc (Ubuntu 9.4.0-1ubuntu1~20.04.2) 9.4.0

Debian 12 with MUSDK
	Kernel: Depends on container host
	Compiler: gcc (Debian 12.2.0-14) 12.2.0

Ubuntu 20.04 ARM SVE
	Kernel: Depends on container host
	Compiler: gcc (Ubuntu 10.5.0-1ubuntu1~20.04) 10.5.0

Fedora 41 (ARM)
	Kernel: Depends on container host
	Compiler: gcc 14.2.1 20240912 (Red Hat 14.2.1-3)

Fedora 40 (ARM Clang)
	Kernel: Depends on container host
	Compiler: clang 18.1.8 (Fedora 18.1.8-1.fc40)

Fedora 40 (ARM)
	Kernel: Depends on container host
	Compiler: gcc 14.2.1 20240912 (Red Hat 14.2.1-3)

Fedora 41 (ARM Clang)
	Kernel: Depends on container host
	Compiler: clang 19.1.5 (Fedora 19.1.5-1.fc41)

Ubuntu 24.04 (ARM)
	Kernel: Depends on container host
	Compiler: gcc (Ubuntu 13.3.0-6ubuntu2~24.04) 13.3.0

Ubuntu 20.04 (ARM)
	Kernel: Depends on container host
	Compiler: gcc (Ubuntu 9.4.0-1ubuntu1~20.04.2) 9.4.0

CentOS Stream 9 (ARM)
	Kernel: Depends on container host
	Compiler: gcc 11.5.0 20240719 (Red Hat 11.5.0-2)

CentOS Stream 10 (ARM)
	Kernel: Depends on container host
	Compiler: gcc 14.2.1 20241104 (Red Hat 14.2.1-6)

Debian 12 (arm)
	Kernel: Depends on container host
	Compiler: gcc (Debian 12.2.0-14) 12.2.0

Ubuntu 20.04 ARM Clang Cross Compile
	Kernel: Depends on container host
	Compiler: clang 10.0.0-4ubuntu1

Ubuntu 20.04 aarch32 GCC Cross Compile
	Kernel: Depends on container host
	Compiler: gcc 9.4.0

Ubuntu 22.04 (ARM)
	Kernel: Depends on container host
	Compiler: gcc (Ubuntu 11.4.0-1ubuntu1~22.04) 11.4.0

To view detailed results, visit:
https://lab.dpdk.org/results/dashboard/patchsets/32982/

UNH-IOL DPDK Community Lab

To manage your email subscriptions, visit: 
https://lab.dpdk.org/results/dashboard/preferences/subscriptions/