From mboxrd@z Thu Jan 1 00:00:00 1970 Return-Path: Received: from mails.dpdk.org (mails.dpdk.org [217.70.189.124]) by inbox.dpdk.org (Postfix) with ESMTP id 210EA4654A for ; Thu, 10 Apr 2025 04:35:02 +0200 (CEST) Received: from mails.dpdk.org (localhost [127.0.0.1]) by mails.dpdk.org (Postfix) with ESMTP id E9779402E1; Thu, 10 Apr 2025 04:35:01 +0200 (CEST) Received: from mail-il1-f225.google.com (mail-il1-f225.google.com [209.85.166.225]) by mails.dpdk.org (Postfix) with ESMTP id B216A40288 for ; Thu, 10 Apr 2025 04:35:00 +0200 (CEST) Received: by mail-il1-f225.google.com with SMTP id e9e14a558f8ab-3d4496a34cdso1378515ab.1 for ; Wed, 09 Apr 2025 19:35:00 -0700 (PDT) DKIM-Signature: v=1; a=rsa-sha256; c=relaxed/relaxed; d=iol.unh.edu; s=unh-iol; t=1744252499; x=1744857299; darn=dpdk.org; h=cc:to:from:subject:message-id:date:from:to:cc:subject:date :message-id:reply-to; bh=ynGBWLSP37alJJcR7yiM+j2xj+azRADE7iWBzAzfnhQ=; b=Ydu/1fkrPyPbw1omH5LEk6LR1bo8qH0Y3L+uaKtSXjy4zSu1QeKiWeU87pS5PqVOXQ wUSd6QHA3z7kVpOzGjSGZIkDNSeBL4eocDqTQU4/7C9lMlDDHjNRTyxnG9Tdrsg6Kr8B g2Qh8yg0OSPWiF2se25jk9isTO3D2UWCuPMKI= X-Google-DKIM-Signature: v=1; a=rsa-sha256; c=relaxed/relaxed; d=1e100.net; s=20230601; t=1744252499; x=1744857299; h=cc:to:from:subject:message-id:date:x-gm-message-state:from:to:cc :subject:date:message-id:reply-to; bh=ynGBWLSP37alJJcR7yiM+j2xj+azRADE7iWBzAzfnhQ=; b=GnnEeE67XrOdmsqy3cRbuwpbVF28hhrpQORjvTMq7rvjUmk1xBEah11qPwvnF7+d8w wY2jvmpXZTQXGqR+qJ+LI/1TEjoyax04txDXno0GQwtnjbWq3mBsWb4CfLXgj64vAjiU N2vBWeyeXXEXKO7Z9xOFp9sTisYzu6q8QBbpzKDsH+sO2LlQtIGKThDP+SVYYm1rbLsk r7LJbxnmQfOU9YV691jhYYKpltRrdckIz28/C2C6LebytN+kwQP00SivUk/774hDC/pN hCEMFQUvhkyJUifaP+0VmxhOBMiqiDvUJ7WRVHnnpO3nbD++jV+X01OJ4AaPp3iAIdSo lPog== X-Gm-Message-State: AOJu0Ywyn+F8OB4TPf+yYgXUHNwfBtoqDKCMRdkxHsJuEd5ICkD7Ej6H mG09JgLbLR3EVc/tPkNeeBizV1wPtdLcsSn9DA92AQIy4aHUlVP0Wl9Lld34FiJiJi191ianco/ hyE4UM3590NFFcqSvs2Fz6c8lruK84tCQQ23h7adcOnoYlq9R5GLJaxXK X-Gm-Gg: ASbGncvKaFpabVPg+8nbjbzSCupFUyKYEhtEzasWGhVot6pFa7rUH83xkOB2SxupvD6 lA5n96Hoo1wGs9owjb8/IHW5XEyYaBnYrn/k0Bblrqyg61HaGWnMwvCXPelOZC0cIuf+dUlutka NF3b7mdYGN0FG7aYRLDl3BocEmWYqAwGWH//FmxrZqqhs2dmfnMma1vdVA8AJklugKisn/c0BRE gn6YDH48QZbm9LegQFEr++ipnmTbQuYsMfAeku0qaE13Y+sW2wfBrwdtQJrqfX45xf6sSCFX2Ip wM8FMDUxa/aZtiy6raPdOA3HOpjmyXF+eM33BBL5K1rkmHoT X-Google-Smtp-Source: AGHT+IFqhKDXPwQ+c+sUOqI9k00H9W0FvEV1JhiURDYfjHyan6nMWNALLPzxdIkhSZMlho+j2omuRm+gwY5q X-Received: by 2002:a05:6602:6a8b:b0:85b:4afc:11d1 with SMTP id ca18e2360f4ac-861706e09cdmr58316139f.5.1744252499737; Wed, 09 Apr 2025 19:34:59 -0700 (PDT) Received: from postal.iol.unh.edu (postal.iol.unh.edu. [2606:4100:3880:1234::84]) by smtp-relay.gmail.com with ESMTPS id ca18e2360f4ac-861656c99ffsm14826839f.23.2025.04.09.19.34.59 (version=TLS1_2 cipher=ECDHE-ECDSA-AES128-GCM-SHA256 bits=128/128); Wed, 09 Apr 2025 19:34:59 -0700 (PDT) X-Relaying-Domain: iol.unh.edu Date: Wed, 09 Apr 2025 19:34:59 -0700 (PDT) Message-ID: <67f72e53.050a0220.3b17f8.5091SMTPIN_ADDED_MISSING@mx.google.com> Received: from [172.17.0.3] (unknown [172.18.0.217]) by postal.iol.unh.edu (Postfix) with ESMTP id 234986052471; Wed, 9 Apr 2025 22:34:59 -0400 (EDT) Subject: |SUCCESS| [GIT MASTER] 8ee74a69abcf48563f05adeafecd298bb03477a8 From: dpdklab@iol.unh.edu To: Test Report Cc: dpdk-test-reports@iol.unh.edu Content-Type: text/plain X-BeenThere: test-report@dpdk.org X-Mailman-Version: 2.1.29 Precedence: list List-Id: automatic DPDK test reports List-Unsubscribe: , List-Archive: List-Post: List-Help: List-Subscribe: , Errors-To: test-report-bounces@dpdk.org _Testing PASS_ Branch: dpdk 8ee74a69abcf48563f05adeafecd298bb03477a8 --> testing pass Upstream job id: Generic-DPDK-Compile-Meson#378942 Test environment and result as below: +----------------------------------------+--------------------+ | Environment | dpdk_meson_compile | +========================================+====================+ | Ubuntu 20.04 ARM SVE | PASS | +----------------------------------------+--------------------+ | Ubuntu 20.04 ARM GCC Cross Compile | PASS | +----------------------------------------+--------------------+ | Fedora 40 (ARM) | PASS | +----------------------------------------+--------------------+ | Debian 12 with MUSDK | PASS | +----------------------------------------+--------------------+ | Fedora 40 (ARM Clang) | PASS | +----------------------------------------+--------------------+ | Fedora 41 (ARM) | PASS | +----------------------------------------+--------------------+ | Fedora 41 (ARM Clang) | PASS | +----------------------------------------+--------------------+ | Ubuntu 24.04 (ARM) | PASS | +----------------------------------------+--------------------+ | Ubuntu 22.04 (ARM) | PASS | +----------------------------------------+--------------------+ | Ubuntu 20.04 (ARM) | PASS | +----------------------------------------+--------------------+ | CentOS Stream 9 (ARM) | PASS | +----------------------------------------+--------------------+ | CentOS Stream 10 (ARM) | PASS | +----------------------------------------+--------------------+ | Debian 12 (arm) | PASS | +----------------------------------------+--------------------+ | Ubuntu 20.04 ARM Clang Cross Compile | PASS | +----------------------------------------+--------------------+ | RHEL9 (ARM) | PASS | +----------------------------------------+--------------------+ | Ubuntu 20.04 aarch32 GCC Cross Compile | PASS | +----------------------------------------+--------------------+ Ubuntu 20.04 ARM SVE Kernel: Depends on container host Compiler: gcc (Ubuntu 10.5.0-1ubuntu1~20.04) 10.5.0 Ubuntu 20.04 ARM GCC Cross Compile Kernel: Depends on container host Compiler: aarch64-linux-gnu-gcc (Ubuntu 9.4.0-1ubuntu1~20.04.2) 9.4.0 Fedora 40 (ARM) Kernel: Depends on container host Compiler: gcc 14.2.1 20240912 (Red Hat 14.2.1-3) Debian 12 with MUSDK Kernel: Depends on container host Compiler: gcc (Debian 12.2.0-14) 12.2.0 Fedora 40 (ARM Clang) Kernel: Depends on container host Compiler: clang 18.1.8 (Fedora 18.1.8-1.fc40) Fedora 41 (ARM) Kernel: Depends on container host Compiler: gcc 14.2.1 20240912 (Red Hat 14.2.1-3) Fedora 41 (ARM Clang) Kernel: Depends on container host Compiler: clang 19.1.5 (Fedora 19.1.5-1.fc41) Ubuntu 24.04 (ARM) Kernel: Depends on container host Compiler: gcc (Ubuntu 13.3.0-6ubuntu2~24.04) 13.3.0 Ubuntu 22.04 (ARM) Kernel: Depends on container host Compiler: gcc (Ubuntu 11.4.0-1ubuntu1~22.04) 11.4.0 Ubuntu 20.04 (ARM) Kernel: Depends on container host Compiler: gcc (Ubuntu 9.4.0-1ubuntu1~20.04.2) 9.4.0 CentOS Stream 9 (ARM) Kernel: Depends on container host Compiler: gcc 11.5.0 20240719 (Red Hat 11.5.0-2) CentOS Stream 10 (ARM) Kernel: Depends on container host Compiler: gcc 14.2.1 20241104 (Red Hat 14.2.1-6) Debian 12 (arm) Kernel: Depends on container host Compiler: gcc (Debian 12.2.0-14) 12.2.0 Ubuntu 20.04 ARM Clang Cross Compile Kernel: Depends on container host Compiler: clang 10.0.0-4ubuntu1 RHEL9 (ARM) Kernel: Depends on container host Compiler: gcc 11.5.0 20240719 (Red Hat 11.5.0-2) Ubuntu 20.04 aarch32 GCC Cross Compile Kernel: Depends on container host Compiler: gcc 9.4.0 To view detailed results, visit: https://lab.dpdk.org/results/dashboard/tarballs/33211/ UNH-IOL DPDK Community Lab To manage your email subscriptions, visit: https://lab.dpdk.org/results/dashboard/preferences/subscriptions/