From mboxrd@z Thu Jan 1 00:00:00 1970 Return-Path: Received: from mails.dpdk.org (mails.dpdk.org [217.70.189.124]) by inbox.dpdk.org (Postfix) with ESMTP id 590474654E for ; Thu, 10 Apr 2025 08:25:42 +0200 (CEST) Received: from mails.dpdk.org (localhost [127.0.0.1]) by mails.dpdk.org (Postfix) with ESMTP id 51C7240665; Thu, 10 Apr 2025 08:25:42 +0200 (CEST) Received: from mail-io1-f97.google.com (mail-io1-f97.google.com [209.85.166.97]) by mails.dpdk.org (Postfix) with ESMTP id D944C402ED for ; Thu, 10 Apr 2025 08:25:40 +0200 (CEST) Received: by mail-io1-f97.google.com with SMTP id ca18e2360f4ac-85ea482e3adso49791739f.0 for ; Wed, 09 Apr 2025 23:25:40 -0700 (PDT) DKIM-Signature: v=1; a=rsa-sha256; c=relaxed/relaxed; d=iol.unh.edu; s=unh-iol; t=1744266340; x=1744871140; darn=dpdk.org; h=references:in-reply-to:cc:to:from:subject:message-id:date:from:to :cc:subject:date:message-id:reply-to; bh=dCxEEkJv5P80LAynilZJVL6MjIN+BAxLNfRQfgiU0Is=; b=EgvDL7fEkTD8mnZ/C+B6htKumHMBr5jj9GoKfMmV3xT9rENhYdsdE+rMDGnfwVh9UY /9BcaSgBUASNzApV8pABWSq6oFarEhaosCNiA0bzR+G2qhZNj4ouGT2kpbBXHXZG5+H4 J91boY4Bn1YlGZep0VdgJrhP0FNtWNLkiASyU= X-Google-DKIM-Signature: v=1; a=rsa-sha256; c=relaxed/relaxed; d=1e100.net; s=20230601; t=1744266340; x=1744871140; h=references:in-reply-to:cc:to:from:subject:message-id:date :x-gm-message-state:from:to:cc:subject:date:message-id:reply-to; bh=dCxEEkJv5P80LAynilZJVL6MjIN+BAxLNfRQfgiU0Is=; b=OSbW7ol4a158jxAOmH6vwcUw4p1N+XZEvTZsemBTm/E76G9HpuibgfretIqgyWb+/F WTQ+TsyyUTXmNWVnJEPj/m0n+8jfV7aWn40DpA3KBktkalaWz4BOOS2t86Pw/ashQIjN hYqp0IaafzsVPLttuyFi4QDT6zNxgBtyOIZBtFUyP27Gi1Ee2jchA/ShpOi/nEeYvopA 6RyyVlOW5DgUfJNfdPPC+6IJOV1OuhUa8zQlxW1Ka2UzXa1SWBZSSK2HA7VqNYwRdKUY 2CFSpRxhZDx84pGBtVo6CacI2g83AsHfOt6BOmzTiGJLmyfWA3/m8Fv3YTqaPOoOYPfm PSKg== X-Gm-Message-State: AOJu0Yys0hMWBPAL2o+ovM6pCJiB8vCmsrkRka3cGHDwGsp5FMBDegqD wpGXnuORst6I2l4FwZ+xrENs7fIPxk05EJ/ndGtqRaylerwNwBd+Cgo8kbHzRu00eDZaiM6xzbs buGPoj3bGGsSGCMqLbXQhNwBUYp2UuQrPLkDkQr9mRLY4qP2OuDb35cZO X-Gm-Gg: ASbGncvy/ruho1bgCPAHRCCqc8wNY67F6/vZwe8djCHC0DqujtKkA8MmB+5dDH6mxkQ vR15BKgVLTyUm+JRE4nOTZG9IUZSezAe06IFl2bDPPa4Cvm6FS8PbqNFZ6PGk8i6MJYs4VbVTAp SgznIjnL216zKD5AH+WUTheAxbs02tiZCbwWDvPab4jqng6vufbnrNtneDDszmHIvLbKYF9cK9z f61enzfTgUTXvLZOiPFS3O6d/fqi9O8nE3dpL1Il1L8Joh3QCkTBb137Ecw7TSNU95TEvqqtvHW h6nOaggnLvwduk0rMFQvlXv8bP49HXO1ienkmdWEE2C+u/Jf X-Google-Smtp-Source: AGHT+IH4ccJ0SKSvzXY4dv3ugSVRNeHur7f7NZvTgoIifDXSnbYPhZlz0Mei4p67uLijI/xSl9ahOoeBB/6V X-Received: by 2002:a92:de0e:0:b0:3d1:84ad:165e with SMTP id e9e14a558f8ab-3d7e4cf05femr12578725ab.7.1744266340215; Wed, 09 Apr 2025 23:25:40 -0700 (PDT) Received: from postal.iol.unh.edu (postal.iol.unh.edu. [2606:4100:3880:1234::84]) by smtp-relay.gmail.com with ESMTPS id e9e14a558f8ab-3d7dbaa418dsm2396305ab.34.2025.04.09.23.25.40 (version=TLS1_2 cipher=ECDHE-ECDSA-AES128-GCM-SHA256 bits=128/128); Wed, 09 Apr 2025 23:25:40 -0700 (PDT) X-Relaying-Domain: iol.unh.edu Date: Wed, 09 Apr 2025 23:25:40 -0700 (PDT) Message-ID: <67f76464.050a0220.2ca30b.85d6SMTPIN_ADDED_MISSING@mx.google.com> Received: from [172.21.0.6] (unknown [172.18.0.240]) by postal.iol.unh.edu (Postfix) with ESMTP id A2B586052471; Thu, 10 Apr 2025 02:25:39 -0400 (EDT) Subject: |SUCCESS| pw152861-152864 [PATCH] [v7,4/4] net/idpf: use common Tx f From: dpdklab@iol.unh.edu To: Test Report Cc: dpdk-test-reports@iol.unh.edu In-Reply-To: <20250410052406.293110-5-shaiq.wani@intel.com> References: <20250410052406.293110-5-shaiq.wani@intel.com> Content-Type: text/plain X-BeenThere: test-report@dpdk.org X-Mailman-Version: 2.1.29 Precedence: list List-Id: automatic DPDK test reports List-Unsubscribe: , List-Archive: List-Post: List-Help: List-Subscribe: , Errors-To: test-report-bounces@dpdk.org Test-Label: iol-compile-amd64-testing Test-Status: SUCCESS http://dpdk.org/patch/152864 _Testing PASS_ Submitter: Shaiq Wani Date: Thursday, April 10 2025 05:24:06 DPDK git baseline: Repo:dpdk Branch: master CommitID:d7817c378fecd07c59360667f93c25dff4b1a145 152861-152864 --> testing pass Upstream job id: Generic-VM-DPDK-Compile-Meson#34532 Test environment and result as below: +---------------------+-------------------+--------------------+ | Environment | dpdk_msvc_compile | dpdk_meson_compile | +=====================+===================+====================+ | Windows Server 2022 | PASS | SKIPPED | +---------------------+-------------------+--------------------+ | FreeBSD 13.5 | SKIPPED | PASS | +---------------------+-------------------+--------------------+ | FreeBSD 14.2 | SKIPPED | PASS | +---------------------+-------------------+--------------------+ | Ubuntu 20.04 | SKIPPED | PASS | +---------------------+-------------------+--------------------+ Windows Server 2022 Kernel: 10.0.20348.2031 Compiler: clang 15.0.7, gcc 14.1.0 (MinGW), and MSVC VS 19.39.33521 FreeBSD 13.5 Kernel: 13.5-RELEASE Compiler: clang 19.1.7 FreeBSD 14.2 Kernel: 14.2-RELEASE Compiler: clang 18.1.6 Ubuntu 20.04 Kernel: 4.19.325-0419325-generic Compiler: gcc (Ubuntu 9.4.0-1ubuntu1~20.04.2) 9.4.0 To view detailed results, visit: https://lab.dpdk.org/results/dashboard/patchsets/32984/ UNH-IOL DPDK Community Lab To manage your email subscriptions, visit: https://lab.dpdk.org/results/dashboard/preferences/subscriptions/