From mboxrd@z Thu Jan 1 00:00:00 1970 Return-Path: Received: from mails.dpdk.org (mails.dpdk.org [217.70.189.124]) by inbox.dpdk.org (Postfix) with ESMTP id 9A7794654E for ; Thu, 10 Apr 2025 08:38:00 +0200 (CEST) Received: from mails.dpdk.org (localhost [127.0.0.1]) by mails.dpdk.org (Postfix) with ESMTP id 6CBDA40665; Thu, 10 Apr 2025 08:38:00 +0200 (CEST) Received: from mail-yw1-f228.google.com (mail-yw1-f228.google.com [209.85.128.228]) by mails.dpdk.org (Postfix) with ESMTP id C306D402ED for ; Thu, 10 Apr 2025 08:37:58 +0200 (CEST) Received: by mail-yw1-f228.google.com with SMTP id 00721157ae682-6fead015247so4219267b3.2 for ; Wed, 09 Apr 2025 23:37:58 -0700 (PDT) DKIM-Signature: v=1; a=rsa-sha256; c=relaxed/relaxed; d=iol.unh.edu; s=unh-iol; t=1744267078; x=1744871878; darn=dpdk.org; h=cc:to:from:subject:message-id:date:from:to:cc:subject:date :message-id:reply-to; bh=vGQemH1vjdpyOZHXBQk4BIEiMLIJPaSdOIc/dl5jHhQ=; b=YCcZbj4R/2Ow/ZNBoyL6z5rIxR+psHAi7bh2eGyoEFscSQ5MSEnvTG1a87dLjnTH3Z AQzcfhAF86eKiptFtwB0np15KgA+iCKSzz1hBvOxwRftFhOk/aHCL+B7M26VnEvsAfGA em9dbFadZBXcbDreM47Q/vwJ9VqVsqMX7a3xg= X-Google-DKIM-Signature: v=1; a=rsa-sha256; c=relaxed/relaxed; d=1e100.net; s=20230601; t=1744267078; x=1744871878; h=cc:to:from:subject:message-id:date:x-gm-message-state:from:to:cc :subject:date:message-id:reply-to; bh=vGQemH1vjdpyOZHXBQk4BIEiMLIJPaSdOIc/dl5jHhQ=; b=kWGJZ55FBc8+/vgi2ggrNJ9dZLaBC4m8C2+ezUi/P0xi9uXfHYT+8CTE9fgpdEVGnR B+KnBR8YY+m07OJ5VDFtqi/aC+QfmrzE2I9MDLR+vux9Vh5OnlUGgAFCi1Jpneyv5CZK Aw13Np5BOV6SuCpuWZHk7WovSo7N+fcthh2poV2mqZimyX64MCm6/t0dSlYCA4MGcc99 JZO3NO6MfFh51es0aXFxVC37ENdStq5f32r5Yqp59tNHaqgkK22omQIJMOISeQ6ZPr4x PCwlmII0MwxEooOTMjYBLWKQER9zfRmRyuIgSOVqLj+0VEV17/z1N/ZEtKA3GcMxMrLX aKgw== X-Gm-Message-State: AOJu0YwvhJ9CrFXSrrmC+Y/jajCqexQ14Rlgu8G1uMAjY50NGqKqPLYn RSVBFc1RItOnLSWLo/QfpOM/NqgSaNd3DDCk5hemwjhm/lWTZWP/jp+GQIz5qv6rRliIvhoQ36N wmZb/Sw6xqB8KbH5ZVgw5HY59j1zPJHRhnJ4mq1fc/Jo6SYdl X-Gm-Gg: ASbGnctfeTTjuBHPLYHFk9HZpyP+IFUvLfioLxSTT1X8LIHN0k4dHDn01tyo2EofBo5 FDB1hNJ4yshEu6oJOq+UmW0CV9pCvB9iSgH4ISXi9vzH94Ng++64grrfdMhxknz5q2W+KeH0sEm CmLL22kF3Jxx4nDcd3RMvwjvNdZk3zyqMQLSlP3DA3cubuVN7t77d/eTDJiUI3QD3yEUCFw3GKg lgSHhQQuE0bl4xlSyB5AtLonllEI4qCAdk/V4jxsWHU5XMSPJA6TeIDxkAZ3xNb6o7Aootldg30 rSfAHA8ikMil7Z3YOP85gjc411XF1VUuxdtuDfx72UguMLgk X-Google-Smtp-Source: AGHT+IEgVrcxcWP8sXCFMWqsqgJ9vGyzX31KOhHsazqaoCdJ+M/X5VjYH0/HYV6GJPM7MlZHLB7pz9egtiM5 X-Received: by 2002:a05:690c:4d48:b0:6f6:d01c:af1f with SMTP id 00721157ae682-70549e9ae8bmr25492557b3.16.1744267078117; Wed, 09 Apr 2025 23:37:58 -0700 (PDT) Received: from postal.iol.unh.edu (postal.iol.unh.edu. [2606:4100:3880:1234::84]) by smtp-relay.gmail.com with ESMTPS id 00721157ae682-7053e3945basm1979547b3.68.2025.04.09.23.37.58 (version=TLS1_2 cipher=ECDHE-ECDSA-AES128-GCM-SHA256 bits=128/128); Wed, 09 Apr 2025 23:37:58 -0700 (PDT) X-Relaying-Domain: iol.unh.edu Date: Wed, 09 Apr 2025 23:37:58 -0700 (PDT) Message-ID: <67f76746.050a0220.8d5b5.6336SMTPIN_ADDED_MISSING@mx.google.com> Received: from [172.21.0.5] (unknown [172.18.0.240]) by postal.iol.unh.edu (Postfix) with ESMTP id AE8CD6052471; Thu, 10 Apr 2025 02:37:57 -0400 (EDT) Subject: |SUCCESS| [GIT MASTER] 4401486b5e30d43a134f80f9802f60b5f43e74a8 From: dpdklab@iol.unh.edu To: Test Report Cc: dpdk-test-reports@iol.unh.edu, Xueming Li , Christian Ehrhardt , Kevin Traynor , Luca Boccassi Content-Type: text/plain X-BeenThere: test-report@dpdk.org X-Mailman-Version: 2.1.29 Precedence: list List-Id: automatic DPDK test reports List-Unsubscribe: , List-Archive: List-Post: List-Help: List-Subscribe: , Errors-To: test-report-bounces@dpdk.org _Testing PASS_ Branch: tags/v22.11 4401486b5e30d43a134f80f9802f60b5f43e74a8 --> testing pass Upstream job id: Generic-DPDK-Compile-ABI#122949 Test environment and result as below: +-------------------+----------+ | Environment | abi_test | +===================+==========+ | CentOS Stream 9 | PASS | +-------------------+----------+ | CentOS Stream 10 | PASS | +-------------------+----------+ | Fedora 40 | PASS | +-------------------+----------+ | Debian 12 | PASS | +-------------------+----------+ | Fedora 40 (Clang) | PASS | +-------------------+----------+ | Ubuntu 24.04 | PASS | +-------------------+----------+ | Fedora 41 | PASS | +-------------------+----------+ | openSUSE Leap 15 | PASS | +-------------------+----------+ | RHEL8 | PASS | +-------------------+----------+ | Fedora 41 (Clang) | PASS | +-------------------+----------+ | RHEL9 | PASS | +-------------------+----------+ | Ubuntu 22.04 | PASS | +-------------------+----------+ CentOS Stream 9 Kernel: Depends on container host Compiler: gcc 11.5.0 20240719 (Red Hat 11.5.0-2) CentOS Stream 10 Kernel: Depends on container host Compiler: gcc 14.2.1 20241104 (Red Hat 14.2.1-6) Fedora 40 Kernel: Depends on container host Compiler: gcc 14.2.1 20240912 (Red Hat 14.2.1-3) Debian 12 Kernel: Depends on container host Compiler: gcc (Debian 12.2.0-14) 12.2.0 Fedora 40 (Clang) Kernel: Depends on container host Compiler: clang 18.1.8 (Fedora 18.1.8-1.fc40) Ubuntu 24.04 Kernel: Depends on container host Compiler: gcc (Ubuntu 13.3.0-6ubuntu2~24.04) 13.3.0 Fedora 41 Kernel: Depends on container host Compiler: gcc 14.2.1 20240912 (Red Hat 14.2.1-3) openSUSE Leap 15 Kernel: Depends on container host Compiler: gcc (SUSE Linux) 7.5.0 RHEL8 Kernel: Depends on container host Compiler: gcc 8.5.0 20210514 (Red Hat 8.5.0-22) Fedora 41 (Clang) Kernel: Depends on container host Compiler: clang 19.1.5 (Fedora 19.1.5-1.fc41) RHEL9 Kernel: Depends on container host Compiler: gcc 11.5.0 20240719 (Red Hat 11.5.0-2) Ubuntu 22.04 Kernel: Depends on container host Compiler: gcc (Ubuntu 11.4.0-1ubuntu1~22.04) 11.4.0 To view detailed results, visit: https://lab.dpdk.org/results/dashboard/tarballs/33214/ UNH-IOL DPDK Community Lab To manage your email subscriptions, visit: https://lab.dpdk.org/results/dashboard/preferences/subscriptions/