From mboxrd@z Thu Jan 1 00:00:00 1970 Return-Path: Received: from mails.dpdk.org (mails.dpdk.org [217.70.189.124]) by inbox.dpdk.org (Postfix) with ESMTP id 0D0CE46550 for ; Thu, 10 Apr 2025 10:20:43 +0200 (CEST) Received: from mails.dpdk.org (localhost [127.0.0.1]) by mails.dpdk.org (Postfix) with ESMTP id D6C4940669; Thu, 10 Apr 2025 10:20:42 +0200 (CEST) Received: from mail-il1-f227.google.com (mail-il1-f227.google.com [209.85.166.227]) by mails.dpdk.org (Postfix) with ESMTP id 7B6F7402ED for ; Thu, 10 Apr 2025 10:20:41 +0200 (CEST) Received: by mail-il1-f227.google.com with SMTP id e9e14a558f8ab-3d5eb0ec2bdso1716405ab.2 for ; Thu, 10 Apr 2025 01:20:41 -0700 (PDT) DKIM-Signature: v=1; a=rsa-sha256; c=relaxed/relaxed; d=iol.unh.edu; s=unh-iol; t=1744273240; x=1744878040; darn=dpdk.org; h=references:in-reply-to:cc:to:from:subject:message-id:date:from:to :cc:subject:date:message-id:reply-to; bh=K6zNiU9PKSfJYm7G3Hfidl9y3pAUf02GEMIthJJPfP0=; b=MbNvStWedjLzyyxXbr9bUmN8cA2uVsI41PATqdo0znu2B6BJKO2vBCEy+rMCwzSEEn 2hZrtW3gdM+qIv1eOZi7MmDKJntM+otudHeoYCzhJpAp0Fq8QAuda7vr4jjzZIe7XkOl zkdbHlZbsRoyLclNqwULDEtbLkQ8v8P8+K15M= X-Google-DKIM-Signature: v=1; a=rsa-sha256; c=relaxed/relaxed; d=1e100.net; s=20230601; t=1744273240; x=1744878040; h=references:in-reply-to:cc:to:from:subject:message-id:date :x-gm-message-state:from:to:cc:subject:date:message-id:reply-to; bh=K6zNiU9PKSfJYm7G3Hfidl9y3pAUf02GEMIthJJPfP0=; b=q8rLgiGJDO7Y+M6xa8jUKoVhn7YaVsx20h62MKC6hDnVgtrupeN2F/IsVpFJG7Io5Q kI4LeLv7oP/4fn+dJURForP+aj2+pxDo9KEoMdCIye1cy6lcMpnhA6dhJ7QvcREGm7B2 5hAFwKJ+/YKzjSNXrO5yRabfzODWAWBaU4l36T4Ns+dRxiCRR2zbyvGvjYYlQDpOOrHv p1UfdCWM4gowKwkcbI6m9kqu9Xq6RN0so6RjgowZl7k/YaojnPLOEeUlXe2CV2++qjiH LIFaAcql0Io+U/oe09xXkN7QtJIfPM/jmSzarvKUwnlW0SLO4RPJBl+z6h3jxS7KxZCJ zjdA== X-Gm-Message-State: AOJu0YxoFVjo/WhrR2PWxPai8rI0q+0vaDhhSlSDriQXvmFKHgFRz/lH rTq7EpYK2milNWyqTn2u2yYZVZhOPM8d3sL62ZAGkByFRRQtMUyaZsQ5rPRYYZLLJEAPD/beOLk b/YRgogFnzbUJHXAU2W+z9XjvOiSIOna7tvGTMhfM X-Gm-Gg: ASbGncsaQhXdx2Yli1EVYBsE4C+gcNgbbI+CFuarKc6UW1++8ZfjTz0ORwS7dx3JwDb b3nRXEJKkKBi+nY43HUh5dYiYpca4C/xGT2c/nyuZzr7gmmuyMCIZZmGvgvn5rGg4KTnFAC8jQE n7r5bNAAhmfsY8HQi/EStk1XKRxPo7TsAsW/VpdLllm+3uzsx7Onef99Q/iqZOolY7IWFu/SPRO +XVkIhJmYgAn67K6seO12zAce+SjTVan3ZJN67EcMiowHKdM5BgfgUMD7r7KrjRs4ArsjUf1KNr 7Xu9ikahSOO1sHmFe+jh/FsrAC/QhOUSgJBh X-Google-Smtp-Source: AGHT+IHqjGmjxUV/sSfuSvft4is0p9Js47KUPt3KJPDRJ9gliAW95hlnkVwjQGpr6fY6lrKqhp9H00m70JYK X-Received: by 2002:a05:6e02:2162:b0:3d3:d965:62c4 with SMTP id e9e14a558f8ab-3d7e5f6a34emr12188075ab.10.1744273240542; Thu, 10 Apr 2025 01:20:40 -0700 (PDT) Received: from postal.iol.unh.edu (postal.iol.unh.edu. [132.177.123.84]) by smtp-relay.gmail.com with ESMTPS id 8926c6da1cb9f-4f505e2e777sm220918173.61.2025.04.10.01.20.40 (version=TLS1_2 cipher=ECDHE-ECDSA-AES128-GCM-SHA256 bits=128/128); Thu, 10 Apr 2025 01:20:40 -0700 (PDT) X-Relaying-Domain: iol.unh.edu Date: Thu, 10 Apr 2025 01:20:40 -0700 (PDT) Message-ID: <67f77f58.050a0220.2a00db.71e2SMTPIN_ADDED_MISSING@mx.google.com> Received: from [172.21.0.5] (unknown [172.18.0.240]) by postal.iol.unh.edu (Postfix) with ESMTP id AEB386052471; Thu, 10 Apr 2025 04:20:39 -0400 (EDT) Subject: |SUCCESS| pw152861-152864 [PATCH] [v7,4/4] net/idpf: use common Tx f From: dpdklab@iol.unh.edu To: Test Report Cc: dpdk-test-reports@iol.unh.edu In-Reply-To: <20250410052406.293110-5-shaiq.wani@intel.com> References: <20250410052406.293110-5-shaiq.wani@intel.com> Content-Type: text/plain X-BeenThere: test-report@dpdk.org X-Mailman-Version: 2.1.29 Precedence: list List-Id: automatic DPDK test reports List-Unsubscribe: , List-Archive: List-Post: List-Help: List-Subscribe: , Errors-To: test-report-bounces@dpdk.org Test-Label: iol-unit-arm64-testing Test-Status: SUCCESS http://dpdk.org/patch/152864 _Testing PASS_ Submitter: Shaiq Wani Date: Thursday, April 10 2025 05:24:06 DPDK git baseline: Repo:dpdk Branch: master CommitID:d7817c378fecd07c59360667f93c25dff4b1a145 152861-152864 --> testing pass Upstream job id: Generic-Unit-Test-DPDK#330194 Test environment and result as below: +-----------------------------+----------------+--------------+---------------------------+------------------------------+ | Environment | dpdk_unit_test | lpm_autotest | cryptodev_sw_zuc_autotest | cryptodev_sw_snow3g_autotest | +=============================+================+==============+===========================+==============================+ | 32-bit Ubuntu 22.04.4 (ARM) | PASS | SKIPPED | SKIPPED | SKIPPED | +-----------------------------+----------------+--------------+---------------------------+------------------------------+ | CentOS Stream 9 (ARM) | PASS | SKIPPED | SKIPPED | SKIPPED | +-----------------------------+----------------+--------------+---------------------------+------------------------------+ | CentOS Stream 10 (ARM) | PASS | SKIPPED | SKIPPED | SKIPPED | +-----------------------------+----------------+--------------+---------------------------+------------------------------+ | Fedora 40 (ARM Clang) | PASS | SKIPPED | SKIPPED | SKIPPED | +-----------------------------+----------------+--------------+---------------------------+------------------------------+ | Fedora 41 (ARM Clang) | PASS | SKIPPED | SKIPPED | SKIPPED | +-----------------------------+----------------+--------------+---------------------------+------------------------------+ | Debian 12 (arm) | PASS | SKIPPED | PASS | PASS | +-----------------------------+----------------+--------------+---------------------------+------------------------------+ | RHEL9 (ARM) | PASS | SKIPPED | SKIPPED | SKIPPED | +-----------------------------+----------------+--------------+---------------------------+------------------------------+ | Fedora 40 (ARM) | PASS | SKIPPED | SKIPPED | SKIPPED | +-----------------------------+----------------+--------------+---------------------------+------------------------------+ | Fedora 41 (ARM) | PASS | SKIPPED | SKIPPED | SKIPPED | +-----------------------------+----------------+--------------+---------------------------+------------------------------+ | Ubuntu 20.04 (ARM) | PASS | SKIPPED | SKIPPED | SKIPPED | +-----------------------------+----------------+--------------+---------------------------+------------------------------+ | Ubuntu 22.04 (ARM) | PASS | SKIPPED | SKIPPED | SKIPPED | +-----------------------------+----------------+--------------+---------------------------+------------------------------+ | Ubuntu 24.04 (ARM) | PASS | SKIPPED | SKIPPED | SKIPPED | +-----------------------------+----------------+--------------+---------------------------+------------------------------+ | Ubuntu 20.04 ARM SVE | SKIPPED | PASS | SKIPPED | SKIPPED | +-----------------------------+----------------+--------------+---------------------------+------------------------------+ 32-bit Ubuntu 22.04.4 (ARM) Kernel: 5.15.83+ aarch64 Compiler: gcc (Ubuntu 11.4.0-1ubuntu1~22.04) 11.4.0 CentOS Stream 9 (ARM) Kernel: Depends on container host Compiler: gcc 11.5.0 20240719 (Red Hat 11.5.0-2) CentOS Stream 10 (ARM) Kernel: Depends on container host Compiler: gcc 14.2.1 20241104 (Red Hat 14.2.1-6) Fedora 40 (ARM Clang) Kernel: Depends on container host Compiler: clang 18.1.8 (Fedora 18.1.8-1.fc40) Fedora 41 (ARM Clang) Kernel: Depends on container host Compiler: clang 19.1.5 (Fedora 19.1.5-1.fc41) Debian 12 (arm) Kernel: Depends on container host Compiler: gcc (Debian 12.2.0-14) 12.2.0 RHEL9 (ARM) Kernel: Depends on container host Compiler: gcc 11.5.0 20240719 (Red Hat 11.5.0-2) Fedora 40 (ARM) Kernel: Depends on container host Compiler: gcc 14.2.1 20240912 (Red Hat 14.2.1-3) Fedora 41 (ARM) Kernel: Depends on container host Compiler: gcc 14.2.1 20240912 (Red Hat 14.2.1-3) Ubuntu 20.04 (ARM) Kernel: Depends on container host Compiler: gcc (Ubuntu 9.4.0-1ubuntu1~20.04.2) 9.4.0 Ubuntu 22.04 (ARM) Kernel: Depends on container host Compiler: gcc (Ubuntu 11.4.0-1ubuntu1~22.04) 11.4.0 Ubuntu 24.04 (ARM) Kernel: Depends on container host Compiler: gcc (Ubuntu 13.3.0-6ubuntu2~24.04) 13.3.0 Ubuntu 20.04 ARM SVE Kernel: Depends on container host Compiler: gcc (Ubuntu 10.5.0-1ubuntu1~20.04) 10.5.0 To view detailed results, visit: https://lab.dpdk.org/results/dashboard/patchsets/32984/ UNH-IOL DPDK Community Lab To manage your email subscriptions, visit: https://lab.dpdk.org/results/dashboard/preferences/subscriptions/