From mboxrd@z Thu Jan 1 00:00:00 1970 Return-Path: Received: from mails.dpdk.org (mails.dpdk.org [217.70.189.124]) by inbox.dpdk.org (Postfix) with ESMTP id 7256E46550 for ; Thu, 10 Apr 2025 10:51:02 +0200 (CEST) Received: from mails.dpdk.org (localhost [127.0.0.1]) by mails.dpdk.org (Postfix) with ESMTP id 51D7440669; Thu, 10 Apr 2025 10:51:02 +0200 (CEST) Received: from mail-yw1-f228.google.com (mail-yw1-f228.google.com [209.85.128.228]) by mails.dpdk.org (Postfix) with ESMTP id 5CF25402ED for ; Thu, 10 Apr 2025 10:51:01 +0200 (CEST) Received: by mail-yw1-f228.google.com with SMTP id 00721157ae682-70433283ba7so5680597b3.2 for ; Thu, 10 Apr 2025 01:51:01 -0700 (PDT) DKIM-Signature: v=1; a=rsa-sha256; c=relaxed/relaxed; d=iol.unh.edu; s=unh-iol; t=1744275060; x=1744879860; darn=dpdk.org; h=references:in-reply-to:cc:to:from:subject:message-id:date:from:to :cc:subject:date:message-id:reply-to; bh=M5nChVImt9L71k3Ym2qLWpuSTruyK5mG56+6j2awpdE=; b=B2ZcCnrKgrZ9YtRXCccqIuT2b6xPUt5f4sN9cOeHsxrEQOk9pPcJOwRkQB1mh6LxoH DlxVBXamWOK9yGHXW65OypZsh7TLkI/d3Co6IlBts8X5JuZWpR49Ogc4MH6Dz+aDv/or Pz+9cOf+KcyJnexmW74PhdAbMTB7Mg9ZeVDYk= X-Google-DKIM-Signature: v=1; a=rsa-sha256; c=relaxed/relaxed; d=1e100.net; s=20230601; t=1744275060; x=1744879860; h=references:in-reply-to:cc:to:from:subject:message-id:date :x-gm-message-state:from:to:cc:subject:date:message-id:reply-to; bh=M5nChVImt9L71k3Ym2qLWpuSTruyK5mG56+6j2awpdE=; b=Xek8S6pokFuSTVHUosIUkTK3o+I+T4MMso5of/mWGzPW2WdYUzTFA4kCZ+DvCJ6CD/ z6TM1mCpeZEjwJ1CHup7u71aeAgNU5nSAj9VUQ7SWsCHmVQHPPhNOB24Uj05+VQ1Tbd1 MraZ2GlTnRtPIZXvvcrqs4lwBxEOnmBrIbD82ky/7Rzh2GEbuPIedB5Np7RZaTHnC1ra CKl4EY+yqIhOdfOKZvtqXUPLzY2sK1FSzD7Z6Nngir53TGOUX+ZWLwNsLLE4ugtljIV2 1MhdJm7OBzJav94/KLoXe4PSED7V0s+e1bzAKSnl5OPvSsQowfoCCXzHFcGXiZl3p07Y chVg== X-Gm-Message-State: AOJu0YydxO6lmbGOZam/4ZAL91lno4AkKbYcoXzCHeNRUUfA3/fA8EyV wUnd1iYiGYxGI45gHIXAEKjg8z9iabHizQFN9sySoSru2TOXEhjbFQoZFNbVZbtZ3aon2HHM1Fr brvhqsaNE8ZHSWEaSN6zSRX9JuWvQM8qrWJv8cdJ3 X-Gm-Gg: ASbGncsghpbe2NdmtlEXTJB+KPq/CvMRQlZmUEsMdmyXPkrx7YcHfB8DSfd4gLrt0ia /fkHyIKI2/Mnupx+lrk8De/qFwEgA7TepFbq69qdSVXUn6HiUGR65iwTnXhYfrth5z5+0qOmYp/ 2Zn0Q6OvFiKviYITcGTlL0LDVPWoSmZVGJIwoIviQNgQNWtNwWU4BDaAS1e5Yan5SQjpD1Mj8GC RLBeMvgYanNPTuBQVLpScQXJFF0bq0hRm+Ckq1SwWrXvsahgDG39sOX/HJViRhGqyMm1dWEnhqy oc2IjNO5E+5IWhv9DlLDabyphz4cVGRDYjnM X-Google-Smtp-Source: AGHT+IFIEoeRwMZAeW1b1Rvjui+MDBG4mpywaeSQDbDeXVpjw1IFdQru1Dc7zDj/otK5zaUY76X4Htkrys70 X-Received: by 2002:a05:690c:968f:b0:6fb:9b19:ab49 with SMTP id 00721157ae682-70549e76525mr30573437b3.6.1744275060649; Thu, 10 Apr 2025 01:51:00 -0700 (PDT) Received: from postal.iol.unh.edu (postal.iol.unh.edu. [132.177.123.84]) by smtp-relay.gmail.com with ESMTPS id 00721157ae682-7053e0f4112sm1952047b3.1.2025.04.10.01.51.00 (version=TLS1_2 cipher=ECDHE-ECDSA-AES128-GCM-SHA256 bits=128/128); Thu, 10 Apr 2025 01:51:00 -0700 (PDT) X-Relaying-Domain: iol.unh.edu Date: Thu, 10 Apr 2025 01:51:00 -0700 (PDT) Message-ID: <67f78674.050a0220.393e72.591cSMTPIN_ADDED_MISSING@mx.google.com> Received: from [172.17.0.3] (unknown [172.18.0.217]) by postal.iol.unh.edu (Postfix) with ESMTP id 3BF9A6052471; Thu, 10 Apr 2025 04:51:00 -0400 (EDT) Subject: |SUCCESS| pw152861-152864 [PATCH] [v7,4/4] net/idpf: use common Tx f From: dpdklab@iol.unh.edu To: Test Report Cc: dpdk-test-reports@iol.unh.edu In-Reply-To: <20250410052406.293110-5-shaiq.wani@intel.com> References: <20250410052406.293110-5-shaiq.wani@intel.com> Content-Type: text/plain X-BeenThere: test-report@dpdk.org X-Mailman-Version: 2.1.29 Precedence: list List-Id: automatic DPDK test reports List-Unsubscribe: , List-Archive: List-Post: List-Help: List-Subscribe: , Errors-To: test-report-bounces@dpdk.org Test-Label: iol-unit-amd64-testing Test-Status: SUCCESS http://dpdk.org/patch/152864 _Testing PASS_ Submitter: Shaiq Wani Date: Thursday, April 10 2025 05:24:06 DPDK git baseline: Repo:dpdk Branch: master CommitID:d7817c378fecd07c59360667f93c25dff4b1a145 152861-152864 --> testing pass Upstream job id: Generic-Unit-Test-DPDK#330218 Test environment and result as below: +---------------------+----------------+ | Environment | dpdk_unit_test | +=====================+================+ | CentOS Stream 9 | PASS | +---------------------+----------------+ | CentOS Stream 10 | PASS | +---------------------+----------------+ | Debian 12 | PASS | +---------------------+----------------+ | Fedora 40 (Clang) | PASS | +---------------------+----------------+ | Fedora 40 | PASS | +---------------------+----------------+ | RHEL9 | PASS | +---------------------+----------------+ | Fedora 41 | PASS | +---------------------+----------------+ | Ubuntu 20.04 | PASS | +---------------------+----------------+ | RHEL8 | PASS | +---------------------+----------------+ | Ubuntu 24.04 | PASS | +---------------------+----------------+ | Ubuntu 22.04 | PASS | +---------------------+----------------+ | Fedora 41 (Clang) | PASS | +---------------------+----------------+ | Windows Server 2022 | PASS | +---------------------+----------------+ CentOS Stream 9 Kernel: Depends on container host Compiler: gcc 11.5.0 20240719 (Red Hat 11.5.0-2) CentOS Stream 10 Kernel: Depends on container host Compiler: gcc 14.2.1 20241104 (Red Hat 14.2.1-6) Debian 12 Kernel: Depends on container host Compiler: gcc (Debian 12.2.0-14) 12.2.0 Fedora 40 (Clang) Kernel: Depends on container host Compiler: clang 18.1.8 (Fedora 18.1.8-1.fc40) Fedora 40 Kernel: Depends on container host Compiler: gcc 14.2.1 20240912 (Red Hat 14.2.1-3) RHEL9 Kernel: Depends on container host Compiler: gcc 11.5.0 20240719 (Red Hat 11.5.0-2) Fedora 41 Kernel: Depends on container host Compiler: gcc 14.2.1 20240912 (Red Hat 14.2.1-3) Ubuntu 20.04 Kernel: Depends on container host Compiler: gcc (Ubuntu 9.4.0-1ubuntu1~20.04.2) 9.4.0 RHEL8 Kernel: Depends on container host Compiler: gcc 8.5.0 20210514 (Red Hat 8.5.0-22) Ubuntu 24.04 Kernel: Depends on container host Compiler: gcc (Ubuntu 13.3.0-6ubuntu2~24.04) 13.3.0 Ubuntu 22.04 Kernel: Depends on container host Compiler: gcc (Ubuntu 11.4.0-1ubuntu1~22.04) 11.4.0 Fedora 41 (Clang) Kernel: Depends on container host Compiler: clang 19.1.5 (Fedora 19.1.5-1.fc41) Windows Server 2022 Kernel: 10.0.20348.2031 Compiler: clang 15.0.7, gcc 14.1.0 (MinGW), and MSVC VS 19.39.33521 To view detailed results, visit: https://lab.dpdk.org/results/dashboard/patchsets/32984/ UNH-IOL DPDK Community Lab To manage your email subscriptions, visit: https://lab.dpdk.org/results/dashboard/preferences/subscriptions/