From mboxrd@z Thu Jan  1 00:00:00 1970
Return-Path: <test-report-bounces@dpdk.org>
Received: from mails.dpdk.org (mails.dpdk.org [217.70.189.124])
	by inbox.dpdk.org (Postfix) with ESMTP id 837D146550
	for <public@inbox.dpdk.org>; Thu, 10 Apr 2025 10:52:07 +0200 (CEST)
Received: from mails.dpdk.org (localhost [127.0.0.1])
	by mails.dpdk.org (Postfix) with ESMTP id 7FC4A40669;
	Thu, 10 Apr 2025 10:52:07 +0200 (CEST)
Received: from mail-pl1-f228.google.com (mail-pl1-f228.google.com
 [209.85.214.228])
 by mails.dpdk.org (Postfix) with ESMTP id 6BA7C402ED
 for <test-report@dpdk.org>; Thu, 10 Apr 2025 10:52:06 +0200 (CEST)
Received: by mail-pl1-f228.google.com with SMTP id
 d9443c01a7336-224171d6826so7277205ad.3
 for <test-report@dpdk.org>; Thu, 10 Apr 2025 01:52:06 -0700 (PDT)
DKIM-Signature: v=1; a=rsa-sha256; c=relaxed/relaxed;
 d=iol.unh.edu; s=unh-iol; t=1744275125; x=1744879925; darn=dpdk.org;
 h=cc:to:from:subject:message-id:date:from:to:cc:subject:date
 :message-id:reply-to;
 bh=eXrRm8dfSDFxR9T4iHfcV/R+MSvJZsUaJLTnEtWHe0U=;
 b=eRuFfoJ8IeRKJV5lDp52S3vDwmof2DOjmQvSGtJATjwL9eV64ZbWcvqHJw1iyuoqPZ
 lvJNf8jgYpuvizo/7L6BXLH1PK7dc5gMavG4pujkuv+uMLWVTMFZUS5u/xVzUoPvcEtu
 4ChkpvIynUG00QcaXSHkWTSJcbmx1wO4Ulb4U=
X-Google-DKIM-Signature: v=1; a=rsa-sha256; c=relaxed/relaxed;
 d=1e100.net; s=20230601; t=1744275125; x=1744879925;
 h=cc:to:from:subject:message-id:date:x-gm-message-state:from:to:cc
 :subject:date:message-id:reply-to;
 bh=eXrRm8dfSDFxR9T4iHfcV/R+MSvJZsUaJLTnEtWHe0U=;
 b=rtXT0tpW2m6o6Ll77SGdnDOnJOdLcOPFTdtDXjntyGYHYeyetAV0E8wmJPpz0yxMYV
 zPItMlTMZLrtdgiUHMqtMm5rSb8g4SFYcS0kv90WMXYhq9Y223v8b8q6J3EuSvFzzjbm
 LqT/l0jcE7hmxoTEOifT6SMBz+UJV10v2zj8bobXLWtV+G2IvZKET/CZjcMEqKT4cDQN
 ipemnPE3aGUaMivT4/e6YKHX04sL1HNFSGAC+ccolx6oEnAbq6rYKKKBFQZO6wNZFZz7
 v3/fFDzkpSo2I5fhcF1kLnUjfvSJTkQfZ5GO/aGQeoybCRBj/Suh3ml0JjREpgtDp0ip
 qiJw==
X-Gm-Message-State: AOJu0YzHfg3pD5WuDT4iS08QAyvuqz8c00Z2ahZl07i1vecQwM4nH9yz
 MiuSh7pT90276MIji38o/0hphzbXINS3as9heAexKCcUQWXIlwFBnAJ/5jYZzNwoBVONdTxk5Ui
 6CGZv8L/yde5J/lwBJBWUg9fPHpKhB82W
X-Gm-Gg: ASbGncsJ4Fmg1W3eMYLxp9Tc+N0fX5CEmoMvrq2WHxLWiSgkAYpG3bIPwBglJPBdr/C
 lWFu3rzj+cOk6ZQ6QkpBKnvK1g9AQUs7NDPqHtcA1UguNpM2R3HRkzT8t9J666DZGUVh/uUSWt7
 srFOk630d4PLJfJgtpgQ95YFrubVwqEUoZtRTNYBgKy/p2WGMXk5GNwc1d2Y8kSuWkplCCXt8ho
 +Yn4Y9/x6L/w0YuSfYDTmrxViMrfMLqszDgSBfpLfb05GafjOGgL0JguIkM2UjZlfbBu0ndAqrM
 VFKUpVy+VLH4YUsgMJ80yc5xQgmGuJoYuMKj
X-Google-Smtp-Source: AGHT+IGli49P14lFCp3IzlauwTan69aB2sFpp3suakcFhXANwhSE3ow3EpGOxjP2No1gbcWn+5D581ohuS/n
X-Received: by 2002:a17:903:2f83:b0:223:f408:c3e2 with SMTP id
 d9443c01a7336-22b2edd1dd1mr26302455ad.14.1744275125564; 
 Thu, 10 Apr 2025 01:52:05 -0700 (PDT)
Received: from postal.iol.unh.edu (postal.iol.unh.edu. [132.177.123.84])
 by smtp-relay.gmail.com with ESMTPS id
 d9443c01a7336-22ac7b94f2bsm1721625ad.62.2025.04.10.01.52.05
 (version=TLS1_2 cipher=ECDHE-ECDSA-AES128-GCM-SHA256 bits=128/128);
 Thu, 10 Apr 2025 01:52:05 -0700 (PDT)
X-Relaying-Domain: iol.unh.edu
Date: Thu, 10 Apr 2025 01:52:05 -0700 (PDT)
Message-ID: <67f786b5.170a0220.d49a2.601cSMTPIN_ADDED_MISSING@mx.google.com>
Received: from [172.17.0.3] (unknown [172.18.0.217])
 by postal.iol.unh.edu (Postfix) with ESMTP id AA1236052471;
 Thu, 10 Apr 2025 04:52:04 -0400 (EDT)
Subject: |SUCCESS| [GIT MASTER] 4401486b5e30d43a134f80f9802f60b5f43e74a8
From: dpdklab@iol.unh.edu
To: Test Report <test-report@dpdk.org>
Cc: dpdk-test-reports@iol.unh.edu, Xueming Li <xuemingl@nvidia.com>,
 Christian Ehrhardt <christian.ehrhardt@canonical.com>,
 Kevin Traynor <ktraynor@redhat.com>, Luca Boccassi <bluca@debian.org>
Content-Type: text/plain
X-BeenThere: test-report@dpdk.org
X-Mailman-Version: 2.1.29
Precedence: list
List-Id: automatic DPDK test reports <test-report.dpdk.org>
List-Unsubscribe: <https://mails.dpdk.org/options/test-report>,
 <mailto:test-report-request@dpdk.org?subject=unsubscribe>
List-Archive: <http://mails.dpdk.org/archives/test-report/>
List-Post: <mailto:test-report@dpdk.org>
List-Help: <mailto:test-report-request@dpdk.org?subject=help>
List-Subscribe: <https://mails.dpdk.org/listinfo/test-report>,
 <mailto:test-report-request@dpdk.org?subject=subscribe>
Errors-To: test-report-bounces@dpdk.org

_Testing PASS_

Branch: tags/v22.11

4401486b5e30d43a134f80f9802f60b5f43e74a8 --> testing pass

Upstream job id: Generic-DPDK-Compile-Meson#379025

Test environment and result as below:

+------------------------------------+--------------------+
|            Environment             | dpdk_meson_compile |
+====================================+====================+
| Ubuntu 20.04 ARM SVE               | PASS               |
+------------------------------------+--------------------+
| RHEL9 (ARM)                        | PASS               |
+------------------------------------+--------------------+
| Debian 12 with MUSDK               | PASS               |
+------------------------------------+--------------------+
| Fedora 40 (ARM)                    | PASS               |
+------------------------------------+--------------------+
| Fedora 40 (ARM Clang)              | PASS               |
+------------------------------------+--------------------+
| Ubuntu 20.04 (ARM)                 | PASS               |
+------------------------------------+--------------------+
| Ubuntu 22.04 (ARM)                 | PASS               |
+------------------------------------+--------------------+
| Fedora 41 (ARM)                    | PASS               |
+------------------------------------+--------------------+
| Ubuntu 24.04 (ARM)                 | PASS               |
+------------------------------------+--------------------+
| CentOS Stream 9 (ARM)              | PASS               |
+------------------------------------+--------------------+
| CentOS Stream 10 (ARM)             | PASS               |
+------------------------------------+--------------------+
| Debian 12 (arm)                    | PASS               |
+------------------------------------+--------------------+
| Ubuntu 20.04 ARM GCC Cross Compile | PASS               |
+------------------------------------+--------------------+
| Fedora 41 (ARM Clang)              | PASS               |
+------------------------------------+--------------------+


Ubuntu 20.04 ARM SVE
	Kernel: Depends on container host
	Compiler: gcc (Ubuntu 10.5.0-1ubuntu1~20.04) 10.5.0

RHEL9 (ARM)
	Kernel: Depends on container host
	Compiler: gcc 11.5.0 20240719 (Red Hat 11.5.0-2)

Debian 12 with MUSDK
	Kernel: Depends on container host
	Compiler: gcc (Debian 12.2.0-14) 12.2.0

Fedora 40 (ARM)
	Kernel: Depends on container host
	Compiler: gcc 14.2.1 20240912 (Red Hat 14.2.1-3)

Fedora 40 (ARM Clang)
	Kernel: Depends on container host
	Compiler: clang 18.1.8 (Fedora 18.1.8-1.fc40)

Ubuntu 20.04 (ARM)
	Kernel: Depends on container host
	Compiler: gcc (Ubuntu 9.4.0-1ubuntu1~20.04.2) 9.4.0

Ubuntu 22.04 (ARM)
	Kernel: Depends on container host
	Compiler: gcc (Ubuntu 11.4.0-1ubuntu1~22.04) 11.4.0

Fedora 41 (ARM)
	Kernel: Depends on container host
	Compiler: gcc 14.2.1 20240912 (Red Hat 14.2.1-3)

Ubuntu 24.04 (ARM)
	Kernel: Depends on container host
	Compiler: gcc (Ubuntu 13.3.0-6ubuntu2~24.04) 13.3.0

CentOS Stream 9 (ARM)
	Kernel: Depends on container host
	Compiler: gcc 11.5.0 20240719 (Red Hat 11.5.0-2)

CentOS Stream 10 (ARM)
	Kernel: Depends on container host
	Compiler: gcc 14.2.1 20241104 (Red Hat 14.2.1-6)

Debian 12 (arm)
	Kernel: Depends on container host
	Compiler: gcc (Debian 12.2.0-14) 12.2.0

Ubuntu 20.04 ARM GCC Cross Compile
	Kernel: Depends on container host
	Compiler: aarch64-linux-gnu-gcc (Ubuntu 9.4.0-1ubuntu1~20.04.2) 9.4.0

Fedora 41 (ARM Clang)
	Kernel: Depends on container host
	Compiler: clang 19.1.5 (Fedora 19.1.5-1.fc41)

To view detailed results, visit:
https://lab.dpdk.org/results/dashboard/tarballs/33214/

UNH-IOL DPDK Community Lab

To manage your email subscriptions, visit: 
https://lab.dpdk.org/results/dashboard/preferences/subscriptions/