From mboxrd@z Thu Jan 1 00:00:00 1970 Return-Path: Received: from mails.dpdk.org (mails.dpdk.org [217.70.189.124]) by inbox.dpdk.org (Postfix) with ESMTP id B412A46550 for ; Thu, 10 Apr 2025 10:54:47 +0200 (CEST) Received: from mails.dpdk.org (localhost [127.0.0.1]) by mails.dpdk.org (Postfix) with ESMTP id BD08640669; Thu, 10 Apr 2025 10:54:46 +0200 (CEST) Received: from mail-il1-f228.google.com (mail-il1-f228.google.com [209.85.166.228]) by mails.dpdk.org (Postfix) with ESMTP id 4DBB2402ED for ; Thu, 10 Apr 2025 10:54:45 +0200 (CEST) Received: by mail-il1-f228.google.com with SMTP id e9e14a558f8ab-3d5eb0ec2bdso1784285ab.2 for ; Thu, 10 Apr 2025 01:54:45 -0700 (PDT) DKIM-Signature: v=1; a=rsa-sha256; c=relaxed/relaxed; d=iol.unh.edu; s=unh-iol; t=1744275284; x=1744880084; darn=dpdk.org; h=references:in-reply-to:cc:to:from:subject:message-id:date:from:to :cc:subject:date:message-id:reply-to; bh=aO4UaDTWl6caBBEwWebiLbyONFTqBt2+99MZAFa46jg=; b=SCkTSJAhozx6Dg0vJLU3yin9yQ327d4HK5ur+pHC6RDJMtWvu8glpr94j1jTllT4vj 9fRbqtRkt97t9iqpuXOC6Jb3aML0BbYDQuxPtE3xBCcyqCCyG2MQSA1nd33nd2RiZbFD qymA85q5J2G6uoD5OdHbi2vpaLtcZCovuZ/I0= X-Google-DKIM-Signature: v=1; a=rsa-sha256; c=relaxed/relaxed; d=1e100.net; s=20230601; t=1744275284; x=1744880084; h=references:in-reply-to:cc:to:from:subject:message-id:date :x-gm-message-state:from:to:cc:subject:date:message-id:reply-to; bh=aO4UaDTWl6caBBEwWebiLbyONFTqBt2+99MZAFa46jg=; b=pEhS1ZFNT6punJQkT+/KonLZ9ijindP1TRb3i4E4xt56Eoq9lHBQ1ZbqG8SeVWCbe0 u7yecwNyQWOyE3Q9YvPqvaSVzDTX5deTTsi2p7DPpcEw7uBAZ8/U09/oAxhXZgdo/viD K8wcNJw4/gYE1aMdeRrBqx8vNFvj0FNoZbiS/226w+pJD2wLlXEFwc/5i5qx57SPEZoB ktkWiRffPJq8kixeW7Pbnf3k1u9e9N6VxHTVUFEZvkl7uzubtfDEWs9jVl1K7DqVPvZN Q7dBGvV7S8dY4CvgKrvcleEOGpGF/1f/S904vVCEBkb9WbI1DMSU17iy+LAacp216N8T PmZw== X-Gm-Message-State: AOJu0YyMwf1FWW5Dyaq+yQ2oI8/rh7lnUSNz9P4Qe5Z2IugChF7BgxlK iffLscVQ7xTuNW82hn+10AhmZayd1luXP9jsgMgYvgdNp0lzSxOEb+E8Yy3VRRPBar9pe1mqAmi pN1RmQACr8Hk6fmpntn1TPmvy2JFivvME10QwOC9oIhm25PzLJTzCPLU3 X-Gm-Gg: ASbGnctY8gVRloZT+KjvQH/YB3ItrHlv5VfozE6PyPpWSNPs5JWy1OD+/+onvPZI5oJ IHEbj1rldGxQlnaz33D2U7vSZcsjprrvIxTLMVdV4BblDGxet+HHmqwqMrHGt2+W+xaqZaaVUYk wIWLL1DK83vqlk5QmAqASbjx7Ig21YDTmd2c8b3oYbQCSxMtd7teAgwI3/i/zLe3DrC7lawQ+JS 69hp9CZFmYRZppKAoV/PVmF5+9dGu6cZ3IVlyVd5zLAOgXzy5KKh7eTyajwFHktNgzqnVwrLDhq fnUxVNolSf4ePUooErzHCpYwSpq7494BGY9e37hkxVlZqHkv X-Google-Smtp-Source: AGHT+IEm8gB6zHShY4+fCAPeBB2qfbbjgPcUjUjhk32lCPbo0e6cDylcfcPCVIFI19AX3mgVK9clbo8wBr75 X-Received: by 2002:a05:6e02:219c:b0:3d3:cdb0:a227 with SMTP id e9e14a558f8ab-3d7e5f6a2d7mr11548635ab.9.1744275284619; Thu, 10 Apr 2025 01:54:44 -0700 (PDT) Received: from postal.iol.unh.edu (postal.iol.unh.edu. [2606:4100:3880:1234::84]) by smtp-relay.gmail.com with ESMTPS id 8926c6da1cb9f-4f505cfb9d7sm238158173.6.2025.04.10.01.54.44 (version=TLS1_2 cipher=ECDHE-ECDSA-AES128-GCM-SHA256 bits=128/128); Thu, 10 Apr 2025 01:54:44 -0700 (PDT) X-Relaying-Domain: iol.unh.edu Date: Thu, 10 Apr 2025 01:54:44 -0700 (PDT) Message-ID: <67f78754.050a0220.6f654.87e4SMTPIN_ADDED_MISSING@mx.google.com> Received: from [172.17.0.3] (unknown [172.18.0.217]) by postal.iol.unh.edu (Postfix) with ESMTP id 162D46052471; Thu, 10 Apr 2025 04:54:44 -0400 (EDT) Subject: |SUCCESS| pw152861-152864 [PATCH] [v7,4/4] net/idpf: use common Tx f From: dpdklab@iol.unh.edu To: Test Report Cc: dpdk-test-reports@iol.unh.edu In-Reply-To: <20250410052406.293110-5-shaiq.wani@intel.com> References: <20250410052406.293110-5-shaiq.wani@intel.com> Content-Type: text/plain X-BeenThere: test-report@dpdk.org X-Mailman-Version: 2.1.29 Precedence: list List-Id: automatic DPDK test reports List-Unsubscribe: , List-Archive: List-Post: List-Help: List-Subscribe: , Errors-To: test-report-bounces@dpdk.org Test-Label: iol-compile-arm64-testing Test-Status: SUCCESS http://dpdk.org/patch/152864 _Testing PASS_ Submitter: Shaiq Wani Date: Thursday, April 10 2025 05:24:06 DPDK git baseline: Repo:dpdk Branch: master CommitID:d7817c378fecd07c59360667f93c25dff4b1a145 152861-152864 --> testing pass Upstream job id: Generic-DPDK-Compile-Meson#379080 Test environment and result as below: +----------------------------------------+--------------------+ | Environment | dpdk_meson_compile | +========================================+====================+ | RHEL9 (ARM) | PASS | +----------------------------------------+--------------------+ | Ubuntu 20.04 ARM GCC Cross Compile | PASS | +----------------------------------------+--------------------+ | Debian 12 with MUSDK | PASS | +----------------------------------------+--------------------+ | Fedora 40 (ARM) | PASS | +----------------------------------------+--------------------+ | Fedora 40 (ARM Clang) | PASS | +----------------------------------------+--------------------+ | Fedora 41 (ARM) | PASS | +----------------------------------------+--------------------+ | Fedora 41 (ARM Clang) | PASS | +----------------------------------------+--------------------+ | Ubuntu 20.04 (ARM) | PASS | +----------------------------------------+--------------------+ | Ubuntu 22.04 (ARM) | PASS | +----------------------------------------+--------------------+ | Ubuntu 24.04 (ARM) | PASS | +----------------------------------------+--------------------+ | CentOS Stream 9 (ARM) | PASS | +----------------------------------------+--------------------+ | Ubuntu 20.04 ARM SVE | PASS | +----------------------------------------+--------------------+ | CentOS Stream 10 (ARM) | PASS | +----------------------------------------+--------------------+ | Debian 12 (arm) | PASS | +----------------------------------------+--------------------+ | Ubuntu 20.04 ARM Clang Cross Compile | PASS | +----------------------------------------+--------------------+ | Ubuntu 20.04 aarch32 GCC Cross Compile | PASS | +----------------------------------------+--------------------+ RHEL9 (ARM) Kernel: Depends on container host Compiler: gcc 11.5.0 20240719 (Red Hat 11.5.0-2) Ubuntu 20.04 ARM GCC Cross Compile Kernel: Depends on container host Compiler: aarch64-linux-gnu-gcc (Ubuntu 9.4.0-1ubuntu1~20.04.2) 9.4.0 Debian 12 with MUSDK Kernel: Depends on container host Compiler: gcc (Debian 12.2.0-14) 12.2.0 Fedora 40 (ARM) Kernel: Depends on container host Compiler: gcc 14.2.1 20240912 (Red Hat 14.2.1-3) Fedora 40 (ARM Clang) Kernel: Depends on container host Compiler: clang 18.1.8 (Fedora 18.1.8-1.fc40) Fedora 41 (ARM) Kernel: Depends on container host Compiler: gcc 14.2.1 20240912 (Red Hat 14.2.1-3) Fedora 41 (ARM Clang) Kernel: Depends on container host Compiler: clang 19.1.5 (Fedora 19.1.5-1.fc41) Ubuntu 20.04 (ARM) Kernel: Depends on container host Compiler: gcc (Ubuntu 9.4.0-1ubuntu1~20.04.2) 9.4.0 Ubuntu 22.04 (ARM) Kernel: Depends on container host Compiler: gcc (Ubuntu 11.4.0-1ubuntu1~22.04) 11.4.0 Ubuntu 24.04 (ARM) Kernel: Depends on container host Compiler: gcc (Ubuntu 13.3.0-6ubuntu2~24.04) 13.3.0 CentOS Stream 9 (ARM) Kernel: Depends on container host Compiler: gcc 11.5.0 20240719 (Red Hat 11.5.0-2) Ubuntu 20.04 ARM SVE Kernel: Depends on container host Compiler: gcc (Ubuntu 10.5.0-1ubuntu1~20.04) 10.5.0 CentOS Stream 10 (ARM) Kernel: Depends on container host Compiler: gcc 14.2.1 20241104 (Red Hat 14.2.1-6) Debian 12 (arm) Kernel: Depends on container host Compiler: gcc (Debian 12.2.0-14) 12.2.0 Ubuntu 20.04 ARM Clang Cross Compile Kernel: Depends on container host Compiler: clang 10.0.0-4ubuntu1 Ubuntu 20.04 aarch32 GCC Cross Compile Kernel: Depends on container host Compiler: gcc 9.4.0 To view detailed results, visit: https://lab.dpdk.org/results/dashboard/patchsets/32984/ UNH-IOL DPDK Community Lab To manage your email subscriptions, visit: https://lab.dpdk.org/results/dashboard/preferences/subscriptions/