From mboxrd@z Thu Jan 1 00:00:00 1970 Return-Path: Received: from mails.dpdk.org (mails.dpdk.org [217.70.189.124]) by inbox.dpdk.org (Postfix) with ESMTP id 5E24F46550 for ; Thu, 10 Apr 2025 11:11:12 +0200 (CEST) Received: from mails.dpdk.org (localhost [127.0.0.1]) by mails.dpdk.org (Postfix) with ESMTP id 363F540669; Thu, 10 Apr 2025 11:11:12 +0200 (CEST) Received: from mail-pg1-f226.google.com (mail-pg1-f226.google.com [209.85.215.226]) by mails.dpdk.org (Postfix) with ESMTP id E66BD402ED for ; Thu, 10 Apr 2025 11:11:10 +0200 (CEST) Received: by mail-pg1-f226.google.com with SMTP id 41be03b00d2f7-ad51f427054so435223a12.1 for ; Thu, 10 Apr 2025 02:11:10 -0700 (PDT) DKIM-Signature: v=1; a=rsa-sha256; c=relaxed/relaxed; d=iol.unh.edu; s=unh-iol; t=1744276270; x=1744881070; darn=dpdk.org; h=references:in-reply-to:cc:to:from:subject:message-id:date:from:to :cc:subject:date:message-id:reply-to; bh=QUOQTPfIgf6QHb7Y86S80I1prwqio2GrEJ+XisVHTWY=; b=dOiEiuLLxMdMCiiFzmThQbzJUhVBR7T6PDDiNN+LXzQUsOzSqbnd5bMjNS0Ay387kJ fl9PTBN4NURdEEBexmnLHPvLaDtvL3PgfgbS64Ph7zcLmKur1IBp8rOz/BZvCkAeQcfN UjU/DRbegkujZ8JArBgh5pJwbY3qKNadNnp3U= X-Google-DKIM-Signature: v=1; a=rsa-sha256; c=relaxed/relaxed; d=1e100.net; s=20230601; t=1744276270; x=1744881070; h=references:in-reply-to:cc:to:from:subject:message-id:date :x-gm-message-state:from:to:cc:subject:date:message-id:reply-to; bh=QUOQTPfIgf6QHb7Y86S80I1prwqio2GrEJ+XisVHTWY=; b=jJhwJFUMhqekRqaTMQffJtJgnzWdvZVBiWWIkYTMtqf85E+H0c3PG6j3xVD/yn7jTn 0FD/NH6zhik7ShTeKvH/95uw6BNTLr1gBIZpnC/a1ojGXc1uuzhOuzAjlxFoojOKarGM 1tTw2YO3iRx8tuUVURQ1cRzg21nQdsxKRKlHvdZlpAL5rhG81Qd6D++1Qc6qx49ckZ5M 6saIztpo/R91lUxpSRCqsjV69YN1tnsUfR6jGgnm6JwKrWzhktj/EtlCsp4xmgmycOdO WLvFzZzB1ADT5hsgGZBTaZCpSHrHL7+y+LqyiUzlXMmKZchq8vOfH2k97c9OlY9aeTmb Bqfg== X-Gm-Message-State: AOJu0YwdObiw9o+CojhtMArVi7gAlgHDST29JIXgT4zRonwjgTHOdGw0 InsvrYfB8RGK/AnSI81qej1P4XxHb5DuhHRRPNaW5VBXjBI8z1HXVwuUXsJFYteMLPL4AP0Qsr+ l0J1shAqNwMU3QjLKoFOgqmGBpWgzsQBn1RhhPXs7bXqaSnlT+m6LS4mL X-Gm-Gg: ASbGncu7DjU5hlneJRu8LxDYvsM88Y1E62lJFi6vRMP7c+EiLNbLATbkSOriCih3l/P bkL6c0nsNJflyykkugwWMoe1+YfzHoU+E9MESWueqJUhZyrBD4WiL4gwNkCbrVtUZIXaoWBtiGQ UNt/xM85VXTuQmEao0d6BFG4PfMU37+CzoqhZ7P8YnGmqCIm+VRU8eHpz/ogws4bNLqK/Wz9oWJ orgtP9vsqvRBhBlIeuepdDQDLcVILE4L0CSvLvn4QgaZmN1lu+SQHQkt54jLkMBGKyFi65iV0OP hfjTQLuQm2188DfKMktQ6tbTjHH8bL4qG6Sdygzo8t5eBICq X-Google-Smtp-Source: AGHT+IGXSWMidCGuZqnHsua69vx725P3ML+fIZf9HTqGCurlBTM3MfYJZEx8yjUMJsFB78e3smlk7ZD0iGTJ X-Received: by 2002:a17:90b:5684:b0:2ee:f677:aa14 with SMTP id 98e67ed59e1d1-30718b797d4mr3178270a91.13.1744276269957; Thu, 10 Apr 2025 02:11:09 -0700 (PDT) Received: from postal.iol.unh.edu (postal.iol.unh.edu. [2606:4100:3880:1234::84]) by smtp-relay.gmail.com with ESMTPS id 98e67ed59e1d1-306dd1293b6sm353465a91.8.2025.04.10.02.11.09 (version=TLS1_2 cipher=ECDHE-ECDSA-AES128-GCM-SHA256 bits=128/128); Thu, 10 Apr 2025 02:11:09 -0700 (PDT) X-Relaying-Domain: iol.unh.edu Date: Thu, 10 Apr 2025 02:11:09 -0700 (PDT) Message-ID: <67f78b2d.170a0220.371c06.ab84SMTPIN_ADDED_MISSING@mx.google.com> Received: from [172.17.0.4] (unknown [172.18.0.217]) by postal.iol.unh.edu (Postfix) with ESMTP id EFFB66052471; Thu, 10 Apr 2025 05:11:08 -0400 (EDT) Subject: |SUCCESS| pw152861-152864 [PATCH] [v7,4/4] net/idpf: use common Tx f From: dpdklab@iol.unh.edu To: Test Report Cc: dpdk-test-reports@iol.unh.edu In-Reply-To: <20250410052406.293110-5-shaiq.wani@intel.com> References: <20250410052406.293110-5-shaiq.wani@intel.com> Content-Type: text/plain X-BeenThere: test-report@dpdk.org X-Mailman-Version: 2.1.29 Precedence: list List-Id: automatic DPDK test reports List-Unsubscribe: , List-Archive: List-Post: List-Help: List-Subscribe: , Errors-To: test-report-bounces@dpdk.org Test-Label: iol-compile-amd64-testing Test-Status: SUCCESS http://dpdk.org/patch/152864 _Testing PASS_ Submitter: Shaiq Wani Date: Thursday, April 10 2025 05:24:06 DPDK git baseline: Repo:dpdk Branch: master CommitID:d7817c378fecd07c59360667f93c25dff4b1a145 152861-152864 --> testing pass Upstream job id: Generic-DPDK-Compile-Meson#379064 Test environment and result as below: +-----------------------------------+-------------------+--------------------+-------------------+------------------+-------------------------+----------------------+ | Environment | dpdk_msvc_compile | dpdk_meson_compile | dpdk_compile_spdk | dpdk_compile_ovs | dpdk_llvm_clang_compile | dpdk_mingw64_compile | +===================================+===================+====================+===================+==================+=========================+======================+ | Windows Server 2022 | PASS | SKIPPED | SKIPPED | SKIPPED | PASS | PASS | +-----------------------------------+-------------------+--------------------+-------------------+------------------+-------------------------+----------------------+ | FreeBSD 13.5 | SKIPPED | PASS | SKIPPED | SKIPPED | SKIPPED | SKIPPED | +-----------------------------------+-------------------+--------------------+-------------------+------------------+-------------------------+----------------------+ | FreeBSD 14.2 | SKIPPED | PASS | SKIPPED | SKIPPED | SKIPPED | SKIPPED | +-----------------------------------+-------------------+--------------------+-------------------+------------------+-------------------------+----------------------+ | Ubuntu 20.04 | SKIPPED | PASS | SKIPPED | SKIPPED | SKIPPED | SKIPPED | +-----------------------------------+-------------------+--------------------+-------------------+------------------+-------------------------+----------------------+ | CentOS Stream 9 | SKIPPED | PASS | PASS | SKIPPED | SKIPPED | SKIPPED | +-----------------------------------+-------------------+--------------------+-------------------+------------------+-------------------------+----------------------+ | CentOS Stream 10 | SKIPPED | PASS | SKIPPED | SKIPPED | SKIPPED | SKIPPED | +-----------------------------------+-------------------+--------------------+-------------------+------------------+-------------------------+----------------------+ | Debian 12 | SKIPPED | PASS | PASS | SKIPPED | SKIPPED | SKIPPED | +-----------------------------------+-------------------+--------------------+-------------------+------------------+-------------------------+----------------------+ | Fedora 40 (Clang) | SKIPPED | PASS | PASS | SKIPPED | SKIPPED | SKIPPED | +-----------------------------------+-------------------+--------------------+-------------------+------------------+-------------------------+----------------------+ | Fedora 40 | SKIPPED | PASS | PASS | SKIPPED | SKIPPED | SKIPPED | +-----------------------------------+-------------------+--------------------+-------------------+------------------+-------------------------+----------------------+ | Fedora 41 (Clang) | SKIPPED | PASS | PASS | PASS | SKIPPED | SKIPPED | +-----------------------------------+-------------------+--------------------+-------------------+------------------+-------------------------+----------------------+ | Fedora 41 | SKIPPED | PASS | PASS | PASS | SKIPPED | SKIPPED | +-----------------------------------+-------------------+--------------------+-------------------+------------------+-------------------------+----------------------+ | openSUSE Leap 15 | SKIPPED | PASS | SKIPPED | SKIPPED | SKIPPED | SKIPPED | +-----------------------------------+-------------------+--------------------+-------------------+------------------+-------------------------+----------------------+ | RHEL8 | SKIPPED | PASS | SKIPPED | SKIPPED | SKIPPED | SKIPPED | +-----------------------------------+-------------------+--------------------+-------------------+------------------+-------------------------+----------------------+ | RHEL9 | SKIPPED | PASS | SKIPPED | SKIPPED | SKIPPED | SKIPPED | +-----------------------------------+-------------------+--------------------+-------------------+------------------+-------------------------+----------------------+ | Ubuntu 22.04 | SKIPPED | PASS | PASS | SKIPPED | SKIPPED | SKIPPED | +-----------------------------------+-------------------+--------------------+-------------------+------------------+-------------------------+----------------------+ | Ubuntu 24.04 | SKIPPED | PASS | PASS | PASS | SKIPPED | SKIPPED | +-----------------------------------+-------------------+--------------------+-------------------+------------------+-------------------------+----------------------+ | Alpine | SKIPPED | PASS | SKIPPED | SKIPPED | SKIPPED | SKIPPED | +-----------------------------------+-------------------+--------------------+-------------------+------------------+-------------------------+----------------------+ | Ubuntu 24.04 32 Bit Cross Compile | SKIPPED | PASS | SKIPPED | SKIPPED | SKIPPED | SKIPPED | +-----------------------------------+-------------------+--------------------+-------------------+------------------+-------------------------+----------------------+ Windows Server 2022 Kernel: 10.0.20348.2031 Compiler: clang 15.0.7, gcc 14.1.0 (MinGW), and MSVC VS 19.39.33521 FreeBSD 13.5 Kernel: 13.5-RELEASE Compiler: clang 19.1.7 FreeBSD 14.2 Kernel: 14.2-RELEASE Compiler: clang 18.1.6 Ubuntu 20.04 Kernel: 4.19.325-0419325-generic Compiler: gcc (Ubuntu 9.4.0-1ubuntu1~20.04.2) 9.4.0 CentOS Stream 9 Kernel: Depends on container host Compiler: gcc 11.5.0 20240719 (Red Hat 11.5.0-2) CentOS Stream 10 Kernel: Depends on container host Compiler: gcc 14.2.1 20241104 (Red Hat 14.2.1-6) Debian 12 Kernel: Depends on container host Compiler: gcc (Debian 12.2.0-14) 12.2.0 Fedora 40 (Clang) Kernel: Depends on container host Compiler: clang 18.1.8 (Fedora 18.1.8-1.fc40) Fedora 40 Kernel: Depends on container host Compiler: gcc 14.2.1 20240912 (Red Hat 14.2.1-3) Fedora 41 (Clang) Kernel: Depends on container host Compiler: clang 19.1.5 (Fedora 19.1.5-1.fc41) Fedora 41 Kernel: Depends on container host Compiler: gcc 14.2.1 20240912 (Red Hat 14.2.1-3) openSUSE Leap 15 Kernel: Depends on container host Compiler: gcc (SUSE Linux) 7.5.0 RHEL8 Kernel: Depends on container host Compiler: gcc 8.5.0 20210514 (Red Hat 8.5.0-22) RHEL9 Kernel: Depends on container host Compiler: gcc 11.5.0 20240719 (Red Hat 11.5.0-2) Ubuntu 22.04 Kernel: Depends on container host Compiler: gcc (Ubuntu 11.4.0-1ubuntu1~22.04) 11.4.0 Ubuntu 24.04 Kernel: Depends on container host Compiler: gcc (Ubuntu 13.3.0-6ubuntu2~24.04) 13.3.0 Alpine Kernel: Depends on container host Compiler: gcc (Alpine 14.2.0) 14.2.0 Ubuntu 24.04 32 Bit Cross Compile Kernel: Depends on container host Compiler: gcc (Ubuntu 13.3.0-6ubuntu2~24.04) 13.3.0 To view detailed results, visit: https://lab.dpdk.org/results/dashboard/patchsets/32984/ UNH-IOL DPDK Community Lab To manage your email subscriptions, visit: https://lab.dpdk.org/results/dashboard/preferences/subscriptions/