From mboxrd@z Thu Jan  1 00:00:00 1970
Return-Path: <test-report-bounces@dpdk.org>
Received: from mails.dpdk.org (mails.dpdk.org [217.70.189.124])
	by inbox.dpdk.org (Postfix) with ESMTP id 21A7746550
	for <public@inbox.dpdk.org>; Thu, 10 Apr 2025 12:12:20 +0200 (CEST)
Received: from mails.dpdk.org (localhost [127.0.0.1])
	by mails.dpdk.org (Postfix) with ESMTP id 0393840676;
	Thu, 10 Apr 2025 12:12:20 +0200 (CEST)
Received: from mail-pl1-f225.google.com (mail-pl1-f225.google.com
 [209.85.214.225])
 by mails.dpdk.org (Postfix) with ESMTP id E5C72402ED
 for <test-report@dpdk.org>; Thu, 10 Apr 2025 12:12:18 +0200 (CEST)
Received: by mail-pl1-f225.google.com with SMTP id
 d9443c01a7336-224100e9a5cso6241455ad.2
 for <test-report@dpdk.org>; Thu, 10 Apr 2025 03:12:18 -0700 (PDT)
DKIM-Signature: v=1; a=rsa-sha256; c=relaxed/relaxed;
 d=iol.unh.edu; s=unh-iol; t=1744279938; x=1744884738; darn=dpdk.org;
 h=references:in-reply-to:cc:to:from:subject:message-id:date:from:to
 :cc:subject:date:message-id:reply-to;
 bh=mZbbEHfnvX0dLtbx9iBwz0ZyvWQ9+xc2BgTDPE8c/ls=;
 b=GSSLZ3HIaQ7iWVwEsS9V8FedqkrzxhWt1ztJxJjmkngofPv+8Oe38DsrIioj2hVCXM
 i/NCWDmqo2lvRNtgHn1FxCcohLkHZhkF7Bpy5ZWWKfDmeaFzF9Nb3C/V4BIOmaZiz9QW
 4cr0aJWE8jpJ5tNaGWArVHa5aMfqGBQeGVee4=
X-Google-DKIM-Signature: v=1; a=rsa-sha256; c=relaxed/relaxed;
 d=1e100.net; s=20230601; t=1744279938; x=1744884738;
 h=references:in-reply-to:cc:to:from:subject:message-id:date
 :x-gm-message-state:from:to:cc:subject:date:message-id:reply-to;
 bh=mZbbEHfnvX0dLtbx9iBwz0ZyvWQ9+xc2BgTDPE8c/ls=;
 b=AQwkTn8epwoVTAdX3CRjar2V/AfnZMOHZo3n/5c1HECSyXTaepK4Q0R2TRLFfV82st
 3L57sPtMjZieYop+gLIwz/3LvUuYYKd8oKesEZcjUIqpKEBcYNPpkytNtsYTNcJB16xW
 EFyNynsmFZXcHACw55wksdD8wGu5YU3iDms6wnw7gx7f0+fz4ti8spMe7oE7Rt7jZyFN
 99oaUSzYYIPe+fr8wn71QyqvHsxFpkIpZyKsqaBFgH5Ib1heEODiHCKaF8XynAxU6NAp
 xng/c0cZinxAReRiw/hyjWqyOYF66P+QLssdbqu5FCU+C6RuV5PW/S/az0GKW+Meswfa
 +oeg==
X-Gm-Message-State: AOJu0YwSMApy5iT2v/1WL2QiiWwf/WMgit+RAsHnc5L3j0gU45rULN7r
 kid+MctTeTqqu/YGI+m9FDF7uRsI29+cugoS3OFfdd+TkHRWnYbseSMSN2n2yhvTiNF3cMR+cMx
 ByLn1R9hTOq+Gdv1e21f75aVNoTO5QQqBPPsxeFs3yeC0Sdef7P7s8AFK
X-Gm-Gg: ASbGncvw/nGw94Ko180TVcTQEiVrWN/hiU7tPpUEJc+1ZRbe1vdBsOSjkPjn7BVvp1u
 3n2uRwkFZfv+YSDHZRFYVv1bAoSwfA5j26X5CQTI1d5iElRQJC/3GlZE7A4bE+wKVGapK+ydpPd
 NGiQIYEu4ylhr0pGaJvtpvOFXb+QE7OEkDv0J57jpi2Ldx3JyCECcasuz2AqQgv0KwLK1doSoKu
 Wtu6kY2aky0wozTnHP0t6dtiSJaYUQPg3p83FdFvRFVv+9kfsjxQsncyVMykZ4FgQ8LP8MmFoWb
 hGBbB9uHCDlan6OwcMpnmAfpDerDffD4W2i1OkOe7zT0HKVW
X-Google-Smtp-Source: AGHT+IE4nv6DB0FPepmyp3zs77qoE5t1YN9quonwynIlCwND9EyRFPuRwb3rYDnx5pgbp5rEl4UAw/TFXTJA
X-Received: by 2002:a17:903:19cc:b0:220:df73:b639 with SMTP id
 d9443c01a7336-22be038fe25mr24024415ad.36.1744279938027; 
 Thu, 10 Apr 2025 03:12:18 -0700 (PDT)
Received: from postal.iol.unh.edu (postal.iol.unh.edu.
 [2606:4100:3880:1234::84]) by smtp-relay.gmail.com with ESMTPS id
 d9443c01a7336-22ac7b40af1sm1869285ad.9.2025.04.10.03.12.17
 (version=TLS1_2 cipher=ECDHE-ECDSA-AES128-GCM-SHA256 bits=128/128);
 Thu, 10 Apr 2025 03:12:18 -0700 (PDT)
X-Relaying-Domain: iol.unh.edu
Date: Thu, 10 Apr 2025 03:12:18 -0700 (PDT)
Message-ID: <67f79982.170a0220.28f78b.725fSMTPIN_ADDED_MISSING@mx.google.com>
Received: from [172.17.0.3] (unknown [172.18.0.217])
 by postal.iol.unh.edu (Postfix) with ESMTP id 2BB8E6052471;
 Thu, 10 Apr 2025 06:12:17 -0400 (EDT)
Subject: |SUCCESS| pw152861-152864 [PATCH] [v7,4/4] net/idpf: use common Tx f
From: dpdklab@iol.unh.edu
To: Test Report <test-report@dpdk.org>
Cc: dpdk-test-reports@iol.unh.edu
In-Reply-To: <20250410052406.293110-5-shaiq.wani@intel.com>
References: <20250410052406.293110-5-shaiq.wani@intel.com>
Content-Type: text/plain
X-BeenThere: test-report@dpdk.org
X-Mailman-Version: 2.1.29
Precedence: list
List-Id: automatic DPDK test reports <test-report.dpdk.org>
List-Unsubscribe: <https://mails.dpdk.org/options/test-report>,
 <mailto:test-report-request@dpdk.org?subject=unsubscribe>
List-Archive: <http://mails.dpdk.org/archives/test-report/>
List-Post: <mailto:test-report@dpdk.org>
List-Help: <mailto:test-report-request@dpdk.org?subject=help>
List-Subscribe: <https://mails.dpdk.org/listinfo/test-report>,
 <mailto:test-report-request@dpdk.org?subject=subscribe>
Errors-To: test-report-bounces@dpdk.org

Test-Label: iol-sample-apps-testing
Test-Status: SUCCESS
http://dpdk.org/patch/152864

_Testing PASS_

Submitter: Shaiq Wani <shaiq.wani@intel.com>
Date: Thursday, April 10 2025 05:24:06 
DPDK git baseline: Repo:dpdk
  Branch: master
  CommitID:d7817c378fecd07c59360667f93c25dff4b1a145

152861-152864 --> testing pass

Upstream job id: ACVP-FIPS-testing#9506

Test environment and result as below:

+--------------------+----------------------+----------------------+
|    Environment     | compressdev_zlib_pmd | dpdk_fips_validation |
+====================+======================+======================+
| Ubuntu 22.04 (ARM) | PASS                 | SKIPPED              |
+--------------------+----------------------+----------------------+
| Ubuntu 22.04       | PASS                 | SKIPPED              |
+--------------------+----------------------+----------------------+
| Ubuntu 20.04       | SKIPPED              | PASS                 |
+--------------------+----------------------+----------------------+


Ubuntu 22.04 (ARM)
	Kernel: 5.15.0-97-generic
	Compiler: gcc gcc (Ubuntu 11.4.0-1ubuntu1~22.04) 11.4.0

Ubuntu 22.04
	Kernel: 5.15.0-100-generic
	Compiler: gcc gcc (Ubuntu 11.4.0-1ubuntu1~22.04) 11.4.0

Ubuntu 20.04
	Kernel: Depends on container host
	Compiler: gcc (Ubuntu 9.4.0-1ubuntu1~20.04.2) 9.4.0

To view detailed results, visit:
https://lab.dpdk.org/results/dashboard/patchsets/32984/

UNH-IOL DPDK Community Lab

To manage your email subscriptions, visit: 
https://lab.dpdk.org/results/dashboard/preferences/subscriptions/