From mboxrd@z Thu Jan 1 00:00:00 1970 Return-Path: Received: from mails.dpdk.org (mails.dpdk.org [217.70.189.124]) by inbox.dpdk.org (Postfix) with ESMTP id 4FFC746553 for ; Thu, 10 Apr 2025 18:40:29 +0200 (CEST) Received: from mails.dpdk.org (localhost [127.0.0.1]) by mails.dpdk.org (Postfix) with ESMTP id 26C5E40691; Thu, 10 Apr 2025 18:40:29 +0200 (CEST) Received: from mail-pj1-f99.google.com (mail-pj1-f99.google.com [209.85.216.99]) by mails.dpdk.org (Postfix) with ESMTP id 5D91C402ED for ; Thu, 10 Apr 2025 18:40:27 +0200 (CEST) Received: by mail-pj1-f99.google.com with SMTP id 98e67ed59e1d1-2ff784dc055so1144611a91.1 for ; Thu, 10 Apr 2025 09:40:27 -0700 (PDT) DKIM-Signature: v=1; a=rsa-sha256; c=relaxed/relaxed; d=iol.unh.edu; s=unh-iol; t=1744303226; x=1744908026; darn=dpdk.org; h=references:in-reply-to:cc:to:from:subject:message-id:date:from:to :cc:subject:date:message-id:reply-to; bh=MygOWSRjriKxhU37Qku3bm/+TU9PBBJihOLWdv/cLhk=; b=frEFfOzoDCaGGd6D0/tGngROga2cJfjby6z0mUP/butkUWhc3jzmGI81Nji3UhR5VB 6An0mwwh6jk+/ZCc0NMlk9suHi1fYPFVwzKqLW4uyfaPelI1Gp8JHca6PN57RdHpFMLE XJQ0/xUfq8BOQNY4YndsnXB3S4gP+P7dQF48M= X-Google-DKIM-Signature: v=1; a=rsa-sha256; c=relaxed/relaxed; d=1e100.net; s=20230601; t=1744303226; x=1744908026; h=references:in-reply-to:cc:to:from:subject:message-id:date :x-gm-message-state:from:to:cc:subject:date:message-id:reply-to; bh=MygOWSRjriKxhU37Qku3bm/+TU9PBBJihOLWdv/cLhk=; b=OAwYDQMPYjRtisAKzBqg61FUFJRbXDdgMqhi9doyW7C766+mzfi7phbTYOHpzi9Kfe P/wJvrEu+6+U78d6bH3Tgg8NXfHj9dQzIdcT8F2GBXGKxHQoVK3jtJxGPGDadAUWb7tJ xJapMKN/k8UZCUcBpaFhpP1u37HQV3oS9exrYsnbRTIVQwzirus8rs5ca2BDEg24I3mD Bvgpj/xZ8Zd1UCR8G0W9tb4DH61IJAB8349YZrRNxK8n8WWrNkktZNnUsk7d6Qz2j8vD 4VRRhWvGfwlIqBr0oj+LiL8zncEw5G2z3IZhN9s3RuiqbbodGlfYZbG6MARY9yVdteEd e76w== X-Gm-Message-State: AOJu0YwP/v5K3VygsPIXE4veT+3CrRAQwBVAPFJATyYNRZD6w6zXF5Su NjRNhamqR1hms0vM6yUu63irxkslrOptZgS6aMTdn9qfTNdk8iJL4uThm2QYlRkj1Xy0RNrowL2 4VRKnVpg+OUsR6xHrVyMwsI11iR664wS5OX4fQX+Y4a4UX4pBEapUzd6C X-Gm-Gg: ASbGncuiDz5bY8C0BFhuWAGHodSYC1g3RBhVaiNkdm3dLHOaP3fGjZgdHBvhv33brta 22evW4z3Mte6no2ekkXUn07xI/eKzxgf64lM9AeJ2xmOhhWsEbqOuBGsxYqc/HJOdsEGqnogmHo k8rDyy8BvMMInmtQrqIh9ntpD3YptJ59b0iSQlbVCZrvlrloT3vYBz2DBPeNff4HcuzUS5tMpdb fbg50jNeIWqogB68gvWmVmAQlOjy2lPpxDl2TEG3B4UnI9MR8nWUJGUtv+dIXHfH0I5tJNgQ96Z mw/h5hrhmYiA7cnYbke8ShXQT5BK9fy6n43NVJP88IRXuuyj X-Google-Smtp-Source: AGHT+IEGQaGtoEpTu5OusW4lK2zDhUB4kRlSdHKvTgf0Th6hUN9EbXoqvImB/+1t3NNlKY0+Bqkjyvsm2Eh2 X-Received: by 2002:a17:90b:2d87:b0:2ee:f076:20fb with SMTP id 98e67ed59e1d1-30718b7f923mr6348432a91.17.1744303226397; Thu, 10 Apr 2025 09:40:26 -0700 (PDT) Received: from postal.iol.unh.edu (postal.iol.unh.edu. [2606:4100:3880:1234::84]) by smtp-relay.gmail.com with ESMTPS id 98e67ed59e1d1-306dd170988sm397975a91.10.2025.04.10.09.40.26 (version=TLS1_2 cipher=ECDHE-ECDSA-AES128-GCM-SHA256 bits=128/128); Thu, 10 Apr 2025 09:40:26 -0700 (PDT) X-Relaying-Domain: iol.unh.edu Date: Thu, 10 Apr 2025 09:40:26 -0700 (PDT) Message-ID: <67f7f47a.170a0220.cb52f.dd06SMTPIN_ADDED_MISSING@mx.google.com> Received: from [172.21.0.5] (unknown [172.18.0.240]) by postal.iol.unh.edu (Postfix) with ESMTP id 83EDE6052471; Thu, 10 Apr 2025 12:40:25 -0400 (EDT) Subject: |SUCCESS| pw152865 [PATCH] net/intel: fix xstats name From: dpdklab@iol.unh.edu To: Test Report Cc: dpdk-test-reports@iol.unh.edu In-Reply-To: <20250410055246.809646-1-kaiwenx.deng@intel.com> References: <20250410055246.809646-1-kaiwenx.deng@intel.com> Content-Type: text/plain X-BeenThere: test-report@dpdk.org X-Mailman-Version: 2.1.29 Precedence: list List-Id: automatic DPDK test reports List-Unsubscribe: , List-Archive: List-Post: List-Help: List-Subscribe: , Errors-To: test-report-bounces@dpdk.org Test-Label: iol-unit-arm64-testing Test-Status: SUCCESS http://dpdk.org/patch/152865 _Testing PASS_ Submitter: Deng, KaiwenX Date: Thursday, April 10 2025 05:52:46 DPDK git baseline: Repo:dpdk Branch: master CommitID:d7817c378fecd07c59360667f93c25dff4b1a145 152865 --> testing pass Upstream job id: Generic-Unit-Test-DPDK#330236 Test environment and result as below: +-----------------------------+----------------+--------------+---------------------------+------------------------------+ | Environment | dpdk_unit_test | lpm_autotest | cryptodev_sw_zuc_autotest | cryptodev_sw_snow3g_autotest | +=============================+================+==============+===========================+==============================+ | 32-bit Ubuntu 22.04.4 (ARM) | PASS | SKIPPED | SKIPPED | SKIPPED | +-----------------------------+----------------+--------------+---------------------------+------------------------------+ | CentOS Stream 9 (ARM) | PASS | SKIPPED | SKIPPED | SKIPPED | +-----------------------------+----------------+--------------+---------------------------+------------------------------+ | CentOS Stream 10 (ARM) | PASS | SKIPPED | SKIPPED | SKIPPED | +-----------------------------+----------------+--------------+---------------------------+------------------------------+ | Debian 12 (arm) | PASS | SKIPPED | PASS | PASS | +-----------------------------+----------------+--------------+---------------------------+------------------------------+ | Fedora 40 (ARM Clang) | PASS | SKIPPED | SKIPPED | SKIPPED | +-----------------------------+----------------+--------------+---------------------------+------------------------------+ | Fedora 41 (ARM) | PASS | SKIPPED | SKIPPED | SKIPPED | +-----------------------------+----------------+--------------+---------------------------+------------------------------+ | Fedora 40 (ARM) | PASS | SKIPPED | SKIPPED | SKIPPED | +-----------------------------+----------------+--------------+---------------------------+------------------------------+ | Fedora 41 (ARM Clang) | PASS | SKIPPED | SKIPPED | SKIPPED | +-----------------------------+----------------+--------------+---------------------------+------------------------------+ | RHEL9 (ARM) | PASS | SKIPPED | SKIPPED | SKIPPED | +-----------------------------+----------------+--------------+---------------------------+------------------------------+ | Ubuntu 22.04 (ARM) | PASS | SKIPPED | SKIPPED | SKIPPED | +-----------------------------+----------------+--------------+---------------------------+------------------------------+ | Ubuntu 24.04 (ARM) | PASS | SKIPPED | SKIPPED | SKIPPED | +-----------------------------+----------------+--------------+---------------------------+------------------------------+ | Ubuntu 20.04 (ARM) | PASS | SKIPPED | SKIPPED | SKIPPED | +-----------------------------+----------------+--------------+---------------------------+------------------------------+ | Ubuntu 20.04 ARM SVE | SKIPPED | PASS | SKIPPED | SKIPPED | +-----------------------------+----------------+--------------+---------------------------+------------------------------+ 32-bit Ubuntu 22.04.4 (ARM) Kernel: 5.15.83+ aarch64 Compiler: gcc (Ubuntu 11.4.0-1ubuntu1~22.04) 11.4.0 CentOS Stream 9 (ARM) Kernel: Depends on container host Compiler: gcc 11.5.0 20240719 (Red Hat 11.5.0-2) CentOS Stream 10 (ARM) Kernel: Depends on container host Compiler: gcc 14.2.1 20241104 (Red Hat 14.2.1-6) Debian 12 (arm) Kernel: Depends on container host Compiler: gcc (Debian 12.2.0-14) 12.2.0 Fedora 40 (ARM Clang) Kernel: Depends on container host Compiler: clang 18.1.8 (Fedora 18.1.8-1.fc40) Fedora 41 (ARM) Kernel: Depends on container host Compiler: gcc 14.2.1 20240912 (Red Hat 14.2.1-3) Fedora 40 (ARM) Kernel: Depends on container host Compiler: gcc 14.2.1 20240912 (Red Hat 14.2.1-3) Fedora 41 (ARM Clang) Kernel: Depends on container host Compiler: clang 19.1.5 (Fedora 19.1.5-1.fc41) RHEL9 (ARM) Kernel: Depends on container host Compiler: gcc 11.5.0 20240719 (Red Hat 11.5.0-2) Ubuntu 22.04 (ARM) Kernel: Depends on container host Compiler: gcc (Ubuntu 11.4.0-1ubuntu1~22.04) 11.4.0 Ubuntu 24.04 (ARM) Kernel: Depends on container host Compiler: gcc (Ubuntu 13.3.0-6ubuntu2~24.04) 13.3.0 Ubuntu 20.04 (ARM) Kernel: Depends on container host Compiler: gcc (Ubuntu 9.4.0-1ubuntu1~20.04.2) 9.4.0 Ubuntu 20.04 ARM SVE Kernel: Depends on container host Compiler: gcc (Ubuntu 10.5.0-1ubuntu1~20.04) 10.5.0 To view detailed results, visit: https://lab.dpdk.org/results/dashboard/patchsets/32985/ UNH-IOL DPDK Community Lab To manage your email subscriptions, visit: https://lab.dpdk.org/results/dashboard/preferences/subscriptions/