From mboxrd@z Thu Jan 1 00:00:00 1970 Return-Path: Received: from mails.dpdk.org (mails.dpdk.org [217.70.189.124]) by inbox.dpdk.org (Postfix) with ESMTP id 29EEC46553 for ; Thu, 10 Apr 2025 18:48:42 +0200 (CEST) Received: from mails.dpdk.org (localhost [127.0.0.1]) by mails.dpdk.org (Postfix) with ESMTP id 005ED40691; Thu, 10 Apr 2025 18:48:42 +0200 (CEST) Received: from mail-pf1-f226.google.com (mail-pf1-f226.google.com [209.85.210.226]) by mails.dpdk.org (Postfix) with ESMTP id 0A16D402ED for ; Thu, 10 Apr 2025 18:48:41 +0200 (CEST) Received: by mail-pf1-f226.google.com with SMTP id d2e1a72fcca58-736a72220edso1090135b3a.3 for ; Thu, 10 Apr 2025 09:48:40 -0700 (PDT) DKIM-Signature: v=1; a=rsa-sha256; c=relaxed/relaxed; d=iol.unh.edu; s=unh-iol; t=1744303720; x=1744908520; darn=dpdk.org; h=references:in-reply-to:cc:to:from:subject:message-id:date:from:to :cc:subject:date:message-id:reply-to; bh=yMtS4Xm0fhQFxJsNYWNPysT180x5Njili52gXCnOckw=; b=Wx++W+pDBXGmt8yW682UmDNXh81/hWvCxSo7aaJAXdUTYcxB3d1/E5q0eCN1NqHkIB 2dPB0Mo9cmLHIOPiAynCkSZ5pbgIR3gyYPkZVjZAr50GTPeQf5TS5eRdlpypfyCANBSf 9xC7Zk0UUyov43g5Xjz0xW/OPkqTlVKSOABRE= X-Google-DKIM-Signature: v=1; a=rsa-sha256; c=relaxed/relaxed; d=1e100.net; s=20230601; t=1744303720; x=1744908520; h=references:in-reply-to:cc:to:from:subject:message-id:date :x-gm-message-state:from:to:cc:subject:date:message-id:reply-to; bh=yMtS4Xm0fhQFxJsNYWNPysT180x5Njili52gXCnOckw=; b=qNAsfazdGpbQdvxw1E33T5jQY0gUzXJCE7KgIKYPQ2xcUt3nrH4lOFf0NcgZV6LzdP I8Bfz9aCl6r6y88aMk6HZv70fdcMEh8QqiPIKaULT0AxVC0bi/haf+uC8SURQhI/Jw1t FGOK5DgfZ/ptw/Js15YWSoLNDB0XRyVc9rHi6mPH0tnfW9Ildm7KVpiimMxAvetsuskE yfSVgp90DUbkBXvS3O4nanHyrVuEJS6d9C00Uo6WkHC0Dexae3soR0XscReiVGUyITcD Nh2akXd+t1qCKd16TcChZcPJgsTg5CCof2bVlxu7CDlNqcLokN7OXuJjZDvU1BMfzrjW t9sw== X-Gm-Message-State: AOJu0Yz3YdOLcd8I310GQY96kLxk3QiwtCwV5BFdbzzI8yxkkK039KFb c0eZqdow7cijyjtgZyDAxUD28hVCZYn+YAA3UBlwXTnqqroIBYAQyHwGjdtXVfz42g9ppZ7RWb3 1RSxZmPy1K8Tssh1h/j6rMABeW7bCMi9MGZAtvYd1 X-Gm-Gg: ASbGncuujargnoEdS5kMWtPq9i7cSC+CAEpUdxAJ1l+80qFDw69QwtA0tL+1G23QPpo HOuhHnQxWHVMsDy0JprPTue3iKUoenuSNx13fQIlAGUFimMR/IhcYS74ASy85qLCRa36pLF5sn6 k8i3r+XrlFDrTi/Ckh7NOQHbtBxQkdmJv27NxglfDicuq0lAgHnchDM48bp/pfHSaIjFKqnLcxx soVZmjnQjvIhxqVNVEjKHx6/LsjLypTw9G2YGgIUlWGVv1UvOWOz5AT6nl8KReUb/5XkZoc7q5K SmDFTShoxy+OQv+4uaiGuPqv2SN4ASOuz8Hk X-Google-Smtp-Source: AGHT+IGbh0QLxUtAskY3lcSm4PuDg9p3eWxGUOluuhsW+R2Itfpxztq0v/JGg0WONaolfPhfcTdbz9Z3eALw X-Received: by 2002:a05:6a00:2185:b0:736:4830:68a6 with SMTP id d2e1a72fcca58-73bbee2c6a2mr5022702b3a.4.1744303719874; Thu, 10 Apr 2025 09:48:39 -0700 (PDT) Received: from postal.iol.unh.edu (postal.iol.unh.edu. [132.177.123.84]) by smtp-relay.gmail.com with ESMTPS id 41be03b00d2f7-b02a2b33d39sm175421a12.22.2025.04.10.09.48.39 (version=TLS1_2 cipher=ECDHE-ECDSA-AES128-GCM-SHA256 bits=128/128); Thu, 10 Apr 2025 09:48:39 -0700 (PDT) X-Relaying-Domain: iol.unh.edu Date: Thu, 10 Apr 2025 09:48:39 -0700 (PDT) Message-ID: <67f7f667.050a0220.16d3c0.5b3fSMTPIN_ADDED_MISSING@mx.google.com> Received: from [172.21.0.6] (unknown [172.18.0.240]) by postal.iol.unh.edu (Postfix) with ESMTP id 0362B6052471; Thu, 10 Apr 2025 12:48:39 -0400 (EDT) Subject: |SUCCESS| pw152865 [PATCH] net/intel: fix xstats name From: dpdklab@iol.unh.edu To: Test Report Cc: dpdk-test-reports@iol.unh.edu In-Reply-To: <20250410055246.809646-1-kaiwenx.deng@intel.com> References: <20250410055246.809646-1-kaiwenx.deng@intel.com> Content-Type: text/plain X-BeenThere: test-report@dpdk.org X-Mailman-Version: 2.1.29 Precedence: list List-Id: automatic DPDK test reports List-Unsubscribe: , List-Archive: List-Post: List-Help: List-Subscribe: , Errors-To: test-report-bounces@dpdk.org Test-Label: iol-sample-apps-testing Test-Status: SUCCESS http://dpdk.org/patch/152865 _Testing PASS_ Submitter: Deng, KaiwenX Date: Thursday, April 10 2025 05:52:46 DPDK git baseline: Repo:dpdk Branch: master CommitID:d7817c378fecd07c59360667f93c25dff4b1a145 152865 --> testing pass Upstream job id: Template-DTS-Pipeline#221143 Test environment and result as below: +--------------------+----------------------+----------------------+ | Environment | dpdk_fips_validation | compressdev_zlib_pmd | +====================+======================+======================+ | Ubuntu 20.04 | PASS | SKIPPED | +--------------------+----------------------+----------------------+ | Ubuntu 22.04 (ARM) | SKIPPED | PASS | +--------------------+----------------------+----------------------+ | Ubuntu 22.04 | SKIPPED | PASS | +--------------------+----------------------+----------------------+ Ubuntu 20.04 Kernel: Depends on container host Compiler: gcc (Ubuntu 9.4.0-1ubuntu1~20.04.2) 9.4.0 Ubuntu 22.04 (ARM) Kernel: 5.15.0-97-generic Compiler: gcc gcc (Ubuntu 11.4.0-1ubuntu1~22.04) 11.4.0 Ubuntu 22.04 Kernel: 5.15.0-100-generic Compiler: gcc gcc (Ubuntu 11.4.0-1ubuntu1~22.04) 11.4.0 To view detailed results, visit: https://lab.dpdk.org/results/dashboard/patchsets/32985/ UNH-IOL DPDK Community Lab To manage your email subscriptions, visit: https://lab.dpdk.org/results/dashboard/preferences/subscriptions/