From mboxrd@z Thu Jan 1 00:00:00 1970 Return-Path: Received: from mails.dpdk.org (mails.dpdk.org [217.70.189.124]) by inbox.dpdk.org (Postfix) with ESMTP id 4971E46553 for ; Thu, 10 Apr 2025 18:50:25 +0200 (CEST) Received: from mails.dpdk.org (localhost [127.0.0.1]) by mails.dpdk.org (Postfix) with ESMTP id 2E79840691; Thu, 10 Apr 2025 18:50:25 +0200 (CEST) Received: from mail-oo1-f99.google.com (mail-oo1-f99.google.com [209.85.161.99]) by mails.dpdk.org (Postfix) with ESMTP id 743C8402ED for ; Thu, 10 Apr 2025 18:50:23 +0200 (CEST) Received: by mail-oo1-f99.google.com with SMTP id 006d021491bc7-603be85490bso545491eaf.2 for ; Thu, 10 Apr 2025 09:50:23 -0700 (PDT) DKIM-Signature: v=1; a=rsa-sha256; c=relaxed/relaxed; d=iol.unh.edu; s=unh-iol; t=1744303822; x=1744908622; darn=dpdk.org; h=references:in-reply-to:cc:to:from:subject:message-id:date:from:to :cc:subject:date:message-id:reply-to; bh=RGMaN9JEhFsTkob7hQhmUnSrbqTI5sZ4mGK1C8mjKwE=; b=Pv9kc1AoJQ9gh5bdoNLVgyc/PDGm3tuf6YfLZ+qXhMalN+L4DdI9AXs4Ii/he8O3rf n+0GXyNpVHp0u9+XXn1vfEl8wC4fMI2IDu6OB2mv2BMYtk68RRG9xnW1Bh617a1RjENf AAB4tsMo3Dy2WMaadWlyuyLk2uKS0GJqsyE0Y= X-Google-DKIM-Signature: v=1; a=rsa-sha256; c=relaxed/relaxed; d=1e100.net; s=20230601; t=1744303822; x=1744908622; h=references:in-reply-to:cc:to:from:subject:message-id:date :x-gm-message-state:from:to:cc:subject:date:message-id:reply-to; bh=RGMaN9JEhFsTkob7hQhmUnSrbqTI5sZ4mGK1C8mjKwE=; b=dfHiKxdNXLZ+K2Noq++b8sfbnFsod0pUnyfRr9ooKDfoyh1zd6zYVipAtNte/cvWvV iQlPeH5E9vXQqtt8FyF4mAN0W3V9e/UAUJqQTVHhplq7/cwQG0VnNSIcqCJEbFz1UpPl Hf1vV2TIE4BJvbtdz1UPRwYMBKmnGiM+8/79t+e9Hafp4eUcHcEZ5lr0hnMIkaTC4L5/ 45kPeqS5bQwb4OjfEtgLDvOq7PDnsEcTJx0B93i77/c9gqSCotsSOgA8T604rcYfaGXG 3Cw/UWRBhbOUCkIA0LTAEYFKJQUxklqRUuFKt9YK02cMbef5RZ94M3UUrwVAND5jnpdh Nwnw== X-Gm-Message-State: AOJu0YxZqv7OemMu2eNEUftJtoiSvWQkt/V5YhZwspy9MwhHb80JhSfx MeRZptxa6a3BnOXC4l+RmcUGIM6EJXzZdt9dXbXuswsQQzx2nBL3lIFXOQ+kx6HDf1xCS2D3woI mL2pEYLIS2VfVMVFwjOjW02OjdAWT+huNSQC37xW1 X-Gm-Gg: ASbGncv6GUJJewdNtXjhcCkvCUjCMjoHJ1o+K6o29YGPuyHDuTHpTifCH+ZSh4r8+1v Y4dcIEAidjLu+rgtxEcaXbu7rw00YnS7Z6KE0uKLfo1Vdgum69KEx/YqQlGpojxdOqn1qYonmGb VHTDQs/WSYKsxajNqguJ8ns/Zv6yjlyooZK+AEM4xP0bVgqJO1GhUbkMxldFGozIGthsMYxX/v/ geXhwLade2JsTad47nKeuro6lc999ulSwtvuXMub7yaBGCtmBvdha1oFMqI4AZuP4H32cMEdRSO O9sxBsGMiVxdvFWXWChZWFuMjWbt7LEeQ4V2 X-Google-Smtp-Source: AGHT+IFYRs4FqECa/2MFI/amqqs0GtIgTCX50P4yyUINaZBSpYcSPbSNmN/MiLYCQepKlX9U8iaOmzwj9NcO X-Received: by 2002:a05:6820:4c0f:b0:600:29ec:7619 with SMTP id 006d021491bc7-60466bc0807mr1531820eaf.2.1744303822493; Thu, 10 Apr 2025 09:50:22 -0700 (PDT) Received: from postal.iol.unh.edu (postal.iol.unh.edu. [132.177.123.84]) by smtp-relay.gmail.com with ESMTPS id 006d021491bc7-6045f53b790sm162000eaf.14.2025.04.10.09.50.22 (version=TLS1_2 cipher=ECDHE-ECDSA-AES128-GCM-SHA256 bits=128/128); Thu, 10 Apr 2025 09:50:22 -0700 (PDT) X-Relaying-Domain: iol.unh.edu Date: Thu, 10 Apr 2025 09:50:22 -0700 (PDT) Message-ID: <67f7f6ce.4a0a0220.24ce0.624dSMTPIN_ADDED_MISSING@mx.google.com> Received: from [172.17.0.3] (unknown [172.18.0.217]) by postal.iol.unh.edu (Postfix) with ESMTP id DFC826052471; Thu, 10 Apr 2025 12:50:21 -0400 (EDT) Subject: |SUCCESS| pw152865 [PATCH] net/intel: fix xstats name From: dpdklab@iol.unh.edu To: Test Report Cc: dpdk-test-reports@iol.unh.edu In-Reply-To: <20250410055246.809646-1-kaiwenx.deng@intel.com> References: <20250410055246.809646-1-kaiwenx.deng@intel.com> Content-Type: text/plain X-BeenThere: test-report@dpdk.org X-Mailman-Version: 2.1.29 Precedence: list List-Id: automatic DPDK test reports List-Unsubscribe: , List-Archive: List-Post: List-Help: List-Subscribe: , Errors-To: test-report-bounces@dpdk.org Test-Label: iol-unit-amd64-testing Test-Status: SUCCESS http://dpdk.org/patch/152865 _Testing PASS_ Submitter: Deng, KaiwenX Date: Thursday, April 10 2025 05:52:46 DPDK git baseline: Repo:dpdk Branch: master CommitID:d7817c378fecd07c59360667f93c25dff4b1a145 152865 --> testing pass Upstream job id: Generic-Unit-Test-DPDK#330242 Test environment and result as below: +---------------------+----------------+ | Environment | dpdk_unit_test | +=====================+================+ | CentOS Stream 9 | PASS | +---------------------+----------------+ | CentOS Stream 10 | PASS | +---------------------+----------------+ | Debian 12 | PASS | +---------------------+----------------+ | Fedora 40 (Clang) | PASS | +---------------------+----------------+ | RHEL9 | PASS | +---------------------+----------------+ | Fedora 40 | PASS | +---------------------+----------------+ | RHEL8 | PASS | +---------------------+----------------+ | Fedora 41 | PASS | +---------------------+----------------+ | Fedora 41 (Clang) | PASS | +---------------------+----------------+ | Ubuntu 20.04 | PASS | +---------------------+----------------+ | Ubuntu 22.04 | PASS | +---------------------+----------------+ | Ubuntu 24.04 | PASS | +---------------------+----------------+ | Windows Server 2022 | PASS | +---------------------+----------------+ CentOS Stream 9 Kernel: Depends on container host Compiler: gcc 11.5.0 20240719 (Red Hat 11.5.0-2) CentOS Stream 10 Kernel: Depends on container host Compiler: gcc 14.2.1 20241104 (Red Hat 14.2.1-6) Debian 12 Kernel: Depends on container host Compiler: gcc (Debian 12.2.0-14) 12.2.0 Fedora 40 (Clang) Kernel: Depends on container host Compiler: clang 18.1.8 (Fedora 18.1.8-1.fc40) RHEL9 Kernel: Depends on container host Compiler: gcc 11.5.0 20240719 (Red Hat 11.5.0-2) Fedora 40 Kernel: Depends on container host Compiler: gcc 14.2.1 20240912 (Red Hat 14.2.1-3) RHEL8 Kernel: Depends on container host Compiler: gcc 8.5.0 20210514 (Red Hat 8.5.0-22) Fedora 41 Kernel: Depends on container host Compiler: gcc 14.2.1 20240912 (Red Hat 14.2.1-3) Fedora 41 (Clang) Kernel: Depends on container host Compiler: clang 19.1.5 (Fedora 19.1.5-1.fc41) Ubuntu 20.04 Kernel: Depends on container host Compiler: gcc (Ubuntu 9.4.0-1ubuntu1~20.04.2) 9.4.0 Ubuntu 22.04 Kernel: Depends on container host Compiler: gcc (Ubuntu 11.4.0-1ubuntu1~22.04) 11.4.0 Ubuntu 24.04 Kernel: Depends on container host Compiler: gcc (Ubuntu 13.3.0-6ubuntu2~24.04) 13.3.0 Windows Server 2022 Kernel: 10.0.20348.2031 Compiler: clang 15.0.7, gcc 14.1.0 (MinGW), and MSVC VS 19.39.33521 To view detailed results, visit: https://lab.dpdk.org/results/dashboard/patchsets/32985/ UNH-IOL DPDK Community Lab To manage your email subscriptions, visit: https://lab.dpdk.org/results/dashboard/preferences/subscriptions/