From mboxrd@z Thu Jan 1 00:00:00 1970 Return-Path: Received: from mails.dpdk.org (mails.dpdk.org [217.70.189.124]) by inbox.dpdk.org (Postfix) with ESMTP id B5EDA46553 for ; Thu, 10 Apr 2025 19:08:32 +0200 (CEST) Received: from mails.dpdk.org (localhost [127.0.0.1]) by mails.dpdk.org (Postfix) with ESMTP id B0E0B406B7; Thu, 10 Apr 2025 19:08:32 +0200 (CEST) Received: from mail-pj1-f98.google.com (mail-pj1-f98.google.com [209.85.216.98]) by mails.dpdk.org (Postfix) with ESMTP id C2849402ED for ; Thu, 10 Apr 2025 19:08:30 +0200 (CEST) Received: by mail-pj1-f98.google.com with SMTP id 98e67ed59e1d1-301cda78d48so1017504a91.0 for ; Thu, 10 Apr 2025 10:08:30 -0700 (PDT) DKIM-Signature: v=1; a=rsa-sha256; c=relaxed/relaxed; d=iol.unh.edu; s=unh-iol; t=1744304910; x=1744909710; darn=dpdk.org; h=references:in-reply-to:cc:to:from:subject:message-id:date:from:to :cc:subject:date:message-id:reply-to; bh=lC8loio4fI3Ta+XRb8lWExu09jQ28K2TVHgr5UfgGsA=; b=FscFUdomZr4bfl1AwgskIF1ICLE6IRQW91eZHoQM0+5/KYh10CcoA937tj3qnwMfru to4N57TQszxmp/NiRU57YXv3jBsQd/hV8xbvj9tZ3GuaSH60dkN9lqXKjMmYGXnlpWw4 DSLi9HKckyl8eOE/Lf9I6MleReB5nuaWmx1uw= X-Google-DKIM-Signature: v=1; a=rsa-sha256; c=relaxed/relaxed; d=1e100.net; s=20230601; t=1744304910; x=1744909710; h=references:in-reply-to:cc:to:from:subject:message-id:date :x-gm-message-state:from:to:cc:subject:date:message-id:reply-to; bh=lC8loio4fI3Ta+XRb8lWExu09jQ28K2TVHgr5UfgGsA=; b=Jm1niP/kU0vaU5T5ky0mF1U6STBjwcRQp8x2sLvnrWZQ+ubTgPpEpPCsifTpBzK9RX tSWoSY4Wv4m9ZU2KGcvChXBqHqA+8aG6FFBJTy/p/hW64oDpOL1DCY1oyH1KOtgu1S6r dHJcpAAOu+g4DvxWvDErBcT3W/Vd50oph/jyh04XnW9p3x7+ClMivZaKrReV4V6YmG/B Dz0imhBjQzs9O31bqcWZb6IyWNfK7wVNL35wITYbKjWYFl7hCNrC4bYXZ1bveJg2d6ZW 9ji9HAdPwEKuXHTL9kRf5aI8q7Y3BCIl09r4hW07CJ1KmIJndnLEQLelUb9zxg8slIhN CslA== X-Gm-Message-State: AOJu0Yx4jwN3H5gjGfTJTcUITF4PBHaw4qdzN5SiulIVtjZFZEyHQ764 fiHaPKJXiBDwxnMR8QDaF9zQfNEBpS2EjEHRG3RKeVOqJ/38orCl1ld0KKTmRb+rJ8mXRoZuT8L Zh5/70Cg1i0kR+ypNZ1j64Tx18CMKbPvZCmE5AaZ0YyPIuw30z/NGyCBV X-Gm-Gg: ASbGncsXe0cJO8BHe6ovZDnFiFBx6IBrcEpcY9LQ6LZgE4PtyJTCQtucF7JTk0w2/CH GeviAzc7fmP0dkt9qc8AIuuVMtBtePA7lxnsfQAwaXz6KuTsqLXXnIFQHJzB8tieBbfXrpTrNe4 t1SpLfsFzc86Xwrt5ppVSp+M8Qnk1Eq6Y7hYn7/iLzKVixl80pZSKv1f3z+mrFW8yNCxa5EvqM/ OV2XR28DZ8wnKxTEHa0g8RopuvitNX8cPXHlxv12ajJCqTazdIxktn9xA11/jgq/7s3uU2G7Z93 uERA/RBGvuSH0nxbOkix5LCDkyMiC9qYD9QnOowUNhL8N9X5 X-Google-Smtp-Source: AGHT+IFBlgJGNHqeq3jLBGTzWCbUT/jnURea0hnNb2vKTxfzr2FuogpX4OiFBJ8WoSFiMZXHJfoCPMQCCjQ9 X-Received: by 2002:a17:90b:1ccb:b0:2ef:2f49:7d7f with SMTP id 98e67ed59e1d1-307e59996bfmr5913484a91.18.1744304909940; Thu, 10 Apr 2025 10:08:29 -0700 (PDT) Received: from postal.iol.unh.edu (postal.iol.unh.edu. [2606:4100:3880:1234::84]) by smtp-relay.gmail.com with ESMTPS id 98e67ed59e1d1-306df403edesm365601a91.13.2025.04.10.10.08.29 (version=TLS1_2 cipher=ECDHE-ECDSA-AES128-GCM-SHA256 bits=128/128); Thu, 10 Apr 2025 10:08:29 -0700 (PDT) X-Relaying-Domain: iol.unh.edu Date: Thu, 10 Apr 2025 10:08:29 -0700 (PDT) Message-ID: <67f7fb0d.170a0220.309c9c.d55eSMTPIN_ADDED_MISSING@mx.google.com> Received: from [172.17.0.3] (unknown [172.18.0.217]) by postal.iol.unh.edu (Postfix) with ESMTP id 1480F6052472; Thu, 10 Apr 2025 13:08:29 -0400 (EDT) Subject: |SUCCESS| pw152865 [PATCH] net/intel: fix xstats name From: dpdklab@iol.unh.edu To: Test Report Cc: dpdk-test-reports@iol.unh.edu In-Reply-To: <20250410055246.809646-1-kaiwenx.deng@intel.com> References: <20250410055246.809646-1-kaiwenx.deng@intel.com> Content-Type: text/plain X-BeenThere: test-report@dpdk.org X-Mailman-Version: 2.1.29 Precedence: list List-Id: automatic DPDK test reports List-Unsubscribe: , List-Archive: List-Post: List-Help: List-Subscribe: , Errors-To: test-report-bounces@dpdk.org Test-Label: iol-compile-amd64-testing Test-Status: SUCCESS http://dpdk.org/patch/152865 _Testing PASS_ Submitter: Deng, KaiwenX Date: Thursday, April 10 2025 05:52:46 DPDK git baseline: Repo:dpdk Branch: master CommitID:d7817c378fecd07c59360667f93c25dff4b1a145 152865 --> testing pass Upstream job id: Generic-DPDK-Compile-Meson#379091 Test environment and result as below: +-----------------------------------+--------------------+-------------------+------------------+-------------------------+-------------------+----------------------+ | Environment | dpdk_meson_compile | dpdk_compile_spdk | dpdk_compile_ovs | dpdk_llvm_clang_compile | dpdk_msvc_compile | dpdk_mingw64_compile | +===================================+====================+===================+==================+=========================+===================+======================+ | CentOS Stream 9 | PASS | PASS | SKIPPED | SKIPPED | SKIPPED | SKIPPED | +-----------------------------------+--------------------+-------------------+------------------+-------------------------+-------------------+----------------------+ | Debian 12 | PASS | PASS | SKIPPED | SKIPPED | SKIPPED | SKIPPED | +-----------------------------------+--------------------+-------------------+------------------+-------------------------+-------------------+----------------------+ | Fedora 40 (Clang) | PASS | PASS | SKIPPED | SKIPPED | SKIPPED | SKIPPED | +-----------------------------------+--------------------+-------------------+------------------+-------------------------+-------------------+----------------------+ | CentOS Stream 10 | PASS | SKIPPED | SKIPPED | SKIPPED | SKIPPED | SKIPPED | +-----------------------------------+--------------------+-------------------+------------------+-------------------------+-------------------+----------------------+ | Fedora 40 | PASS | PASS | SKIPPED | SKIPPED | SKIPPED | SKIPPED | +-----------------------------------+--------------------+-------------------+------------------+-------------------------+-------------------+----------------------+ | Fedora 41 (Clang) | PASS | PASS | PASS | SKIPPED | SKIPPED | SKIPPED | +-----------------------------------+--------------------+-------------------+------------------+-------------------------+-------------------+----------------------+ | Fedora 41 | PASS | PASS | PASS | SKIPPED | SKIPPED | SKIPPED | +-----------------------------------+--------------------+-------------------+------------------+-------------------------+-------------------+----------------------+ | Ubuntu 20.04 | PASS | SKIPPED | SKIPPED | SKIPPED | SKIPPED | SKIPPED | +-----------------------------------+--------------------+-------------------+------------------+-------------------------+-------------------+----------------------+ | RHEL8 | PASS | SKIPPED | SKIPPED | SKIPPED | SKIPPED | SKIPPED | +-----------------------------------+--------------------+-------------------+------------------+-------------------------+-------------------+----------------------+ | openSUSE Leap 15 | PASS | SKIPPED | SKIPPED | SKIPPED | SKIPPED | SKIPPED | +-----------------------------------+--------------------+-------------------+------------------+-------------------------+-------------------+----------------------+ | RHEL9 | PASS | SKIPPED | SKIPPED | SKIPPED | SKIPPED | SKIPPED | +-----------------------------------+--------------------+-------------------+------------------+-------------------------+-------------------+----------------------+ | Ubuntu 22.04 | PASS | PASS | SKIPPED | SKIPPED | SKIPPED | SKIPPED | +-----------------------------------+--------------------+-------------------+------------------+-------------------------+-------------------+----------------------+ | Alpine | PASS | SKIPPED | SKIPPED | SKIPPED | SKIPPED | SKIPPED | +-----------------------------------+--------------------+-------------------+------------------+-------------------------+-------------------+----------------------+ | Ubuntu 24.04 32 Bit Cross Compile | PASS | SKIPPED | SKIPPED | SKIPPED | SKIPPED | SKIPPED | +-----------------------------------+--------------------+-------------------+------------------+-------------------------+-------------------+----------------------+ | FreeBSD 13.5 | PASS | SKIPPED | SKIPPED | SKIPPED | SKIPPED | SKIPPED | +-----------------------------------+--------------------+-------------------+------------------+-------------------------+-------------------+----------------------+ | FreeBSD 14.2 | PASS | SKIPPED | SKIPPED | SKIPPED | SKIPPED | SKIPPED | +-----------------------------------+--------------------+-------------------+------------------+-------------------------+-------------------+----------------------+ | Ubuntu 24.04 | PASS | PASS | PASS | SKIPPED | SKIPPED | SKIPPED | +-----------------------------------+--------------------+-------------------+------------------+-------------------------+-------------------+----------------------+ | Windows Server 2022 | SKIPPED | SKIPPED | SKIPPED | PASS | PASS | PASS | +-----------------------------------+--------------------+-------------------+------------------+-------------------------+-------------------+----------------------+ CentOS Stream 9 Kernel: Depends on container host Compiler: gcc 11.5.0 20240719 (Red Hat 11.5.0-2) Debian 12 Kernel: Depends on container host Compiler: gcc (Debian 12.2.0-14) 12.2.0 Fedora 40 (Clang) Kernel: Depends on container host Compiler: clang 18.1.8 (Fedora 18.1.8-1.fc40) CentOS Stream 10 Kernel: Depends on container host Compiler: gcc 14.2.1 20241104 (Red Hat 14.2.1-6) Fedora 40 Kernel: Depends on container host Compiler: gcc 14.2.1 20240912 (Red Hat 14.2.1-3) Fedora 41 (Clang) Kernel: Depends on container host Compiler: clang 19.1.5 (Fedora 19.1.5-1.fc41) Fedora 41 Kernel: Depends on container host Compiler: gcc 14.2.1 20240912 (Red Hat 14.2.1-3) Ubuntu 20.04 Kernel: Depends on container host Compiler: gcc (Ubuntu 9.4.0-1ubuntu1~20.04.2) 9.4.0 RHEL8 Kernel: Depends on container host Compiler: gcc 8.5.0 20210514 (Red Hat 8.5.0-22) openSUSE Leap 15 Kernel: Depends on container host Compiler: gcc (SUSE Linux) 7.5.0 RHEL9 Kernel: Depends on container host Compiler: gcc 11.5.0 20240719 (Red Hat 11.5.0-2) Ubuntu 22.04 Kernel: Depends on container host Compiler: gcc (Ubuntu 11.4.0-1ubuntu1~22.04) 11.4.0 Alpine Kernel: Depends on container host Compiler: gcc (Alpine 14.2.0) 14.2.0 Ubuntu 24.04 32 Bit Cross Compile Kernel: Depends on container host Compiler: gcc (Ubuntu 13.3.0-6ubuntu2~24.04) 13.3.0 FreeBSD 13.5 Kernel: 13.5-RELEASE Compiler: clang 19.1.7 FreeBSD 14.2 Kernel: 14.2-RELEASE Compiler: clang 18.1.6 Ubuntu 24.04 Kernel: Depends on container host Compiler: gcc (Ubuntu 13.3.0-6ubuntu2~24.04) 13.3.0 Windows Server 2022 Kernel: 10.0.20348.2031 Compiler: clang 15.0.7, gcc 14.1.0 (MinGW), and MSVC VS 19.39.33521 To view detailed results, visit: https://lab.dpdk.org/results/dashboard/patchsets/32985/ UNH-IOL DPDK Community Lab To manage your email subscriptions, visit: https://lab.dpdk.org/results/dashboard/preferences/subscriptions/