From mboxrd@z Thu Jan 1 00:00:00 1970 Return-Path: Received: from mails.dpdk.org (mails.dpdk.org [217.70.189.124]) by inbox.dpdk.org (Postfix) with ESMTP id 44C4D46553 for ; Thu, 10 Apr 2025 19:13:01 +0200 (CEST) Received: from mails.dpdk.org (localhost [127.0.0.1]) by mails.dpdk.org (Postfix) with ESMTP id 1C972406B7; Thu, 10 Apr 2025 19:13:01 +0200 (CEST) Received: from mail-pl1-f228.google.com (mail-pl1-f228.google.com [209.85.214.228]) by mails.dpdk.org (Postfix) with ESMTP id E8EA0402ED for ; Thu, 10 Apr 2025 19:12:59 +0200 (CEST) Received: by mail-pl1-f228.google.com with SMTP id d9443c01a7336-2243803b776so16690515ad.0 for ; Thu, 10 Apr 2025 10:12:59 -0700 (PDT) DKIM-Signature: v=1; a=rsa-sha256; c=relaxed/relaxed; d=iol.unh.edu; s=unh-iol; t=1744305179; x=1744909979; darn=dpdk.org; h=references:in-reply-to:cc:to:from:subject:message-id:date:from:to :cc:subject:date:message-id:reply-to; bh=y9t42lC76i5425Zs4gqEL7/Jg1vcgFxJz/k3hygxtiM=; b=BHWwwnAOoPbTDlrYZr/jd/29r9gVEbtEgWr54ZTxJYNxeOkmsg1KGUmETTQbkUcgcw sv73bC0Va7TMr596hZsjf2IBf5YHSnZxgO/p8wECZVpO2cv5iW4F7KVtnHqWDmJ+Iob9 tj4ni/IoKf4ZvuQJ8qu3B1GBBY+uO/ncl9U8U= X-Google-DKIM-Signature: v=1; a=rsa-sha256; c=relaxed/relaxed; d=1e100.net; s=20230601; t=1744305179; x=1744909979; h=references:in-reply-to:cc:to:from:subject:message-id:date :x-gm-message-state:from:to:cc:subject:date:message-id:reply-to; bh=y9t42lC76i5425Zs4gqEL7/Jg1vcgFxJz/k3hygxtiM=; b=dpM8WVOaIPjFeyuchtKzxg59oZbscrUlDAGnwhCY+gbddkh5f11pog+BN9XAQQ8wmP xtgbpUmNlpX7L/KdThl5fNNzAKh5FwTSphZPnyU+uo/H61SDO8OqkMttSjSk+I/GXG5F 2GPqAgYU6GUJckeVhup89S2wsFEbgUF5SPPvNeQHCHASb/mVJweR1GcFSjTQmK0AzdgM Uu3hLAbXOxGxy5HYZGW8SSLTIHOHER46k8qZa84rIxb7SDT1/KhrFq5htl4Xg78ktoAa dI5Cnk3sTvJQvxwHHMYDGjF/6t2jI0ijDsmh5pQQRTlBOjjX3on/lOp/Z97UYCKyFQS+ paTQ== X-Gm-Message-State: AOJu0YwAg0db0uCJiyZdv7tuhaghaicSDUnpuure3iWDEWhrobmFAYvi i/e+y0K6aE6N7by/tCH+j0cK5ryACGDGfjExMUwJhw9M54cFtEdFgRMNNFkBCsM3ob3CkQ/R+Se IfgQdc7gJ0xu/dRX6wRAtBtS9fXmHHpd4BBHOQ43yrqHLuLB/Ej58zIea X-Gm-Gg: ASbGncsMZlwdG+5Spycxyxq3mlNMo01S0G6iJXhgEEPCd/orr1sFfp2oaPDruEM263h pxezT/oyH73QluawTzj/Uajm2A39XzvAfvMI193/69xePjozxs4pT1QQGE1KZDBHDA4ErPgRINO YvEjYAMhUaOk+qv58v87R2KUhxlOQrcJCZCy1R6csFeIN2o+bYYW0jPTNK7VEHPf8LGu+cGEYko zrDCEMCYxzCGdg8cB4vWDtx17o9E5acfGZeXyXyZuP4zTW1TpACAKHuqI4OhSC1ml7WyaXasLne qaRQAmBv3HcFy35wZVX7m7vnIDpsvpOnME1IZWFMd1yk6T4w X-Google-Smtp-Source: AGHT+IH/YnuZ+IJLmxjfv27UEAauJHYyxGRpMDngSdN2IYqEtgdCdaKG++Hu/9N7kehHD9oNkgwkjtMwvNTC X-Received: by 2002:a17:902:e74c:b0:220:ff3f:6cba with SMTP id d9443c01a7336-22b42c01dfamr60304375ad.38.1744305178854; Thu, 10 Apr 2025 10:12:58 -0700 (PDT) Received: from postal.iol.unh.edu (postal.iol.unh.edu. [2606:4100:3880:1234::84]) by smtp-relay.gmail.com with ESMTPS id d9443c01a7336-22ac7b96273sm2162105ad.69.2025.04.10.10.12.58 (version=TLS1_2 cipher=ECDHE-ECDSA-AES128-GCM-SHA256 bits=128/128); Thu, 10 Apr 2025 10:12:58 -0700 (PDT) X-Relaying-Domain: iol.unh.edu Date: Thu, 10 Apr 2025 10:12:58 -0700 (PDT) Message-ID: <67f7fc1a.170a0220.1ac2c7.9072SMTPIN_ADDED_MISSING@mx.google.com> Received: from [172.17.0.3] (unknown [172.18.0.217]) by postal.iol.unh.edu (Postfix) with ESMTP id 46BCF6052471; Thu, 10 Apr 2025 13:12:58 -0400 (EDT) Subject: |SUCCESS| pw152865 [PATCH] net/intel: fix xstats name From: dpdklab@iol.unh.edu To: Test Report Cc: dpdk-test-reports@iol.unh.edu In-Reply-To: <20250410055246.809646-1-kaiwenx.deng@intel.com> References: <20250410055246.809646-1-kaiwenx.deng@intel.com> Content-Type: text/plain X-BeenThere: test-report@dpdk.org X-Mailman-Version: 2.1.29 Precedence: list List-Id: automatic DPDK test reports List-Unsubscribe: , List-Archive: List-Post: List-Help: List-Subscribe: , Errors-To: test-report-bounces@dpdk.org Test-Label: iol-abi-testing Test-Status: SUCCESS http://dpdk.org/patch/152865 _Testing PASS_ Submitter: Deng, KaiwenX Date: Thursday, April 10 2025 05:52:46 DPDK git baseline: Repo:dpdk Branch: master CommitID:d7817c378fecd07c59360667f93c25dff4b1a145 152865 --> testing pass Upstream job id: Generic-DPDK-Compile-ABI#122965 Test environment and result as below: +-------------------+----------+ | Environment | abi_test | +===================+==========+ | CentOS Stream 9 | PASS | +-------------------+----------+ | Debian 12 | PASS | +-------------------+----------+ | CentOS Stream 10 | PASS | +-------------------+----------+ | Fedora 40 (Clang) | PASS | +-------------------+----------+ | Fedora 40 | PASS | +-------------------+----------+ | Fedora 41 (Clang) | PASS | +-------------------+----------+ | Fedora 41 | PASS | +-------------------+----------+ | openSUSE Leap 15 | PASS | +-------------------+----------+ | RHEL9 | PASS | +-------------------+----------+ | Ubuntu 22.04 | PASS | +-------------------+----------+ | Ubuntu 24.04 | PASS | +-------------------+----------+ | RHEL8 | PASS | +-------------------+----------+ CentOS Stream 9 Kernel: Depends on container host Compiler: gcc 11.5.0 20240719 (Red Hat 11.5.0-2) Debian 12 Kernel: Depends on container host Compiler: gcc (Debian 12.2.0-14) 12.2.0 CentOS Stream 10 Kernel: Depends on container host Compiler: gcc 14.2.1 20241104 (Red Hat 14.2.1-6) Fedora 40 (Clang) Kernel: Depends on container host Compiler: clang 18.1.8 (Fedora 18.1.8-1.fc40) Fedora 40 Kernel: Depends on container host Compiler: gcc 14.2.1 20240912 (Red Hat 14.2.1-3) Fedora 41 (Clang) Kernel: Depends on container host Compiler: clang 19.1.5 (Fedora 19.1.5-1.fc41) Fedora 41 Kernel: Depends on container host Compiler: gcc 14.2.1 20240912 (Red Hat 14.2.1-3) openSUSE Leap 15 Kernel: Depends on container host Compiler: gcc (SUSE Linux) 7.5.0 RHEL9 Kernel: Depends on container host Compiler: gcc 11.5.0 20240719 (Red Hat 11.5.0-2) Ubuntu 22.04 Kernel: Depends on container host Compiler: gcc (Ubuntu 11.4.0-1ubuntu1~22.04) 11.4.0 Ubuntu 24.04 Kernel: Depends on container host Compiler: gcc (Ubuntu 13.3.0-6ubuntu2~24.04) 13.3.0 RHEL8 Kernel: Depends on container host Compiler: gcc 8.5.0 20210514 (Red Hat 8.5.0-22) To view detailed results, visit: https://lab.dpdk.org/results/dashboard/patchsets/32985/ UNH-IOL DPDK Community Lab To manage your email subscriptions, visit: https://lab.dpdk.org/results/dashboard/preferences/subscriptions/