From mboxrd@z Thu Jan 1 00:00:00 1970 Return-Path: Received: from mails.dpdk.org (mails.dpdk.org [217.70.189.124]) by inbox.dpdk.org (Postfix) with ESMTP id 3012646555 for ; Thu, 10 Apr 2025 20:00:44 +0200 (CEST) Received: from mails.dpdk.org (localhost [127.0.0.1]) by mails.dpdk.org (Postfix) with ESMTP id 0AC0540677; Thu, 10 Apr 2025 20:00:44 +0200 (CEST) Received: from mail-qv1-f97.google.com (mail-qv1-f97.google.com [209.85.219.97]) by mails.dpdk.org (Postfix) with ESMTP id EE071402ED for ; Thu, 10 Apr 2025 20:00:42 +0200 (CEST) Received: by mail-qv1-f97.google.com with SMTP id 6a1803df08f44-6e8f8657f29so9161696d6.3 for ; Thu, 10 Apr 2025 11:00:42 -0700 (PDT) DKIM-Signature: v=1; a=rsa-sha256; c=relaxed/relaxed; d=iol.unh.edu; s=unh-iol; t=1744308042; x=1744912842; darn=dpdk.org; h=references:in-reply-to:cc:to:from:subject:message-id:date:from:to :cc:subject:date:message-id:reply-to; bh=dbpeuhiA+aB3m3wrQr9ZV6kw8bMmGoUVYF3nHL8gZMA=; b=S/ClrAFNTKN71yyFaiWhYNRdEDgTrBvj3UotwdJDICTrUcWkVn7jWmbPRkRao4VkVY 8c0hSMFUKbsYKsOr0QtB44deonw0OxKjPnzKDMpRsKT1RV1pmK5vzCvOsStwB9TXcqYW o/uPF72hJjK/52GsHAVZK38EkGzJQEKSWlQ9U= X-Google-DKIM-Signature: v=1; a=rsa-sha256; c=relaxed/relaxed; d=1e100.net; s=20230601; t=1744308042; x=1744912842; h=references:in-reply-to:cc:to:from:subject:message-id:date :x-gm-message-state:from:to:cc:subject:date:message-id:reply-to; bh=dbpeuhiA+aB3m3wrQr9ZV6kw8bMmGoUVYF3nHL8gZMA=; b=BLyxcRCbCZeTNm7dvVZy/PJ4XUe/P5UZbLSyh8CgyTl2t7H821BG9/uUH4spIuEcaJ 29cMTX9wrESkiMI8BAEHkJaWMIn0vvAepBW4vbi0T5+nmGs3VgL3/eTTcHkpAPNdzmj+ 2Fha/E9gA0VmQuHZUYnl6RaAXRsr7oPmwo0GgpRbIvuCgJSWSirobwLQAhThEJE0ni0w EsUM+Vj94wXC+BLRKcEbiPKJnjn/z9iKSlLBC7YcncaJgp0s1DHP0/hNqnQR13+03ykF 3zEQkXE0WDmcEMJQI5rUUyy4mpw8mBx128h0YJdwfF6PqHQTv+MBNs3NiNsY4ERSgKD8 HFUQ== X-Gm-Message-State: AOJu0Yz3pp4lAcNuDeE5pYQO/w5VHy4oGdM3aR+p4oc2EjFsbXL9Bnm8 TQE0sZiJ/VTuMbf58EoXeMqgtIPAOaLHVmcM+xyK8IHUq2s2d0ZFXrYevCqtu5SoAfQiA64p9mJ tWdkyzSLU4wStwvJC/8Agc/7DuZR2yI1Ea4UgzwmQKVV2z/OSON6lvM4o X-Gm-Gg: ASbGncv4qIH19Q1hjuZfSVs4UuBqRuL3nDtRpj4YqtA8LR6cfd/GTozRd6Mxj0CDBAT FpzGFnmKkQHoRmBu5CA3Lx4+D5MKklemSnM6wp9LZkLgsZeqZzYOT747J+wq52TxOuidAY8hWbO zgEYzwxMQBEPWevlpWKO1vigQ1AlfrLpK9D6FAuxRmaAtfkmOIEzwFSfKNBzjuYybUeyWkp94z2 btlLfVm8vFBVgl0DUodfrx16sP6YJnrsww3+KEmGS9P3EqyUfQSDLkrQCNHMmADCSLTe9VyWywt Xao3WvTVY8ncxMveG026HZVR0DBvLU03QsjAKVOa/09yLmBN X-Google-Smtp-Source: AGHT+IG22H+ttlJyOppXI7uPmPkXFAExRO/V4VzKXBkoXcSCRBKcOfaBM5FPWkIpkew8yV9jPIKU/5BYmXq4 X-Received: by 2002:a05:6214:1d2d:b0:6e8:f33f:147e with SMTP id 6a1803df08f44-6f0e5a0f1c3mr48537156d6.6.1744308042320; Thu, 10 Apr 2025 11:00:42 -0700 (PDT) Received: from postal.iol.unh.edu (postal.iol.unh.edu. [2606:4100:3880:1234::84]) by smtp-relay.gmail.com with ESMTPS id 6a1803df08f44-6f0dea12a45sm2533536d6.58.2025.04.10.11.00.42 (version=TLS1_2 cipher=ECDHE-ECDSA-AES128-GCM-SHA256 bits=128/128); Thu, 10 Apr 2025 11:00:42 -0700 (PDT) X-Relaying-Domain: iol.unh.edu Date: Thu, 10 Apr 2025 11:00:42 -0700 (PDT) Message-ID: <67f8074a.050a0220.80fa6.952bSMTPIN_ADDED_MISSING@mx.google.com> Received: from [172.17.0.3] (unknown [172.18.0.217]) by postal.iol.unh.edu (Postfix) with ESMTP id 0247C6052471; Thu, 10 Apr 2025 14:00:42 -0400 (EDT) Subject: |SUCCESS| pw152865 [PATCH] net/intel: fix xstats name From: dpdklab@iol.unh.edu To: Test Report Cc: dpdk-test-reports@iol.unh.edu In-Reply-To: <20250410055246.809646-1-kaiwenx.deng@intel.com> References: <20250410055246.809646-1-kaiwenx.deng@intel.com> Content-Type: text/plain X-BeenThere: test-report@dpdk.org X-Mailman-Version: 2.1.29 Precedence: list List-Id: automatic DPDK test reports List-Unsubscribe: , List-Archive: List-Post: List-Help: List-Subscribe: , Errors-To: test-report-bounces@dpdk.org Test-Label: iol-compile-arm64-testing Test-Status: SUCCESS http://dpdk.org/patch/152865 _Testing PASS_ Submitter: Deng, KaiwenX Date: Thursday, April 10 2025 05:52:46 DPDK git baseline: Repo:dpdk Branch: master CommitID:d7817c378fecd07c59360667f93c25dff4b1a145 152865 --> testing pass Upstream job id: Generic-DPDK-Compile-Meson#379104 Test environment and result as below: +----------------------------------------+--------------------+ | Environment | dpdk_meson_compile | +========================================+====================+ | Ubuntu 24.04 (ARM) | PASS | +----------------------------------------+--------------------+ | RHEL9 (ARM) | PASS | +----------------------------------------+--------------------+ | Ubuntu 20.04 ARM GCC Cross Compile | PASS | +----------------------------------------+--------------------+ | Ubuntu 20.04 ARM SVE | PASS | +----------------------------------------+--------------------+ | Fedora 40 (ARM Clang) | PASS | +----------------------------------------+--------------------+ | Fedora 41 (ARM Clang) | PASS | +----------------------------------------+--------------------+ | Ubuntu 20.04 (ARM) | PASS | +----------------------------------------+--------------------+ | Ubuntu 22.04 (ARM) | PASS | +----------------------------------------+--------------------+ | Debian 12 with MUSDK | PASS | +----------------------------------------+--------------------+ | Fedora 41 (ARM) | PASS | +----------------------------------------+--------------------+ | Fedora 40 (ARM) | PASS | +----------------------------------------+--------------------+ | CentOS Stream 9 (ARM) | PASS | +----------------------------------------+--------------------+ | CentOS Stream 10 (ARM) | PASS | +----------------------------------------+--------------------+ | Debian 12 (arm) | PASS | +----------------------------------------+--------------------+ | Ubuntu 20.04 ARM Clang Cross Compile | PASS | +----------------------------------------+--------------------+ | Ubuntu 20.04 aarch32 GCC Cross Compile | PASS | +----------------------------------------+--------------------+ Ubuntu 24.04 (ARM) Kernel: Depends on container host Compiler: gcc (Ubuntu 13.3.0-6ubuntu2~24.04) 13.3.0 RHEL9 (ARM) Kernel: Depends on container host Compiler: gcc 11.5.0 20240719 (Red Hat 11.5.0-2) Ubuntu 20.04 ARM GCC Cross Compile Kernel: Depends on container host Compiler: aarch64-linux-gnu-gcc (Ubuntu 9.4.0-1ubuntu1~20.04.2) 9.4.0 Ubuntu 20.04 ARM SVE Kernel: Depends on container host Compiler: gcc (Ubuntu 10.5.0-1ubuntu1~20.04) 10.5.0 Fedora 40 (ARM Clang) Kernel: Depends on container host Compiler: clang 18.1.8 (Fedora 18.1.8-1.fc40) Fedora 41 (ARM Clang) Kernel: Depends on container host Compiler: clang 19.1.5 (Fedora 19.1.5-1.fc41) Ubuntu 20.04 (ARM) Kernel: Depends on container host Compiler: gcc (Ubuntu 9.4.0-1ubuntu1~20.04.2) 9.4.0 Ubuntu 22.04 (ARM) Kernel: Depends on container host Compiler: gcc (Ubuntu 11.4.0-1ubuntu1~22.04) 11.4.0 Debian 12 with MUSDK Kernel: Depends on container host Compiler: gcc (Debian 12.2.0-14) 12.2.0 Fedora 41 (ARM) Kernel: Depends on container host Compiler: gcc 14.2.1 20240912 (Red Hat 14.2.1-3) Fedora 40 (ARM) Kernel: Depends on container host Compiler: gcc 14.2.1 20240912 (Red Hat 14.2.1-3) CentOS Stream 9 (ARM) Kernel: Depends on container host Compiler: gcc 11.5.0 20240719 (Red Hat 11.5.0-2) CentOS Stream 10 (ARM) Kernel: Depends on container host Compiler: gcc 14.2.1 20241104 (Red Hat 14.2.1-6) Debian 12 (arm) Kernel: Depends on container host Compiler: gcc (Debian 12.2.0-14) 12.2.0 Ubuntu 20.04 ARM Clang Cross Compile Kernel: Depends on container host Compiler: clang 10.0.0-4ubuntu1 Ubuntu 20.04 aarch32 GCC Cross Compile Kernel: Depends on container host Compiler: gcc 9.4.0 To view detailed results, visit: https://lab.dpdk.org/results/dashboard/patchsets/32985/ UNH-IOL DPDK Community Lab To manage your email subscriptions, visit: https://lab.dpdk.org/results/dashboard/preferences/subscriptions/