From mboxrd@z Thu Jan  1 00:00:00 1970
Return-Path: <test-report-bounces@dpdk.org>
Received: from mails.dpdk.org (mails.dpdk.org [217.70.189.124])
	by inbox.dpdk.org (Postfix) with ESMTP id 1D0A146555
	for <public@inbox.dpdk.org>; Thu, 10 Apr 2025 21:44:42 +0200 (CEST)
Received: from mails.dpdk.org (localhost [127.0.0.1])
	by mails.dpdk.org (Postfix) with ESMTP id 1883C4067A;
	Thu, 10 Apr 2025 21:44:42 +0200 (CEST)
Received: from mail-il1-f225.google.com (mail-il1-f225.google.com
 [209.85.166.225])
 by mails.dpdk.org (Postfix) with ESMTP id 84959402ED
 for <test-report@dpdk.org>; Thu, 10 Apr 2025 21:44:40 +0200 (CEST)
Received: by mail-il1-f225.google.com with SMTP id
 e9e14a558f8ab-3d5e68418b5so9885495ab.2
 for <test-report@dpdk.org>; Thu, 10 Apr 2025 12:44:40 -0700 (PDT)
DKIM-Signature: v=1; a=rsa-sha256; c=relaxed/relaxed;
 d=iol.unh.edu; s=unh-iol; t=1744314280; x=1744919080; darn=dpdk.org;
 h=references:in-reply-to:cc:to:from:subject:message-id:date:from:to
 :cc:subject:date:message-id:reply-to;
 bh=pi1A0M1Pi8kObuNCe8EMV0I3TG5B3mAoy5Z83od/aCY=;
 b=FwWfkIkLBq41x6pvATlPSHPKiyHFhtl63G1HgSPjWKqNHNeajK5kOoCQDcDDZzlB/B
 jbyzvuEGP0pdPPUw6attIXnXEiJBLzAil5+aCq3zKJBU8r5Dzd2prOmBi7yl1yEttT5/
 M6fLlN9ThTduFMDp3RuF9xSNXV/wyRcbNCNyE=
X-Google-DKIM-Signature: v=1; a=rsa-sha256; c=relaxed/relaxed;
 d=1e100.net; s=20230601; t=1744314280; x=1744919080;
 h=references:in-reply-to:cc:to:from:subject:message-id:date
 :x-gm-message-state:from:to:cc:subject:date:message-id:reply-to;
 bh=pi1A0M1Pi8kObuNCe8EMV0I3TG5B3mAoy5Z83od/aCY=;
 b=TiTq6cCC9j1PrRvLKOMkuZ3165bNpcy7RR+ltZysLm7M1WG6Iq380etzqIhDKXXm4L
 K3jZQ7Woz0DY6Up+bPsKa8lSrwCne29o5BqZijg0oVyn6cPPxOw/23hT6sNgsuVYw7EK
 TLeWiA3wlcr+kQHvY45RNQBmUZdyjXMN0SxN01Xk46LxMFnzTcEfIx5jijxpwRAQ0t1I
 aJBXE+Y+78t3gYfx4aVVyKj0lpxE0tgkZwntGst56KznbM/rs20RvKOnIQSkwy6dYSbq
 238e/NZ2jYr6VLVrYjTZJfrKIrASEl7Gn8P9526Wo7gNCo/L+OFBhI/oDt4YWN+ffabP
 /4/g==
X-Gm-Message-State: AOJu0Yz2ubfcEsvoD2L7Sc3sJ0zC+ZEjtNZKrxaVFI/Ff84Qo/k3BrCl
 UfyMeeb6yNEvBYBi0pcdlxUQey8IDesWkgvzvoLWZnxJ3Vjb9EvprTLTfUMurVrHo2/aG7P4myy
 ibxgbFrh6THmCTmkUZU+o/unUniYDzWw176Q9BvvL
X-Gm-Gg: ASbGncuGqvW3kwU1XTwXbPrhO2o2NryqGazcZE2YsLZY1W/IkyIwVzjLk0pngDHnskJ
 Hb04sVg4/b0KvX5R2nLjsApjrnwRIio/iBTsgXmCE3cpfkEkEz7SMQlSKwzaDPFRvJnt0egSz+q
 6/oqaZEzQcMGBnKzCMyLiHFdo8BdUppI6ZDJgJ1YzS5Qk5CxvPkQZRXbVK+Zv3i6ASIdUslNOpF
 Xz4UT/5/zEXwnCyCeFrxTF+r4OfkVuSD1ju7f18CYBP2kBJ9SDHuxKoE9r5VyovPfUcxjQqpJjQ
 HROwcHg05jTGyqVKCL3175JzZ9/GCRT4hHLm
X-Google-Smtp-Source: AGHT+IHuB9whaoMDWvXaG1N1m4AgR6y7lKG+Jmi7x1OO2fpiCHrPoTEAWrOSLb+Ah0KbxGzGuJRiM3g/Bld9
X-Received: by 2002:a05:6e02:219c:b0:3d5:8923:faa5 with SMTP id
 e9e14a558f8ab-3d7ec1f427dmr1756825ab.10.1744314279834; 
 Thu, 10 Apr 2025 12:44:39 -0700 (PDT)
Received: from postal.iol.unh.edu (postal.iol.unh.edu. [132.177.123.84])
 by smtp-relay.gmail.com with ESMTPS id
 e9e14a558f8ab-3d7dba8c951sm3296965ab.16.2025.04.10.12.44.39
 (version=TLS1_2 cipher=ECDHE-ECDSA-AES128-GCM-SHA256 bits=128/128);
 Thu, 10 Apr 2025 12:44:39 -0700 (PDT)
X-Relaying-Domain: iol.unh.edu
Date: Thu, 10 Apr 2025 12:44:39 -0700 (PDT)
Message-ID: <67f81fa7.050a0220.306094.b754SMTPIN_ADDED_MISSING@mx.google.com>
Received: from [172.21.0.5] (unknown [172.18.0.240])
 by postal.iol.unh.edu (Postfix) with ESMTP id 732E56052471;
 Thu, 10 Apr 2025 15:44:39 -0400 (EDT)
Subject: |SUCCESS| pw152871 [PATCH] event/cnxk: update timer arm routine
From: dpdklab@iol.unh.edu
To: Test Report <test-report@dpdk.org>
Cc: dpdk-test-reports@iol.unh.edu
In-Reply-To: <20250410180544.10765-1-pbhagavatula@marvell.com>
References: <20250410180544.10765-1-pbhagavatula@marvell.com>
Content-Type: text/plain
X-BeenThere: test-report@dpdk.org
X-Mailman-Version: 2.1.29
Precedence: list
List-Id: automatic DPDK test reports <test-report.dpdk.org>
List-Unsubscribe: <https://mails.dpdk.org/options/test-report>,
 <mailto:test-report-request@dpdk.org?subject=unsubscribe>
List-Archive: <http://mails.dpdk.org/archives/test-report/>
List-Post: <mailto:test-report@dpdk.org>
List-Help: <mailto:test-report-request@dpdk.org?subject=help>
List-Subscribe: <https://mails.dpdk.org/listinfo/test-report>,
 <mailto:test-report-request@dpdk.org?subject=subscribe>
Errors-To: test-report-bounces@dpdk.org

Test-Label: iol-abi-testing
Test-Status: SUCCESS
http://dpdk.org/patch/152871

_Testing PASS_

Submitter: Pavan Nikhilesh Bhagavatula <pbhagavatula@marvell.com>
Date: Thursday, April 10 2025 18:05:44 
DPDK git baseline: Repo:dpdk
  Branch: master
  CommitID:2a5c6c4709c9a23feb92ed1325945cb459884b4f

152871 --> testing pass

Upstream job id: Generic-DPDK-Compile-ABI#122983

Test environment and result as below:

+-------------------+----------+
|    Environment    | abi_test |
+===================+==========+
| CentOS Stream 9   | PASS     |
+-------------------+----------+
| Debian 12         | PASS     |
+-------------------+----------+
| CentOS Stream 10  | PASS     |
+-------------------+----------+
| Fedora 40         | PASS     |
+-------------------+----------+
| Fedora 40 (Clang) | PASS     |
+-------------------+----------+
| Fedora 41 (Clang) | PASS     |
+-------------------+----------+
| Ubuntu 22.04      | PASS     |
+-------------------+----------+
| RHEL8             | PASS     |
+-------------------+----------+
| RHEL9             | PASS     |
+-------------------+----------+
| openSUSE Leap 15  | PASS     |
+-------------------+----------+
| Ubuntu 24.04      | PASS     |
+-------------------+----------+
| Fedora 41         | PASS     |
+-------------------+----------+


CentOS Stream 9
	Kernel: Depends on container host
	Compiler: gcc 11.5.0 20240719 (Red Hat 11.5.0-2)

Debian 12
	Kernel: Depends on container host
	Compiler: gcc (Debian 12.2.0-14) 12.2.0

CentOS Stream 10
	Kernel: Depends on container host
	Compiler: gcc 14.2.1 20241104 (Red Hat 14.2.1-6)

Fedora 40
	Kernel: Depends on container host
	Compiler: gcc 14.2.1 20240912 (Red Hat 14.2.1-3)

Fedora 40 (Clang)
	Kernel: Depends on container host
	Compiler: clang 18.1.8 (Fedora 18.1.8-1.fc40)

Fedora 41 (Clang)
	Kernel: Depends on container host
	Compiler: clang 19.1.5 (Fedora 19.1.5-1.fc41)

Ubuntu 22.04
	Kernel: Depends on container host
	Compiler: gcc (Ubuntu 11.4.0-1ubuntu1~22.04) 11.4.0

RHEL8
	Kernel: Depends on container host
	Compiler: gcc 8.5.0 20210514 (Red Hat 8.5.0-22)

RHEL9
	Kernel: Depends on container host
	Compiler: gcc 11.5.0 20240719 (Red Hat 11.5.0-2)

openSUSE Leap 15
	Kernel: Depends on container host
	Compiler: gcc (SUSE Linux) 7.5.0

Ubuntu 24.04
	Kernel: Depends on container host
	Compiler: gcc (Ubuntu 13.3.0-6ubuntu2~24.04) 13.3.0

Fedora 41
	Kernel: Depends on container host
	Compiler: gcc 14.2.1 20240912 (Red Hat 14.2.1-3)

To view detailed results, visit:
https://lab.dpdk.org/results/dashboard/patchsets/32989/

UNH-IOL DPDK Community Lab

To manage your email subscriptions, visit: 
https://lab.dpdk.org/results/dashboard/preferences/subscriptions/