From mboxrd@z Thu Jan 1 00:00:00 1970 Return-Path: Received: from mails.dpdk.org (mails.dpdk.org [217.70.189.124]) by inbox.dpdk.org (Postfix) with ESMTP id 20E6846556 for ; Thu, 10 Apr 2025 22:25:01 +0200 (CEST) Received: from mails.dpdk.org (localhost [127.0.0.1]) by mails.dpdk.org (Postfix) with ESMTP id 1A9A74067A; Thu, 10 Apr 2025 22:25:01 +0200 (CEST) Received: from mail-yw1-f227.google.com (mail-yw1-f227.google.com [209.85.128.227]) by mails.dpdk.org (Postfix) with ESMTP id 76B4F402ED for ; Thu, 10 Apr 2025 22:25:00 +0200 (CEST) Received: by mail-yw1-f227.google.com with SMTP id 00721157ae682-6febbd3b75cso12493097b3.0 for ; Thu, 10 Apr 2025 13:25:00 -0700 (PDT) DKIM-Signature: v=1; a=rsa-sha256; c=relaxed/relaxed; d=iol.unh.edu; s=unh-iol; t=1744316700; x=1744921500; darn=dpdk.org; h=references:in-reply-to:cc:to:from:subject:message-id:date:from:to :cc:subject:date:message-id:reply-to; bh=GlPOeTOu9xHHP4g0ZaW7YNghYR7QA8atNaUXpDub0bY=; b=QhLc/A5++XRb0lUOFRAFk82Bg3b8cjBMvR+iVbtrYAbhjKrmSyaRvsiegSZN/48U7P Gvprz9InquA86gQXXCOa0SoKtDulaky0JXAOiSZv2S2shy/aEK+2KM2C5ow8iBvZKneP 2TRwGutlBAS/aBWvBIS6xW/VgwChLuIP6Mee0= X-Google-DKIM-Signature: v=1; a=rsa-sha256; c=relaxed/relaxed; d=1e100.net; s=20230601; t=1744316700; x=1744921500; h=references:in-reply-to:cc:to:from:subject:message-id:date :x-gm-message-state:from:to:cc:subject:date:message-id:reply-to; bh=GlPOeTOu9xHHP4g0ZaW7YNghYR7QA8atNaUXpDub0bY=; b=lcx0brjIDlwxN03I2lCFpvz9z5+RIhzwwBvCdbA7STuzGocLsaU8O5dagNx6xRrpIk a6V5lTcasLR3GJgY/RDcY1397O/6bmIfxZvsO0tiFZIgdcmQquNr2v44JdeB2StF5fvt wf82wS4TgM7eI3UDuHjgzb2+sOZTT7dI+k00/foJpZxlCnROtaeu5Dn4NztVq7lJSmaW VYE9t+QbL+Hr34kqIQNHF5JG1IV+QIqYs4GHKukK2/2xpUww+TjBuYdyZJpmuVpeb6Op VRa4ZG2umu6szOgCsgpnnC3hwh0sZcY2Y8Uh0/bEZxF2p0BWAMFBj47My8TrTF8jY7ke Y9nA== X-Gm-Message-State: AOJu0YxuJf34y64nyjkrnaMNlf4IsrF65vDtdDHwxW3110+ewaz1dTJA bKdI9ioBzU5wXMEjsyuza2ifInuSYBaA8Lcmf8VOlRLrjUqkiqabGIySrfBhjcJMFBlLkOZH45m ++pdLokjpDupduS/AlIXSyl2GcZZ2eGiVvV54Xa2b1m+Gn/IpC+G/Wv27 X-Gm-Gg: ASbGnctt48yBhFJuWNyh/xlEpY7EPpf327z9gCp64ds+cOVBPK3qg3r21+dDWXU29kN XpP86sV75yMi40tj7OPaxrj9+3VtznW52Y12fRWaEdORdZenVJP29DXP1Hw1lV3cvH0hWVpW7Y+ sC68bd46S80yjiM8yDmEESSRe9iQzxP04Q60dVwmMfWrE+1CcCfQ8BPoL9qZLs4ZpoFZD2ZCpYz liGEGvi9rcq8pA0zJ+hyCvhTyWiXQ0eJhKmux0AKqYibqamjv2Aj3+7VNM3/Q0Fcqxg3xi1wwed QtYDeOHKzNIVjTe3U9moXwXL9/Rvzz0Yi7sFhgQco7olro/V X-Google-Smtp-Source: AGHT+IHSesYa4xvAplK5SmT+LtRURPvmvawRBMXB0zMoJQR9MUZ8FPY294qJMSI7BdTToUyAdT9QsuLYsac/ X-Received: by 2002:a05:690c:6106:b0:6fb:9429:83c5 with SMTP id 00721157ae682-705599e8f49mr5635177b3.19.1744316699813; Thu, 10 Apr 2025 13:24:59 -0700 (PDT) Received: from postal.iol.unh.edu (postal.iol.unh.edu. [2606:4100:3880:1234::84]) by smtp-relay.gmail.com with ESMTPS id 00721157ae682-7053e380ae8sm2700687b3.61.2025.04.10.13.24.59 (version=TLS1_2 cipher=ECDHE-ECDSA-AES128-GCM-SHA256 bits=128/128); Thu, 10 Apr 2025 13:24:59 -0700 (PDT) X-Relaying-Domain: iol.unh.edu Date: Thu, 10 Apr 2025 13:24:59 -0700 (PDT) Message-ID: <67f8291b.050a0220.44684.89dcSMTPIN_ADDED_MISSING@mx.google.com> Received: from [172.21.0.5] (unknown [172.18.0.240]) by postal.iol.unh.edu (Postfix) with ESMTP id 65C866052471; Thu, 10 Apr 2025 16:24:59 -0400 (EDT) Subject: |SUCCESS| pw152871 [PATCH] event/cnxk: update timer arm routine From: dpdklab@iol.unh.edu To: Test Report Cc: dpdk-test-reports@iol.unh.edu In-Reply-To: <20250410180544.10765-1-pbhagavatula@marvell.com> References: <20250410180544.10765-1-pbhagavatula@marvell.com> Content-Type: text/plain X-BeenThere: test-report@dpdk.org X-Mailman-Version: 2.1.29 Precedence: list List-Id: automatic DPDK test reports List-Unsubscribe: , List-Archive: List-Post: List-Help: List-Subscribe: , Errors-To: test-report-bounces@dpdk.org Test-Label: iol-compile-amd64-testing Test-Status: SUCCESS http://dpdk.org/patch/152871 _Testing PASS_ Submitter: Pavan Nikhilesh Bhagavatula Date: Thursday, April 10 2025 18:05:44 DPDK git baseline: Repo:dpdk Branch: master CommitID:2a5c6c4709c9a23feb92ed1325945cb459884b4f 152871 --> testing pass Upstream job id: Generic-DPDK-Compile-Meson#379125 Test environment and result as below: +-----------------------------------+--------------------+-------------------+------------------+-------------------------+-------------------+----------------------+ | Environment | dpdk_meson_compile | dpdk_compile_spdk | dpdk_compile_ovs | dpdk_llvm_clang_compile | dpdk_msvc_compile | dpdk_mingw64_compile | +===================================+====================+===================+==================+=========================+===================+======================+ | CentOS Stream 9 | PASS | PASS | SKIPPED | SKIPPED | SKIPPED | SKIPPED | +-----------------------------------+--------------------+-------------------+------------------+-------------------------+-------------------+----------------------+ | CentOS Stream 10 | PASS | SKIPPED | SKIPPED | SKIPPED | SKIPPED | SKIPPED | +-----------------------------------+--------------------+-------------------+------------------+-------------------------+-------------------+----------------------+ | Fedora 40 (Clang) | PASS | PASS | SKIPPED | SKIPPED | SKIPPED | SKIPPED | +-----------------------------------+--------------------+-------------------+------------------+-------------------------+-------------------+----------------------+ | Fedora 41 (Clang) | PASS | PASS | PASS | SKIPPED | SKIPPED | SKIPPED | +-----------------------------------+--------------------+-------------------+------------------+-------------------------+-------------------+----------------------+ | Fedora 40 | PASS | PASS | SKIPPED | SKIPPED | SKIPPED | SKIPPED | +-----------------------------------+--------------------+-------------------+------------------+-------------------------+-------------------+----------------------+ | RHEL8 | PASS | SKIPPED | SKIPPED | SKIPPED | SKIPPED | SKIPPED | +-----------------------------------+--------------------+-------------------+------------------+-------------------------+-------------------+----------------------+ | Fedora 41 | PASS | PASS | PASS | SKIPPED | SKIPPED | SKIPPED | +-----------------------------------+--------------------+-------------------+------------------+-------------------------+-------------------+----------------------+ | RHEL9 | PASS | SKIPPED | SKIPPED | SKIPPED | SKIPPED | SKIPPED | +-----------------------------------+--------------------+-------------------+------------------+-------------------------+-------------------+----------------------+ | Ubuntu 20.04 | PASS | SKIPPED | SKIPPED | SKIPPED | SKIPPED | SKIPPED | +-----------------------------------+--------------------+-------------------+------------------+-------------------------+-------------------+----------------------+ | Ubuntu 24.04 | PASS | PASS | PASS | SKIPPED | SKIPPED | SKIPPED | +-----------------------------------+--------------------+-------------------+------------------+-------------------------+-------------------+----------------------+ | Alpine | PASS | SKIPPED | SKIPPED | SKIPPED | SKIPPED | SKIPPED | +-----------------------------------+--------------------+-------------------+------------------+-------------------------+-------------------+----------------------+ | Ubuntu 22.04 | PASS | PASS | SKIPPED | SKIPPED | SKIPPED | SKIPPED | +-----------------------------------+--------------------+-------------------+------------------+-------------------------+-------------------+----------------------+ | Ubuntu 24.04 32 Bit Cross Compile | PASS | SKIPPED | SKIPPED | SKIPPED | SKIPPED | SKIPPED | +-----------------------------------+--------------------+-------------------+------------------+-------------------------+-------------------+----------------------+ | FreeBSD 13.5 | PASS | SKIPPED | SKIPPED | SKIPPED | SKIPPED | SKIPPED | +-----------------------------------+--------------------+-------------------+------------------+-------------------------+-------------------+----------------------+ | FreeBSD 14.2 | PASS | SKIPPED | SKIPPED | SKIPPED | SKIPPED | SKIPPED | +-----------------------------------+--------------------+-------------------+------------------+-------------------------+-------------------+----------------------+ | openSUSE Leap 15 | PASS | SKIPPED | SKIPPED | SKIPPED | SKIPPED | SKIPPED | +-----------------------------------+--------------------+-------------------+------------------+-------------------------+-------------------+----------------------+ | Debian 12 | PASS | PASS | SKIPPED | SKIPPED | SKIPPED | SKIPPED | +-----------------------------------+--------------------+-------------------+------------------+-------------------------+-------------------+----------------------+ | Windows Server 2022 | SKIPPED | SKIPPED | SKIPPED | PASS | PASS | PASS | +-----------------------------------+--------------------+-------------------+------------------+-------------------------+-------------------+----------------------+ CentOS Stream 9 Kernel: Depends on container host Compiler: gcc 11.5.0 20240719 (Red Hat 11.5.0-2) CentOS Stream 10 Kernel: Depends on container host Compiler: gcc 14.2.1 20241104 (Red Hat 14.2.1-6) Fedora 40 (Clang) Kernel: Depends on container host Compiler: clang 18.1.8 (Fedora 18.1.8-1.fc40) Fedora 41 (Clang) Kernel: Depends on container host Compiler: clang 19.1.5 (Fedora 19.1.5-1.fc41) Fedora 40 Kernel: Depends on container host Compiler: gcc 14.2.1 20240912 (Red Hat 14.2.1-3) RHEL8 Kernel: Depends on container host Compiler: gcc 8.5.0 20210514 (Red Hat 8.5.0-22) Fedora 41 Kernel: Depends on container host Compiler: gcc 14.2.1 20240912 (Red Hat 14.2.1-3) RHEL9 Kernel: Depends on container host Compiler: gcc 11.5.0 20240719 (Red Hat 11.5.0-2) Ubuntu 20.04 Kernel: Depends on container host Compiler: gcc (Ubuntu 9.4.0-1ubuntu1~20.04.2) 9.4.0 Ubuntu 24.04 Kernel: Depends on container host Compiler: gcc (Ubuntu 13.3.0-6ubuntu2~24.04) 13.3.0 Alpine Kernel: Depends on container host Compiler: gcc (Alpine 14.2.0) 14.2.0 Ubuntu 22.04 Kernel: Depends on container host Compiler: gcc (Ubuntu 11.4.0-1ubuntu1~22.04) 11.4.0 Ubuntu 24.04 32 Bit Cross Compile Kernel: Depends on container host Compiler: gcc (Ubuntu 13.3.0-6ubuntu2~24.04) 13.3.0 FreeBSD 13.5 Kernel: 13.5-RELEASE Compiler: clang 19.1.7 FreeBSD 14.2 Kernel: 14.2-RELEASE Compiler: clang 18.1.6 openSUSE Leap 15 Kernel: Depends on container host Compiler: gcc (SUSE Linux) 7.5.0 Debian 12 Kernel: Depends on container host Compiler: gcc (Debian 12.2.0-14) 12.2.0 Windows Server 2022 Kernel: 10.0.20348.2031 Compiler: clang 15.0.7, gcc 14.1.0 (MinGW), and MSVC VS 19.39.33521 To view detailed results, visit: https://lab.dpdk.org/results/dashboard/patchsets/32989/ UNH-IOL DPDK Community Lab To manage your email subscriptions, visit: https://lab.dpdk.org/results/dashboard/preferences/subscriptions/