From mboxrd@z Thu Jan 1 00:00:00 1970 Return-Path: Received: from mails.dpdk.org (mails.dpdk.org [217.70.189.124]) by inbox.dpdk.org (Postfix) with ESMTP id 74DBB46556 for ; Thu, 10 Apr 2025 23:20:44 +0200 (CEST) Received: from mails.dpdk.org (localhost [127.0.0.1]) by mails.dpdk.org (Postfix) with ESMTP id 4B41A40695; Thu, 10 Apr 2025 23:20:44 +0200 (CEST) Received: from mail-yw1-f226.google.com (mail-yw1-f226.google.com [209.85.128.226]) by mails.dpdk.org (Postfix) with ESMTP id 28957402ED for ; Thu, 10 Apr 2025 23:20:43 +0200 (CEST) Received: by mail-yw1-f226.google.com with SMTP id 00721157ae682-6febf391132so12600527b3.1 for ; Thu, 10 Apr 2025 14:20:43 -0700 (PDT) DKIM-Signature: v=1; a=rsa-sha256; c=relaxed/relaxed; d=iol.unh.edu; s=unh-iol; t=1744320042; x=1744924842; darn=dpdk.org; h=references:in-reply-to:cc:to:from:subject:message-id:date:from:to :cc:subject:date:message-id:reply-to; bh=CL9qEBoaxm5gxFp+KXhCAZvt0bym4U5f3/PVlWpSLrk=; b=M9jV4tljp5PYbnIqqs0hTWjO/XFWQ3jda02NCSiLpNtIacWtESqr/VQRXXajwGh1/Y FIn7JArGc1dULvO6vYWTCCkaA5oCXwqaqcJxNArWCYUzGRbs0DEoN25I8GJ+CEY4+APS Ee5+dr7gwvlX6ELAAwCJWAiRJH5vGpNwVRr1c= X-Google-DKIM-Signature: v=1; a=rsa-sha256; c=relaxed/relaxed; d=1e100.net; s=20230601; t=1744320042; x=1744924842; h=references:in-reply-to:cc:to:from:subject:message-id:date :x-gm-message-state:from:to:cc:subject:date:message-id:reply-to; bh=CL9qEBoaxm5gxFp+KXhCAZvt0bym4U5f3/PVlWpSLrk=; b=hEpSIthTLw8x1X5VrTvu63Xq65xneKbplVDphHNIgKbFgknY4MujzLpDhgqLDhfg11 VS2RCMnht3O4QkNj1GmgcubQUGwL8+cifjHgGrF3J634m4Ff0/AQ7IC3Tq+eXfqkaTuF MORjZWin6aCcDU2Z/rM7VDNNE8cOCYPPrA4DAF6RP1c/eoH2Z42gojqqH5ElQU95jb7I 817hpyZFV8JDPcBrpsyGNWcXN21C7E8XwKmOmOxjQ+kxJRe+swTjQFsuFwIvrZrR2+13 2+/g39vnmDUo4fbsfTk08oYPiYsnCxrkYjanW+WYSh9jbyrH3DgW0BQsbJ0j4aMKmKiQ Ua1g== X-Gm-Message-State: AOJu0YwE9/4eWmootqUDgSGBimzwQSFxHQgFFz+L3TkDUCLX1F3u2yJ9 686/nFcsVKW2ZA52RPBkWOXAFiK2VxSirWFDyUSo+3XLOD4dIQ0iV2yl6W/ghO3fZG646Uuptqu hcgClbdicolKVJBeBiwtac80XIth6VjotXQUFunuvlpL/QuZr3pXAJX8U X-Gm-Gg: ASbGncusNAwbrVuxRWa+eatqf+ii1dFZP7ZaVPjjn0GJYQ3aLHn6+dvhnJKJ4Ky6eMf +F0LfsamjddYMwYEDKrK+X3d01eY9k0JU+nNTVNm2NpP7vXt4sV6pPOu4aAqTJ+oLPjst3fNWKx id0TKS6GJpukaqH/3ulV+y2ctjGk237D/m5nlIr0YGTGF+H50NcNhbaYUzFnU+3HcCpQUn9O9h+ iWNOQxEngypuo7y4iDGQdH4eofPmJcDtE8qhurCs+H6BbpdRBriC2MaNCfmJ5ZqIpGrxezvQGIQ 6c32886gyy0fw9IyKhZfuqsvOv85yHyfy4oodih85NtK1/56 X-Google-Smtp-Source: AGHT+IEmvYhscuWg0qT0AY9wRGz6cOSc+WA9O4uUmooPZsFyYIecXxqGC2uqzA/NRfCJPF9Ls0ABD6GyILkW X-Received: by 2002:a05:690c:60c2:b0:6fd:3ff9:ad96 with SMTP id 00721157ae682-70559a9165amr6568187b3.37.1744320042330; Thu, 10 Apr 2025 14:20:42 -0700 (PDT) Received: from postal.iol.unh.edu (postal.iol.unh.edu. [2606:4100:3880:1234::84]) by smtp-relay.gmail.com with ESMTPS id 00721157ae682-7053e121729sm3854227b3.16.2025.04.10.14.20.42 (version=TLS1_2 cipher=ECDHE-ECDSA-AES128-GCM-SHA256 bits=128/128); Thu, 10 Apr 2025 14:20:42 -0700 (PDT) X-Relaying-Domain: iol.unh.edu Date: Thu, 10 Apr 2025 14:20:42 -0700 (PDT) Message-ID: <67f8362a.0d0a0220.195a32.0364SMTPIN_ADDED_MISSING@mx.google.com> Received: from [172.21.0.5] (unknown [172.18.0.240]) by postal.iol.unh.edu (Postfix) with ESMTP id E7A456052471; Thu, 10 Apr 2025 17:20:41 -0400 (EDT) Subject: |SUCCESS| pw152867 [PATCH] app/testpmd: fix dump command list for MS From: dpdklab@iol.unh.edu To: Test Report Cc: dpdk-test-reports@iol.unh.edu In-Reply-To: <20250410160237.3067629-1-david.marchand@redhat.com> References: <20250410160237.3067629-1-david.marchand@redhat.com> Content-Type: text/plain X-BeenThere: test-report@dpdk.org X-Mailman-Version: 2.1.29 Precedence: list List-Id: automatic DPDK test reports List-Unsubscribe: , List-Archive: List-Post: List-Help: List-Subscribe: , Errors-To: test-report-bounces@dpdk.org Test-Label: iol-compile-amd64-testing Test-Status: SUCCESS http://dpdk.org/patch/152867 _Testing PASS_ Submitter: David Marchand Date: Thursday, April 10 2025 16:02:36 DPDK git baseline: Repo:dpdk Branch: master CommitID:b69fb7abb6d211cb74284029c6cdb2066b9ac0e9 152867 --> testing pass Upstream job id: Generic-VM-DPDK-Compile-Meson#34545 Test environment and result as below: +---------------------+-------------------+--------------------+ | Environment | dpdk_msvc_compile | dpdk_meson_compile | +=====================+===================+====================+ | Windows Server 2022 | PASS | SKIPPED | +---------------------+-------------------+--------------------+ | FreeBSD 13.5 | SKIPPED | PASS | +---------------------+-------------------+--------------------+ | FreeBSD 14.2 | SKIPPED | PASS | +---------------------+-------------------+--------------------+ | Ubuntu 20.04 | SKIPPED | PASS | +---------------------+-------------------+--------------------+ Windows Server 2022 Kernel: 10.0.20348.2031 Compiler: clang 15.0.7, gcc 14.1.0 (MinGW), and MSVC VS 19.39.33521 FreeBSD 13.5 Kernel: 13.5-RELEASE Compiler: clang 19.1.7 FreeBSD 14.2 Kernel: 14.2-RELEASE Compiler: clang 18.1.6 Ubuntu 20.04 Kernel: 4.19.325-0419325-generic Compiler: gcc (Ubuntu 9.4.0-1ubuntu1~20.04.2) 9.4.0 To view detailed results, visit: https://lab.dpdk.org/results/dashboard/patchsets/32987/ UNH-IOL DPDK Community Lab To manage your email subscriptions, visit: https://lab.dpdk.org/results/dashboard/preferences/subscriptions/