From mboxrd@z Thu Jan  1 00:00:00 1970
Return-Path: <test-report-bounces@dpdk.org>
Received: from mails.dpdk.org (mails.dpdk.org [217.70.189.124])
	by inbox.dpdk.org (Postfix) with ESMTP id 97EB846556
	for <public@inbox.dpdk.org>; Thu, 10 Apr 2025 23:22:28 +0200 (CEST)
Received: from mails.dpdk.org (localhost [127.0.0.1])
	by mails.dpdk.org (Postfix) with ESMTP id 9291A40695;
	Thu, 10 Apr 2025 23:22:28 +0200 (CEST)
Received: from mail-io1-f99.google.com (mail-io1-f99.google.com
 [209.85.166.99]) by mails.dpdk.org (Postfix) with ESMTP id 01DFA402ED
 for <test-report@dpdk.org>; Thu, 10 Apr 2025 23:22:27 +0200 (CEST)
Received: by mail-io1-f99.google.com with SMTP id
 ca18e2360f4ac-86135af1045so112168039f.1
 for <test-report@dpdk.org>; Thu, 10 Apr 2025 14:22:26 -0700 (PDT)
DKIM-Signature: v=1; a=rsa-sha256; c=relaxed/relaxed;
 d=iol.unh.edu; s=unh-iol; t=1744320146; x=1744924946; darn=dpdk.org;
 h=references:in-reply-to:cc:to:from:subject:message-id:date:from:to
 :cc:subject:date:message-id:reply-to;
 bh=jtC5H97CaYA+alxF5V/8i4hhWZEuKzQ5MH4AWtAIrNU=;
 b=jXd2snZvb+4j0EqxdLcssLmn4JIWvUndq6s47jx6kjuxOM5ohnJol6L5PupP2l4IGf
 UehOGluuEqer2JeqDiOJKA1eNSDk4LaOGagtmVi8r/DipeeBYssTCAdJKvZHLEPJdvnb
 Xf2MxjTty/yVRvyzpbr8M5OJD6vHsL8M8v4WQ=
X-Google-DKIM-Signature: v=1; a=rsa-sha256; c=relaxed/relaxed;
 d=1e100.net; s=20230601; t=1744320146; x=1744924946;
 h=references:in-reply-to:cc:to:from:subject:message-id:date
 :x-gm-message-state:from:to:cc:subject:date:message-id:reply-to;
 bh=jtC5H97CaYA+alxF5V/8i4hhWZEuKzQ5MH4AWtAIrNU=;
 b=JguuwF7E8hXWmR6+6wktmIpKOUx4vDRihnrAobraR7lngEhbhoBczkD9mjWt8OI/yj
 3MyopX6Z38FTWDESKy7ZYRyYmnwoI2/gltGSPt8saw8pYPwPz0+aYJpU9pR4n8RA7SpG
 ZzpV3qrX3dRrLEKnsPpCgyOh0j8zYt85HmhOleWHCYmjX3K+DsGiaQdU59WQgg1x8nyv
 Fl2j3Zx0/7ZqGa64k/pzfyQqCgIF3/L1veLtA+IJ1saMtPAB6CcPSZtIqrpd6KeltbKQ
 lRMezRBsdvw/2lubdkSIAZ1wHigLRJ7+yNq3dgPUOGvc/BOLlzOIT1QgK9Y4E/KOfi5U
 KZ8w==
X-Gm-Message-State: AOJu0YzVVBx4o7idXd9iwosIF2pcWg0V6UPPNypErlKuMWhZaRblRYEk
 3ejKaAS4okrYWYpuCH4FQ0NrNRH7v0LBJ/JCLLzAK0iO2sEWI5CkPVjEs/L5cKOZDMc+uCOQ9k5
 DPt+DFO+UeGYxNLoUMj/nv/arqKMFm6Ijk61+r8o7
X-Gm-Gg: ASbGnctlcyJ/hcctV1jrxFdbTP5pGYDD7bjQPEjb841381ZaF8GSoL6VguWolQmr2Fs
 sD+eJUbTkRr1i8Xxb4RnjWnlpkJDD9nOEM47AHMWxnHJYh6/vP2t543JZNNsMDyN44eA7Jvdnlx
 g0LJnncKJ59wrGekBYfJ+44RUV7y+58aNDsO27HdzwmXh7FTRi40CE4mUDbnvinW9ctYDEEaImy
 mS6I5Dof2wqSzUA0RvDEQ8ziExgiaGNtm3hH5pXownOyn9VvG5dL+yKEULSgNYjAerMrFDF90N+
 dDPmKGfAx2MZ1EH9wDRuU0wsG4F+voO6OMXz
X-Google-Smtp-Source: AGHT+IEhVqpYFkKAIGmG+BgJ+3feK1fSaXj3nVnyhmFwPSK5odzb/VGMyfejQB0sZ93ESI4RJRq4FnoXEvKh
X-Received: by 2002:a05:6e02:349c:b0:3d4:3ef4:d4d9 with SMTP id
 e9e14a558f8ab-3d7ec26b5d1mr4756975ab.14.1744320146336; 
 Thu, 10 Apr 2025 14:22:26 -0700 (PDT)
Received: from postal.iol.unh.edu (postal.iol.unh.edu. [132.177.123.84])
 by smtp-relay.gmail.com with ESMTPS id
 e9e14a558f8ab-3d7dba78206sm3265485ab.11.2025.04.10.14.22.26
 (version=TLS1_2 cipher=ECDHE-ECDSA-AES128-GCM-SHA256 bits=128/128);
 Thu, 10 Apr 2025 14:22:26 -0700 (PDT)
X-Relaying-Domain: iol.unh.edu
Date: Thu, 10 Apr 2025 14:22:26 -0700 (PDT)
Message-ID: <67f83692.050a0220.2e4c39.b10aSMTPIN_ADDED_MISSING@mx.google.com>
Received: from [172.21.0.6] (unknown [172.18.0.240])
 by postal.iol.unh.edu (Postfix) with ESMTP id BB4596052471;
 Thu, 10 Apr 2025 17:22:25 -0400 (EDT)
Subject: |SUCCESS| pw152867 [PATCH] app/testpmd: fix dump command list for MS
From: dpdklab@iol.unh.edu
To: Test Report <test-report@dpdk.org>
Cc: dpdk-test-reports@iol.unh.edu
In-Reply-To: <20250410160237.3067629-1-david.marchand@redhat.com>
References: <20250410160237.3067629-1-david.marchand@redhat.com>
Content-Type: text/plain
X-BeenThere: test-report@dpdk.org
X-Mailman-Version: 2.1.29
Precedence: list
List-Id: automatic DPDK test reports <test-report.dpdk.org>
List-Unsubscribe: <https://mails.dpdk.org/options/test-report>,
 <mailto:test-report-request@dpdk.org?subject=unsubscribe>
List-Archive: <http://mails.dpdk.org/archives/test-report/>
List-Post: <mailto:test-report@dpdk.org>
List-Help: <mailto:test-report-request@dpdk.org?subject=help>
List-Subscribe: <https://mails.dpdk.org/listinfo/test-report>,
 <mailto:test-report-request@dpdk.org?subject=subscribe>
Errors-To: test-report-bounces@dpdk.org

Test-Label: iol-compile-amd64-testing
Test-Status: SUCCESS
http://dpdk.org/patch/152867

_Testing PASS_

Submitter: David Marchand <david.marchand@redhat.com>
Date: Thursday, April 10 2025 16:02:36 
DPDK git baseline: Repo:dpdk
  Branch: master
  CommitID:b69fb7abb6d211cb74284029c6cdb2066b9ac0e9

152867 --> testing pass

Upstream job id: Generic-VM-DPDK-Compile-Meson#34547

Test environment and result as below:

+---------------------+-------------------+--------------------+
|     Environment     | dpdk_msvc_compile | dpdk_meson_compile |
+=====================+===================+====================+
| Windows Server 2022 | PASS              | SKIPPED            |
+---------------------+-------------------+--------------------+
| FreeBSD 13.5        | SKIPPED           | PASS               |
+---------------------+-------------------+--------------------+
| FreeBSD 14.2        | SKIPPED           | PASS               |
+---------------------+-------------------+--------------------+
| Ubuntu 20.04        | SKIPPED           | PASS               |
+---------------------+-------------------+--------------------+


Windows Server 2022
	Kernel: 10.0.20348.2031
	Compiler: clang 15.0.7, gcc 14.1.0 (MinGW), and MSVC VS 19.39.33521

FreeBSD 13.5
	Kernel: 13.5-RELEASE
	Compiler: clang 19.1.7

FreeBSD 14.2
	Kernel: 14.2-RELEASE
	Compiler: clang 18.1.6

Ubuntu 20.04
	Kernel: 4.19.325-0419325-generic
	Compiler: gcc (Ubuntu 9.4.0-1ubuntu1~20.04.2) 9.4.0

To view detailed results, visit:
https://lab.dpdk.org/results/dashboard/patchsets/32987/

UNH-IOL DPDK Community Lab

To manage your email subscriptions, visit: 
https://lab.dpdk.org/results/dashboard/preferences/subscriptions/