From mboxrd@z Thu Jan 1 00:00:00 1970 Return-Path: Received: from mails.dpdk.org (mails.dpdk.org [217.70.189.124]) by inbox.dpdk.org (Postfix) with ESMTP id 3DEE346556 for ; Thu, 10 Apr 2025 23:39:00 +0200 (CEST) Received: from mails.dpdk.org (localhost [127.0.0.1]) by mails.dpdk.org (Postfix) with ESMTP id 3561B4068A; Thu, 10 Apr 2025 23:39:00 +0200 (CEST) Received: from mail-yb1-f225.google.com (mail-yb1-f225.google.com [209.85.219.225]) by mails.dpdk.org (Postfix) with ESMTP id 43E1A402ED for ; Thu, 10 Apr 2025 23:38:59 +0200 (CEST) Received: by mail-yb1-f225.google.com with SMTP id 3f1490d57ef6-e6cea43bb31so1029662276.0 for ; Thu, 10 Apr 2025 14:38:59 -0700 (PDT) DKIM-Signature: v=1; a=rsa-sha256; c=relaxed/relaxed; d=iol.unh.edu; s=unh-iol; t=1744321138; x=1744925938; darn=dpdk.org; h=references:in-reply-to:cc:to:from:subject:message-id:date:from:to :cc:subject:date:message-id:reply-to; bh=5CHmJ0cnUn9bTQDkrlVZLmHbPWTK6x2KrawG8mBoluY=; b=XAQm693MxI0yhOXiLb8sIdjlZCG5EY8fzLNhIy6lRByRO6UnwgFuYHAHz9pzatYEsC 19EK9Q8KNqgfL5/F40QHs8fpuz2UULhzHvG/w4NMyvlK0xGbcXSwAb4Syxs5Oy5Egz6A uXqglBKFhT04zAI8e9ZJVjuEKfoqnYWZpojnA= X-Google-DKIM-Signature: v=1; a=rsa-sha256; c=relaxed/relaxed; d=1e100.net; s=20230601; t=1744321138; x=1744925938; h=references:in-reply-to:cc:to:from:subject:message-id:date :x-gm-message-state:from:to:cc:subject:date:message-id:reply-to; bh=5CHmJ0cnUn9bTQDkrlVZLmHbPWTK6x2KrawG8mBoluY=; b=utFEcs1hIobA/aPtc3e2uredNdsvg0iRnLsqlco3HBegp+ADFMNm/EtoNMgykqi4f5 CMvgB6Mwa64gnwtL9ATALO2FtdjAZZSPzkJXqwsn+WtKWAVVUT8R4ACmVTnm4AhFXzby CQJYmQVn/zmVhBACdW9iHZMTGc7ldBO85IU+EUVKCR9ull7MJSQ5K/+D1v8crH7V1eSv zysCNnUhxMEWEDkCLHBDdz278gJCNQIhyk3vpwY317sJgHQYYzf/7IuD8Je+YaNCS6cX q/J4AQHIN3Ljz7MfnNSo7DLZV2GJ8TD/m89h7EXAk4aHlCUz8W7K5wZoPE855EQYZ+5p xuOA== X-Gm-Message-State: AOJu0Ywek6g046VPnEDGUCiyL4KE3Kue3HQCAaks1eSD519mFWBTAblG GDfgFNHAthDQwQY5yRhtrcw7IoYiG3ck4dP9Jw9xqEiAsAlUJc19n4Q55rb2DD4+gs7ct40Id3U J1U8zHMId9n3taTZe5rEvlPuwJcu0U2QnL6MXiTlRy8xFr1NRVDFbeV5Y X-Gm-Gg: ASbGncsBzcRBEZBDtMDqA7RPBeazquXykIk5584szAexAijRW/Q3axeVnzfgmrtcuO5 BflsQ08npbRumFd+8SD+aqAAoF3HOtEsaiv3L+jQoEQd3v4jkhuhhkNKIp4ruVx7YdVzjHd5dwI vft4juYKAKNv1v04zlvhtiwaOLFQA2ukUQyfKJeME1GqJ6BLzRjsfEDEYzmWlkrJp8R2nHRmLga rWh1Cwxsd1Ygnygnkju0eW4yyaXvRsWz78cgv0efk0Wpyg7+DbaA4m67IyglMJdFZEwDaXTMejf SWDtwMh1qCFVnqMYFT66EAZ4D3l4Zz2vyCxDmVnahOStRYf/ X-Google-Smtp-Source: AGHT+IHHLGRbQ1Am2q36ctC8CL8/Z3ApDpCBHZl54NmzxOxROknfUfygdQpT1PCGl4E7trHoMrJVpQrV8VU+ X-Received: by 2002:a05:690c:f15:b0:703:d7a6:6266 with SMTP id 00721157ae682-705599c4919mr9030827b3.10.1744321138619; Thu, 10 Apr 2025 14:38:58 -0700 (PDT) Received: from postal.iol.unh.edu (postal.iol.unh.edu. [2606:4100:3880:1234::84]) by smtp-relay.gmail.com with ESMTPS id 00721157ae682-7053e13a161sm2799577b3.21.2025.04.10.14.38.58 (version=TLS1_2 cipher=ECDHE-ECDSA-AES128-GCM-SHA256 bits=128/128); Thu, 10 Apr 2025 14:38:58 -0700 (PDT) X-Relaying-Domain: iol.unh.edu Date: Thu, 10 Apr 2025 14:38:58 -0700 (PDT) Message-ID: <67f83a72.050a0220.236f50.970eSMTPIN_ADDED_MISSING@mx.google.com> Received: from [172.21.0.5] (unknown [172.18.0.240]) by postal.iol.unh.edu (Postfix) with ESMTP id 327AE6052471; Thu, 10 Apr 2025 17:38:58 -0400 (EDT) Subject: |SUCCESS| pw152867 [PATCH] app/testpmd: fix dump command list for MS From: dpdklab@iol.unh.edu To: Test Report Cc: dpdk-test-reports@iol.unh.edu In-Reply-To: <20250410160237.3067629-1-david.marchand@redhat.com> References: <20250410160237.3067629-1-david.marchand@redhat.com> Content-Type: text/plain X-BeenThere: test-report@dpdk.org X-Mailman-Version: 2.1.29 Precedence: list List-Id: automatic DPDK test reports List-Unsubscribe: , List-Archive: List-Post: List-Help: List-Subscribe: , Errors-To: test-report-bounces@dpdk.org Test-Label: iol-compile-amd64-testing Test-Status: SUCCESS http://dpdk.org/patch/152867 _Testing PASS_ Submitter: David Marchand Date: Thursday, April 10 2025 16:02:36 DPDK git baseline: Repo:dpdk Branch: master CommitID:b69fb7abb6d211cb74284029c6cdb2066b9ac0e9 152867 --> testing pass Upstream job id: Windows-Compile-DPDK-Native#27820 Test environment and result as below: +---------------------+-------------------+--------------------+-------------------------+ | Environment | dpdk_msvc_compile | dpdk_meson_compile | dpdk_llvm_clang_compile | +=====================+===================+====================+=========================+ | Windows Server 2022 | PASS | SKIPPED | PASS | +---------------------+-------------------+--------------------+-------------------------+ | FreeBSD 13.5 | SKIPPED | PASS | SKIPPED | +---------------------+-------------------+--------------------+-------------------------+ | FreeBSD 14.2 | SKIPPED | PASS | SKIPPED | +---------------------+-------------------+--------------------+-------------------------+ | Ubuntu 20.04 | SKIPPED | PASS | SKIPPED | +---------------------+-------------------+--------------------+-------------------------+ Windows Server 2022 Kernel: 10.0.20348.2031 Compiler: clang 15.0.7, gcc 14.1.0 (MinGW), and MSVC VS 19.39.33521 FreeBSD 13.5 Kernel: 13.5-RELEASE Compiler: clang 19.1.7 FreeBSD 14.2 Kernel: 14.2-RELEASE Compiler: clang 18.1.6 Ubuntu 20.04 Kernel: 4.19.325-0419325-generic Compiler: gcc (Ubuntu 9.4.0-1ubuntu1~20.04.2) 9.4.0 To view detailed results, visit: https://lab.dpdk.org/results/dashboard/patchsets/32987/ UNH-IOL DPDK Community Lab To manage your email subscriptions, visit: https://lab.dpdk.org/results/dashboard/preferences/subscriptions/