From mboxrd@z Thu Jan  1 00:00:00 1970
Return-Path: <test-report-bounces@dpdk.org>
Received: from mails.dpdk.org (mails.dpdk.org [217.70.189.124])
	by inbox.dpdk.org (Postfix) with ESMTP id DA80D46556
	for <public@inbox.dpdk.org>; Thu, 10 Apr 2025 23:44:50 +0200 (CEST)
Received: from mails.dpdk.org (localhost [127.0.0.1])
	by mails.dpdk.org (Postfix) with ESMTP id AE0D84068A;
	Thu, 10 Apr 2025 23:44:50 +0200 (CEST)
Received: from mail-vk1-f226.google.com (mail-vk1-f226.google.com
 [209.85.221.226])
 by mails.dpdk.org (Postfix) with ESMTP id 0078A402ED
 for <test-report@dpdk.org>; Thu, 10 Apr 2025 23:44:48 +0200 (CEST)
Received: by mail-vk1-f226.google.com with SMTP id
 71dfb90a1353d-523de5611a3so606843e0c.1
 for <test-report@dpdk.org>; Thu, 10 Apr 2025 14:44:48 -0700 (PDT)
DKIM-Signature: v=1; a=rsa-sha256; c=relaxed/relaxed;
 d=iol.unh.edu; s=unh-iol; t=1744321488; x=1744926288; darn=dpdk.org;
 h=references:in-reply-to:cc:to:from:subject:message-id:date:from:to
 :cc:subject:date:message-id:reply-to;
 bh=ToiGy3CoXx8cci9NgcKc7lh4Y/dE0a+ySt4Uw5QQMg0=;
 b=LYLcvrhh5zW2tlWZSjDSgNtVsdMENiiZfTaFBz1FG9uESkLrULnvTIW9nKyKtDej/M
 Ch0gX2xlNpXxHjzm49L7gFFxaDyyoy5w//oXXBhLflNHUxZIiMD4lILFg9c6F69q6BhO
 z6aIp/Zt7fRwhJ/erZX5dzIZ8BPdFB20eQZrg=
X-Google-DKIM-Signature: v=1; a=rsa-sha256; c=relaxed/relaxed;
 d=1e100.net; s=20230601; t=1744321488; x=1744926288;
 h=references:in-reply-to:cc:to:from:subject:message-id:date
 :x-gm-message-state:from:to:cc:subject:date:message-id:reply-to;
 bh=ToiGy3CoXx8cci9NgcKc7lh4Y/dE0a+ySt4Uw5QQMg0=;
 b=SadS2KJG+mMnxtu0zx1/ZdV7tqRZI0UBc0lAYsmfZ2ca7g6nsB621DkpLTewU0+EAT
 4bZM7sW5j0Hk995mkMvckquBU12IkOhKJp8Ww/kBwzaQICfdvstwE4iThxMvt5d4v1tk
 I5rVxglTtlTpmoHIot7dyYAeMhFsJ/kIrcxN1z4srrKwrjhcMN3w1KbKHmwYaQiwakNL
 ok7U3hFi2cz5/Dt06HXPI0pwpwh5TDU02mu/RPNEgdOcTJ74CJSem8McICwd8JZa4JfP
 p2T1T3JKZJ9hWtA4RkmIJveddCUjSGs0Q9gTY0bkPkVGnCoHTzX9JCQUCt1038hlK4LM
 MVXg==
X-Gm-Message-State: AOJu0YyuJawVA1pCL9iYhd4/5eOXzQsQ5T3K8XghbQD9TR+QXBf1Zz+O
 WkIuoViiaI28hW0hh1QYewQbvtLH3oaq0hHfBn+uAyUroU52lQS75RjAbaSVenN+Uuck35t7qLd
 a3w75nOmS/cG62kQoChpdyAbLA/jPlxiMxQjXSZNKHUbuduWUkxaNzgXO
X-Gm-Gg: ASbGncv6pfCCw0RLIiysGfu9R1yvm8BDSmWnkZ0E47OtWyh0WV/6g7Hzzke1lAc+Iwk
 VR9QjonXdFGezqwnmBuGhYJQSyRNshck8OXL+rMqHN09ntIeIb238rMSt0vc0hwAhrQknxqRcBq
 B3GondnHp5Ah0/qK8ZaYvY8BnFkBxFpSWKKfXepG7bKW+ckQ3kPnXccdVSVA4BqQTWtKhc7YVj2
 2+rn72A5fsR18gH00cLvmMyktyqimXzTCd2dUGmclZQjs7nmr95ThKL+5tWMko5CmQrOKbQErz7
 X9nS9T8M+gSq+ix18DUEMKAIy9plvr9VuqSAni+Nu0VAxgxj
X-Google-Smtp-Source: AGHT+IGqMmbIATVjO5YvmITkwoE5fRMCHA63BAqQBDwJ9DT2h574JEFZFMl6GPmTcVwo925H/NiQp2gPLzy8
X-Received: by 2002:a05:6102:3e0d:b0:4bb:d062:447 with SMTP id
 ada2fe7eead31-4c9e4ebb17cmr171908137.5.1744321488108; 
 Thu, 10 Apr 2025 14:44:48 -0700 (PDT)
Received: from postal.iol.unh.edu (postal.iol.unh.edu.
 [2606:4100:3880:1234::84]) by smtp-relay.gmail.com with ESMTPS id
 a1e0cc1a2514c-875572a4504sm139716241.14.2025.04.10.14.44.48
 (version=TLS1_2 cipher=ECDHE-ECDSA-AES128-GCM-SHA256 bits=128/128);
 Thu, 10 Apr 2025 14:44:48 -0700 (PDT)
X-Relaying-Domain: iol.unh.edu
Date: Thu, 10 Apr 2025 14:44:48 -0700 (PDT)
Message-ID: <67f83bd0.050a0220.328660.4300SMTPIN_ADDED_MISSING@mx.google.com>
Received: from [172.21.0.7] (unknown [172.18.0.240])
 by postal.iol.unh.edu (Postfix) with ESMTP id 8A7E46052471;
 Thu, 10 Apr 2025 17:44:47 -0400 (EDT)
Subject: |SUCCESS| pw152867 [PATCH] app/testpmd: fix dump command list for MS
From: dpdklab@iol.unh.edu
To: Test Report <test-report@dpdk.org>
Cc: dpdk-test-reports@iol.unh.edu
In-Reply-To: <20250410160237.3067629-1-david.marchand@redhat.com>
References: <20250410160237.3067629-1-david.marchand@redhat.com>
Content-Type: text/plain
X-BeenThere: test-report@dpdk.org
X-Mailman-Version: 2.1.29
Precedence: list
List-Id: automatic DPDK test reports <test-report.dpdk.org>
List-Unsubscribe: <https://mails.dpdk.org/options/test-report>,
 <mailto:test-report-request@dpdk.org?subject=unsubscribe>
List-Archive: <http://mails.dpdk.org/archives/test-report/>
List-Post: <mailto:test-report@dpdk.org>
List-Help: <mailto:test-report-request@dpdk.org?subject=help>
List-Subscribe: <https://mails.dpdk.org/listinfo/test-report>,
 <mailto:test-report-request@dpdk.org?subject=subscribe>
Errors-To: test-report-bounces@dpdk.org

Test-Label: iol-compile-amd64-testing
Test-Status: SUCCESS
http://dpdk.org/patch/152867

_Testing PASS_

Submitter: David Marchand <david.marchand@redhat.com>
Date: Thursday, April 10 2025 16:02:36 
DPDK git baseline: Repo:dpdk
  Branch: master
  CommitID:b69fb7abb6d211cb74284029c6cdb2066b9ac0e9

152867 --> testing pass

Upstream job id: Windows-Compile-DPDK-Native#27821

Test environment and result as below:

+---------------------+-------------------+--------------------+-------------------------+----------------------+
|     Environment     | dpdk_msvc_compile | dpdk_meson_compile | dpdk_llvm_clang_compile | dpdk_mingw64_compile |
+=====================+===================+====================+=========================+======================+
| Windows Server 2022 | PASS              | SKIPPED            | PASS                    | PASS                 |
+---------------------+-------------------+--------------------+-------------------------+----------------------+
| FreeBSD 13.5        | SKIPPED           | PASS               | SKIPPED                 | SKIPPED              |
+---------------------+-------------------+--------------------+-------------------------+----------------------+
| FreeBSD 14.2        | SKIPPED           | PASS               | SKIPPED                 | SKIPPED              |
+---------------------+-------------------+--------------------+-------------------------+----------------------+
| Ubuntu 20.04        | SKIPPED           | PASS               | SKIPPED                 | SKIPPED              |
+---------------------+-------------------+--------------------+-------------------------+----------------------+


Windows Server 2022
	Kernel: 10.0.20348.2031
	Compiler: clang 15.0.7, gcc 14.1.0 (MinGW), and MSVC VS 19.39.33521

FreeBSD 13.5
	Kernel: 13.5-RELEASE
	Compiler: clang 19.1.7

FreeBSD 14.2
	Kernel: 14.2-RELEASE
	Compiler: clang 18.1.6

Ubuntu 20.04
	Kernel: 4.19.325-0419325-generic
	Compiler: gcc (Ubuntu 9.4.0-1ubuntu1~20.04.2) 9.4.0

To view detailed results, visit:
https://lab.dpdk.org/results/dashboard/patchsets/32987/

UNH-IOL DPDK Community Lab

To manage your email subscriptions, visit: 
https://lab.dpdk.org/results/dashboard/preferences/subscriptions/