From mboxrd@z Thu Jan 1 00:00:00 1970 Return-Path: Received: from mails.dpdk.org (mails.dpdk.org [217.70.189.124]) by inbox.dpdk.org (Postfix) with ESMTP id 643EA46556 for ; Fri, 11 Apr 2025 00:28:55 +0200 (CEST) Received: from mails.dpdk.org (localhost [127.0.0.1]) by mails.dpdk.org (Postfix) with ESMTP id 3C8524028A; Fri, 11 Apr 2025 00:28:55 +0200 (CEST) Received: from mail-pf1-f225.google.com (mail-pf1-f225.google.com [209.85.210.225]) by mails.dpdk.org (Postfix) with ESMTP id 82EFC40285 for ; Fri, 11 Apr 2025 00:28:53 +0200 (CEST) Received: by mail-pf1-f225.google.com with SMTP id d2e1a72fcca58-736c062b1f5so1146706b3a.0 for ; Thu, 10 Apr 2025 15:28:53 -0700 (PDT) DKIM-Signature: v=1; a=rsa-sha256; c=relaxed/relaxed; d=iol.unh.edu; s=unh-iol; t=1744324132; x=1744928932; darn=dpdk.org; h=references:in-reply-to:cc:to:from:subject:message-id:date:from:to :cc:subject:date:message-id:reply-to; bh=UFBBSNTspnzsH54TQEAj+UvAG9GfyhjJ6y2oMqc8ZsY=; b=FL34r4DDQxf34sJZX/cDGD0uAfUjKssJzfuD9v50izKvyE1wmtS7QTBtq4ai/mUoZV 0BcJ/Cpb7dYX1mZfI+5pSKEhZ/zr+bLwldtoXqyBJGbmcQi18/jd2De4eHDz8ARO8JvM dXPzKd6esXzsZMeJN2TAfDoJ4c5IrUUcEBmKs= X-Google-DKIM-Signature: v=1; a=rsa-sha256; c=relaxed/relaxed; d=1e100.net; s=20230601; t=1744324132; x=1744928932; h=references:in-reply-to:cc:to:from:subject:message-id:date :x-gm-message-state:from:to:cc:subject:date:message-id:reply-to; bh=UFBBSNTspnzsH54TQEAj+UvAG9GfyhjJ6y2oMqc8ZsY=; b=DdQhvML3r0HmJ/xM4BBSpm9d+yApkXuSX0vukS7TDHB23T4BtUZYX5jhVxFMaoSzpd E7B31c/sIPqAfNDH/in6l9YKpVVfb93zpynqIVrIBqNb600Wjtd2iClr4/y0qXTkX5Wg cx5BNZ2zjyYL8v/87zf4+f6xBhb53OswRKLNy3Nma1mJRch+XhJ8viGlmoGAt5R38ZK1 86jXOISOykW3WSwQJ4+dbGi68KT1kqbLCab5Tn1tJ6eOZ1GLg1P3bgGeBC27zf9o9Vso QqqRnsop6vbA8esSk0N6dA4O8kWiWkcQ2MFIEF5tz8OmBvRNz0kYMGB6n3n2a+kX74U2 IJnQ== X-Gm-Message-State: AOJu0YxT2Tb/bX679sdU1XzLTlpLT2gzJNmm5c70ADGKgB9kId0GXuI2 JWBbUwvTG5j2fW9uALPsL8zBrP8CwnkBZQFaVEhl1k/5Yw8gClU8t7ocl6JUcZKHkNo2sYoIxAR 2f2walbvPyjM4jxj8uQs1uuKVNOvYvnL5JvFMnNS1VDubDIP2BV6Z6tzE X-Gm-Gg: ASbGncs4sQpv6d/QR4JyOeahDfMuT/dxZaIk1FVFSSJlbtULQqdFBrqVVq00EK6IxaH m8z2JZHEZzuZ2nsLiSBbYURzTm1K5Dz8meppXpf2D7ZELnh6GGdKt4Wj0GafcjvCBiT6JArg+bh wwE6RxxgzGHFiA5PFBQtUyV3pPWKTe7Oi/A4sT/HRHLPRfu1jPs5hOwyUNtSG0PjUj2CkAwhIOR C3aH7zzBMbiLCeYs3u6+xUVonqLXz33X6KLjJglYiAq99I7AOLFOLPMxNBNO6jqAOEX7gu7+KrN 81VEKPpV6P8rw3VCT9CsSvEw9eIxueGn/PJ40ehfr3+Kro3V X-Google-Smtp-Source: AGHT+IE9vRqDcHz3JXVsz6diOHqltxzHr0qIZUuIO8VzKJ2kGGQf3uHMbueRJdaMor03ORzYuspxNsawQAd7 X-Received: by 2002:a05:6a21:7891:b0:1f3:1d13:96b3 with SMTP id adf61e73a8af0-2017978173amr653391637.5.1744324132440; Thu, 10 Apr 2025 15:28:52 -0700 (PDT) Received: from postal.iol.unh.edu (postal.iol.unh.edu. [2606:4100:3880:1234::84]) by smtp-relay.gmail.com with ESMTPS id 41be03b00d2f7-b02e4223ecbsm167978a12.0.2025.04.10.15.28.52 (version=TLS1_2 cipher=ECDHE-ECDSA-AES128-GCM-SHA256 bits=128/128); Thu, 10 Apr 2025 15:28:52 -0700 (PDT) X-Relaying-Domain: iol.unh.edu Date: Thu, 10 Apr 2025 15:28:52 -0700 (PDT) Message-ID: <67f84624.050a0220.174e2d.5a88SMTPIN_ADDED_MISSING@mx.google.com> Received: from [172.21.0.5] (unknown [172.18.0.240]) by postal.iol.unh.edu (Postfix) with ESMTP id B4AD66052471; Thu, 10 Apr 2025 18:28:51 -0400 (EDT) Subject: |SUCCESS| pw152867 [PATCH] app/testpmd: fix dump command list for MS From: dpdklab@iol.unh.edu To: Test Report Cc: dpdk-test-reports@iol.unh.edu In-Reply-To: <20250410160237.3067629-1-david.marchand@redhat.com> References: <20250410160237.3067629-1-david.marchand@redhat.com> Content-Type: text/plain X-BeenThere: test-report@dpdk.org X-Mailman-Version: 2.1.29 Precedence: list List-Id: automatic DPDK test reports List-Unsubscribe: , List-Archive: List-Post: List-Help: List-Subscribe: , Errors-To: test-report-bounces@dpdk.org Test-Label: iol-unit-amd64-testing Test-Status: SUCCESS http://dpdk.org/patch/152867 _Testing PASS_ Submitter: David Marchand Date: Thursday, April 10 2025 16:02:36 DPDK git baseline: Repo:dpdk Branch: master CommitID:b69fb7abb6d211cb74284029c6cdb2066b9ac0e9 152867 --> testing pass Upstream job id: Generic-Unit-Test-DPDK#330317 Test environment and result as below: +---------------------+----------------+ | Environment | dpdk_unit_test | +=====================+================+ | CentOS Stream 9 | PASS | +---------------------+----------------+ | Fedora 41 | PASS | +---------------------+----------------+ | CentOS Stream 10 | PASS | +---------------------+----------------+ | Debian 12 | PASS | +---------------------+----------------+ | Fedora 40 (Clang) | PASS | +---------------------+----------------+ | RHEL9 | PASS | +---------------------+----------------+ | Fedora 41 (Clang) | PASS | +---------------------+----------------+ | RHEL8 | PASS | +---------------------+----------------+ | Fedora 40 | PASS | +---------------------+----------------+ | Ubuntu 22.04 | PASS | +---------------------+----------------+ | Ubuntu 24.04 | PASS | +---------------------+----------------+ | Ubuntu 20.04 | PASS | +---------------------+----------------+ | Windows Server 2022 | PASS | +---------------------+----------------+ CentOS Stream 9 Kernel: Depends on container host Compiler: gcc 11.5.0 20240719 (Red Hat 11.5.0-2) Fedora 41 Kernel: Depends on container host Compiler: gcc 14.2.1 20240912 (Red Hat 14.2.1-3) CentOS Stream 10 Kernel: Depends on container host Compiler: gcc 14.2.1 20241104 (Red Hat 14.2.1-6) Debian 12 Kernel: Depends on container host Compiler: gcc (Debian 12.2.0-14) 12.2.0 Fedora 40 (Clang) Kernel: Depends on container host Compiler: clang 18.1.8 (Fedora 18.1.8-1.fc40) RHEL9 Kernel: Depends on container host Compiler: gcc 11.5.0 20240719 (Red Hat 11.5.0-2) Fedora 41 (Clang) Kernel: Depends on container host Compiler: clang 19.1.5 (Fedora 19.1.5-1.fc41) RHEL8 Kernel: Depends on container host Compiler: gcc 8.5.0 20210514 (Red Hat 8.5.0-22) Fedora 40 Kernel: Depends on container host Compiler: gcc 14.2.1 20240912 (Red Hat 14.2.1-3) Ubuntu 22.04 Kernel: Depends on container host Compiler: gcc (Ubuntu 11.4.0-1ubuntu1~22.04) 11.4.0 Ubuntu 24.04 Kernel: Depends on container host Compiler: gcc (Ubuntu 13.3.0-6ubuntu2~24.04) 13.3.0 Ubuntu 20.04 Kernel: Depends on container host Compiler: gcc (Ubuntu 9.4.0-1ubuntu1~20.04.2) 9.4.0 Windows Server 2022 Kernel: 10.0.20348.2031 Compiler: clang 15.0.7, gcc 14.1.0 (MinGW), and MSVC VS 19.39.33521 To view detailed results, visit: https://lab.dpdk.org/results/dashboard/patchsets/32987/ UNH-IOL DPDK Community Lab To manage your email subscriptions, visit: https://lab.dpdk.org/results/dashboard/preferences/subscriptions/