From mboxrd@z Thu Jan 1 00:00:00 1970 Return-Path: Received: from mails.dpdk.org (mails.dpdk.org [217.70.189.124]) by inbox.dpdk.org (Postfix) with ESMTP id 732B746556 for ; Fri, 11 Apr 2025 01:17:28 +0200 (CEST) Received: from mails.dpdk.org (localhost [127.0.0.1]) by mails.dpdk.org (Postfix) with ESMTP id 6F3A8402DD; Fri, 11 Apr 2025 01:17:28 +0200 (CEST) Received: from mail-pl1-f227.google.com (mail-pl1-f227.google.com [209.85.214.227]) by mails.dpdk.org (Postfix) with ESMTP id 8576840285 for ; Fri, 11 Apr 2025 01:17:26 +0200 (CEST) Received: by mail-pl1-f227.google.com with SMTP id d9443c01a7336-223fd89d036so18021585ad.1 for ; Thu, 10 Apr 2025 16:17:26 -0700 (PDT) DKIM-Signature: v=1; a=rsa-sha256; c=relaxed/relaxed; d=iol.unh.edu; s=unh-iol; t=1744327045; x=1744931845; darn=dpdk.org; h=references:in-reply-to:cc:to:from:subject:message-id:date:from:to :cc:subject:date:message-id:reply-to; bh=tfSLpRQPlUjrS/u9PBvlNtUfdsZXCH1dBwktCXevLJo=; b=fGSOLU28Tj6QnAi9J1Al+CKUBSz7Qx7fzTDq5SnIpkFkyrL/Ym+1EZAjWEaGAb3NYr LZ3TDbvsZz2kVkttC1LIbYqBpP9ESdihAOITZ+c9UWRNY84A5FKEl255+GBZGKruvsdb CXDPt7G8+O74/hqgQip32D679e8RYW5to6c44= X-Google-DKIM-Signature: v=1; a=rsa-sha256; c=relaxed/relaxed; d=1e100.net; s=20230601; t=1744327045; x=1744931845; h=references:in-reply-to:cc:to:from:subject:message-id:date :x-gm-message-state:from:to:cc:subject:date:message-id:reply-to; bh=tfSLpRQPlUjrS/u9PBvlNtUfdsZXCH1dBwktCXevLJo=; b=vRmdhJUd6C94bHxk0Lf01s7vwelHunx10w5bE0vzoMYAbtf1UA9J36nzhz18U/+ZKg a2RvE7Y4TD6voWti6KGAZPEbltj3lidZwLVdJjEr65qroB6jfMB4ohGHg7uKd6My8RJl RRjnQIBBovHjQrOlsmOkdsYojZS1g5xT5pUb5efWagkT+E5S75DBCQwnyMRdLWuzLFBX P+WESsrSg7dxv/FYDIkk8OkNFFEl34lBXDfXj+Czjub/qbxSJAbikyh/87gmrxTC5VGF xnhm1IQ77CfA2yk8n0PMxRRd1ILxXaBJKP889C9pKc+W4hZWpGvmwMOuCSittBnPuV8p ShWg== X-Gm-Message-State: AOJu0Yy4qpqFA8SAoEcpxD6xDAM9vpV/jDERFRvttLFD0DzEdEDVriuV 7Glw4RFH68E3gCVUhqau9zkZXyOYtrqZrAl8eosm9gUhi84YQqICA9GCRB3tDgThUTgg9/QXx2T Xx6TwWizvhlU+lKETLIUVKwLD3I72g8aYA5GJwWdm X-Gm-Gg: ASbGncsXlZrKB9VeWTJ6ZnJiwxExvHCS6kl/ylstB9r3ij4jMXNivbfuwuuN6RMx10h 69zEnP9a2w6rA7A/UNi226+NY+KcFy6PBzYmIZyYmfZ9l9MVTcDYTlZ62qSzPui0c1oBEmMxr7z eqot7v7eXoK7/esnhCJzzR2laLlzGtz9+qfPxUTHciTIK9DURCxFd2dzTFpJafinf/MhGlnYlZx ppcvqUnUxbfJZpEn/GIrkHqv15kNHLPG/UgMHl2jx3W7JoUsBzjnGNdMhyYnMZHl+HAa3eoFUo9 VBjhy9ObUl/LrBSumj4ypFTfKj7EFnVOeycr X-Google-Smtp-Source: AGHT+IH4/C9cSk76Qkf6vbu5JfypcVN/EoVvaeyuPPGEfbWIw9GatpFjmi8Yo/IBWwveV81JlsfHYxozZi3X X-Received: by 2002:a17:903:17ce:b0:223:f408:c3f8 with SMTP id d9443c01a7336-22bea4b34a7mr8883175ad.14.1744327045514; Thu, 10 Apr 2025 16:17:25 -0700 (PDT) Received: from postal.iol.unh.edu (postal.iol.unh.edu. [132.177.123.84]) by smtp-relay.gmail.com with ESMTPS id d9443c01a7336-22ac7b41fb8sm2633195ad.18.2025.04.10.16.17.25 (version=TLS1_2 cipher=ECDHE-ECDSA-AES128-GCM-SHA256 bits=128/128); Thu, 10 Apr 2025 16:17:25 -0700 (PDT) X-Relaying-Domain: iol.unh.edu Date: Thu, 10 Apr 2025 16:17:25 -0700 (PDT) Message-ID: <67f85185.170a0220.3901c5.a0cbSMTPIN_ADDED_MISSING@mx.google.com> Received: from [172.21.0.5] (unknown [172.18.0.240]) by postal.iol.unh.edu (Postfix) with ESMTP id 9E1D36052471; Thu, 10 Apr 2025 19:17:24 -0400 (EDT) Subject: |SUCCESS| pw152867 [PATCH] app/testpmd: fix dump command list for MS From: dpdklab@iol.unh.edu To: Test Report Cc: dpdk-test-reports@iol.unh.edu In-Reply-To: <20250410160237.3067629-1-david.marchand@redhat.com> References: <20250410160237.3067629-1-david.marchand@redhat.com> Content-Type: text/plain X-BeenThere: test-report@dpdk.org X-Mailman-Version: 2.1.29 Precedence: list List-Id: automatic DPDK test reports List-Unsubscribe: , List-Archive: List-Post: List-Help: List-Subscribe: , Errors-To: test-report-bounces@dpdk.org Test-Label: iol-abi-testing Test-Status: SUCCESS http://dpdk.org/patch/152867 _Testing PASS_ Submitter: David Marchand Date: Thursday, April 10 2025 16:02:36 DPDK git baseline: Repo:dpdk Branch: master CommitID:b69fb7abb6d211cb74284029c6cdb2066b9ac0e9 152867 --> testing pass Upstream job id: Generic-DPDK-Compile-ABI#123018 Test environment and result as below: +-------------------+----------+ | Environment | abi_test | +===================+==========+ | Fedora 40 (Clang) | PASS | +-------------------+----------+ | RHEL8 | PASS | +-------------------+----------+ | RHEL9 | PASS | +-------------------+----------+ | Fedora 40 | PASS | +-------------------+----------+ | Fedora 41 (Clang) | PASS | +-------------------+----------+ | Debian 12 | PASS | +-------------------+----------+ | CentOS Stream 9 | PASS | +-------------------+----------+ | CentOS Stream 10 | PASS | +-------------------+----------+ | openSUSE Leap 15 | PASS | +-------------------+----------+ | Ubuntu 22.04 | PASS | +-------------------+----------+ | Fedora 41 | PASS | +-------------------+----------+ | Ubuntu 24.04 | PASS | +-------------------+----------+ Fedora 40 (Clang) Kernel: Depends on container host Compiler: clang 18.1.8 (Fedora 18.1.8-1.fc40) RHEL8 Kernel: Depends on container host Compiler: gcc 8.5.0 20210514 (Red Hat 8.5.0-22) RHEL9 Kernel: Depends on container host Compiler: gcc 11.5.0 20240719 (Red Hat 11.5.0-2) Fedora 40 Kernel: Depends on container host Compiler: gcc 14.2.1 20240912 (Red Hat 14.2.1-3) Fedora 41 (Clang) Kernel: Depends on container host Compiler: clang 19.1.5 (Fedora 19.1.5-1.fc41) Debian 12 Kernel: Depends on container host Compiler: gcc (Debian 12.2.0-14) 12.2.0 CentOS Stream 9 Kernel: Depends on container host Compiler: gcc 11.5.0 20240719 (Red Hat 11.5.0-2) CentOS Stream 10 Kernel: Depends on container host Compiler: gcc 14.2.1 20241104 (Red Hat 14.2.1-6) openSUSE Leap 15 Kernel: Depends on container host Compiler: gcc (SUSE Linux) 7.5.0 Ubuntu 22.04 Kernel: Depends on container host Compiler: gcc (Ubuntu 11.4.0-1ubuntu1~22.04) 11.4.0 Fedora 41 Kernel: Depends on container host Compiler: gcc 14.2.1 20240912 (Red Hat 14.2.1-3) Ubuntu 24.04 Kernel: Depends on container host Compiler: gcc (Ubuntu 13.3.0-6ubuntu2~24.04) 13.3.0 To view detailed results, visit: https://lab.dpdk.org/results/dashboard/patchsets/32987/ UNH-IOL DPDK Community Lab To manage your email subscriptions, visit: https://lab.dpdk.org/results/dashboard/preferences/subscriptions/