From mboxrd@z Thu Jan  1 00:00:00 1970
Return-Path: <test-report-bounces@dpdk.org>
Received: from mails.dpdk.org (mails.dpdk.org [217.70.189.124])
	by inbox.dpdk.org (Postfix) with ESMTP id AE00F46556
	for <public@inbox.dpdk.org>; Fri, 11 Apr 2025 01:39:24 +0200 (CEST)
Received: from mails.dpdk.org (localhost [127.0.0.1])
	by mails.dpdk.org (Postfix) with ESMTP id 7D7B0402DD;
	Fri, 11 Apr 2025 01:39:24 +0200 (CEST)
Received: from mail-qv1-f100.google.com (mail-qv1-f100.google.com
 [209.85.219.100])
 by mails.dpdk.org (Postfix) with ESMTP id 096B840285
 for <test-report@dpdk.org>; Fri, 11 Apr 2025 01:39:24 +0200 (CEST)
Received: by mail-qv1-f100.google.com with SMTP id
 6a1803df08f44-6f0cfbe2042so15456466d6.1
 for <test-report@dpdk.org>; Thu, 10 Apr 2025 16:39:23 -0700 (PDT)
DKIM-Signature: v=1; a=rsa-sha256; c=relaxed/relaxed;
 d=iol.unh.edu; s=unh-iol; t=1744328363; x=1744933163; darn=dpdk.org;
 h=references:in-reply-to:cc:to:from:subject:message-id:date:from:to
 :cc:subject:date:message-id:reply-to;
 bh=WhK0ar2vMHt0q/ecCvOEXBuaCiqXRi4i2cZnSTe0ixo=;
 b=Ya+cuwwJ6PFHrsKEU9EbU1/GoCWXEIohxKKDNktODnwej74zMyB4+EPyL3NzULrr6S
 dthcb6PRhRvJPiG30sxOKlymxW+GotXF9IWTDKwzoe7uIO4BfaTBTuCVV1IoEOYhvVR/
 80USQZMo7hbDrcyXWzd/YTL4SSYsDlQH7EGQM=
X-Google-DKIM-Signature: v=1; a=rsa-sha256; c=relaxed/relaxed;
 d=1e100.net; s=20230601; t=1744328363; x=1744933163;
 h=references:in-reply-to:cc:to:from:subject:message-id:date
 :x-gm-message-state:from:to:cc:subject:date:message-id:reply-to;
 bh=WhK0ar2vMHt0q/ecCvOEXBuaCiqXRi4i2cZnSTe0ixo=;
 b=ICRcu9pE2fpBI2DhdI/mI50gCrchQYQgeKgKzXBbD6KWe0uxR49V1zt317Ec2hvruC
 b1qmgE/cj07FmkJky3EiT3G/i/YsRsni1U7KBqoelzcE4h6z/GrJehFUnMUVaf5ABQud
 F/LDfsZ/UhoWC0K+gE0xoIKnVdL2bAx4VAQJLGIO8l0nUgQczpbRS8jvH3TDyW2pGeZD
 CaitgwpvE8yJoTtOXVMyb4MMDqbgpFFAko+MI7+Z469+zHOEMa3cuAqg460TWnk5ze8A
 1BtFMudg0xTxSyIhaXQJJtDIZhePdnJWNPS7NflO2TFfqx9o/L+mRRKv/wflXu3l1Pn8
 BAjQ==
X-Gm-Message-State: AOJu0YzG/vDoIgjV1cKDGWn7OJHfFrMuq9EYq1C+PZ78RExKD68Bsr01
 cMC0iVNezBWeeAkVXxmuXoZUAM9S+RwtNJiIOD6q4N8bc7SERfg1iiInmU7BcL/cCkv6GQKKRe+
 wFoXtjl20I2Fh1AjCYh8injq16UZfkEKsW18vjfHg12HeksG2nWn7E6AD
X-Gm-Gg: ASbGncv/VqMVfL86Mz/EPwU0AtvFf/yPxqZ6AIvcAevfpMfvhTQKglBtEoWT55J8uUJ
 p5lrTH556mOIMXJCdj2goRMaWqdcRuvgMLJOZ0j+jXft2J6tVtuTEStR/KcZGRICF7ylsfV5Dpj
 U9JnKzizaEw4vE9LplnRp3FYvafoLT8Bhh9JkA+d9haGXSkHPLYN/9P1tDNNhQnOTpmKZe8hp3E
 NGEIFt8jBrj5KPWUklJq7lfArrYoNVtOxFu4Q+yQIAHlZW6NhM5ypvLc8ikmQcFGE6PakF04eXm
 hfgXzdmD81GrebAan4ddJaogz8XgfEHNqnNWVeDeNG2MZXmR
X-Google-Smtp-Source: AGHT+IFYAHkcDamVjd4G+1XQvQ455TJCSziMqgL47zFOvO1f4JtWGA1U/P+ajdpHJ2ZskHse4lJ/UEpSjgvI
X-Received: by 2002:a05:6214:3014:b0:6ed:1637:442f with SMTP id
 6a1803df08f44-6f0e618479emr52655406d6.17.1744328363212; 
 Thu, 10 Apr 2025 16:39:23 -0700 (PDT)
Received: from postal.iol.unh.edu (postal.iol.unh.edu.
 [2606:4100:3880:1234::84]) by smtp-relay.gmail.com with ESMTPS id
 6a1803df08f44-6f0de95c1easm3202356d6.11.2025.04.10.16.39.23
 (version=TLS1_2 cipher=ECDHE-ECDSA-AES128-GCM-SHA256 bits=128/128);
 Thu, 10 Apr 2025 16:39:23 -0700 (PDT)
X-Relaying-Domain: iol.unh.edu
Date: Thu, 10 Apr 2025 16:39:23 -0700 (PDT)
Message-ID: <67f856ab.050a0220.38ccd0.b6e6SMTPIN_ADDED_MISSING@mx.google.com>
Received: from [172.17.0.4] (unknown [172.18.0.217])
 by postal.iol.unh.edu (Postfix) with ESMTP id CF29B6052471;
 Thu, 10 Apr 2025 19:39:22 -0400 (EDT)
Subject: |SUCCESS| pw152867 [PATCH] app/testpmd: fix dump command list for MS
From: dpdklab@iol.unh.edu
To: Test Report <test-report@dpdk.org>
Cc: dpdk-test-reports@iol.unh.edu
In-Reply-To: <20250410160237.3067629-1-david.marchand@redhat.com>
References: <20250410160237.3067629-1-david.marchand@redhat.com>
Content-Type: text/plain
X-BeenThere: test-report@dpdk.org
X-Mailman-Version: 2.1.29
Precedence: list
List-Id: automatic DPDK test reports <test-report.dpdk.org>
List-Unsubscribe: <https://mails.dpdk.org/options/test-report>,
 <mailto:test-report-request@dpdk.org?subject=unsubscribe>
List-Archive: <http://mails.dpdk.org/archives/test-report/>
List-Post: <mailto:test-report@dpdk.org>
List-Help: <mailto:test-report-request@dpdk.org?subject=help>
List-Subscribe: <https://mails.dpdk.org/listinfo/test-report>,
 <mailto:test-report-request@dpdk.org?subject=subscribe>
Errors-To: test-report-bounces@dpdk.org

Test-Label: iol-compile-amd64-testing
Test-Status: SUCCESS
http://dpdk.org/patch/152867

_Testing PASS_

Submitter: David Marchand <david.marchand@redhat.com>
Date: Thursday, April 10 2025 16:02:36 
DPDK git baseline: Repo:dpdk
  Branch: master
  CommitID:b69fb7abb6d211cb74284029c6cdb2066b9ac0e9

152867 --> testing pass

Upstream job id: Generic-DPDK-Compile-Meson#379179

Test environment and result as below:

+-----------------------------------+--------------------+-------------------+------------------+-------------------+-------------------------+----------------------+
|            Environment            | dpdk_meson_compile | dpdk_compile_spdk | dpdk_compile_ovs | dpdk_msvc_compile | dpdk_llvm_clang_compile | dpdk_mingw64_compile |
+===================================+====================+===================+==================+===================+=========================+======================+
| CentOS Stream 10                  | PASS               | SKIPPED           | SKIPPED          | SKIPPED           | SKIPPED                 | SKIPPED              |
+-----------------------------------+--------------------+-------------------+------------------+-------------------+-------------------------+----------------------+
| CentOS Stream 9                   | PASS               | PASS              | SKIPPED          | SKIPPED           | SKIPPED                 | SKIPPED              |
+-----------------------------------+--------------------+-------------------+------------------+-------------------+-------------------------+----------------------+
| Debian 12                         | PASS               | PASS              | SKIPPED          | SKIPPED           | SKIPPED                 | SKIPPED              |
+-----------------------------------+--------------------+-------------------+------------------+-------------------+-------------------------+----------------------+
| openSUSE Leap 15                  | PASS               | SKIPPED           | SKIPPED          | SKIPPED           | SKIPPED                 | SKIPPED              |
+-----------------------------------+--------------------+-------------------+------------------+-------------------+-------------------------+----------------------+
| Fedora 40 (Clang)                 | PASS               | PASS              | SKIPPED          | SKIPPED           | SKIPPED                 | SKIPPED              |
+-----------------------------------+--------------------+-------------------+------------------+-------------------+-------------------------+----------------------+
| Fedora 41 (Clang)                 | PASS               | PASS              | PASS             | SKIPPED           | SKIPPED                 | SKIPPED              |
+-----------------------------------+--------------------+-------------------+------------------+-------------------+-------------------------+----------------------+
| RHEL8                             | PASS               | SKIPPED           | SKIPPED          | SKIPPED           | SKIPPED                 | SKIPPED              |
+-----------------------------------+--------------------+-------------------+------------------+-------------------+-------------------------+----------------------+
| Fedora 40                         | PASS               | PASS              | SKIPPED          | SKIPPED           | SKIPPED                 | SKIPPED              |
+-----------------------------------+--------------------+-------------------+------------------+-------------------+-------------------------+----------------------+
| Ubuntu 20.04                      | PASS               | SKIPPED           | SKIPPED          | SKIPPED           | SKIPPED                 | SKIPPED              |
+-----------------------------------+--------------------+-------------------+------------------+-------------------+-------------------------+----------------------+
| Ubuntu 22.04                      | PASS               | PASS              | SKIPPED          | SKIPPED           | SKIPPED                 | SKIPPED              |
+-----------------------------------+--------------------+-------------------+------------------+-------------------+-------------------------+----------------------+
| Ubuntu 24.04                      | PASS               | PASS              | PASS             | SKIPPED           | SKIPPED                 | SKIPPED              |
+-----------------------------------+--------------------+-------------------+------------------+-------------------+-------------------------+----------------------+
| Alpine                            | PASS               | SKIPPED           | SKIPPED          | SKIPPED           | SKIPPED                 | SKIPPED              |
+-----------------------------------+--------------------+-------------------+------------------+-------------------+-------------------------+----------------------+
| Ubuntu 24.04 32 Bit Cross Compile | PASS               | SKIPPED           | SKIPPED          | SKIPPED           | SKIPPED                 | SKIPPED              |
+-----------------------------------+--------------------+-------------------+------------------+-------------------+-------------------------+----------------------+
| FreeBSD 13.5                      | PASS               | SKIPPED           | SKIPPED          | SKIPPED           | SKIPPED                 | SKIPPED              |
+-----------------------------------+--------------------+-------------------+------------------+-------------------+-------------------------+----------------------+
| FreeBSD 14.2                      | PASS               | SKIPPED           | SKIPPED          | SKIPPED           | SKIPPED                 | SKIPPED              |
+-----------------------------------+--------------------+-------------------+------------------+-------------------+-------------------------+----------------------+
| RHEL9                             | PASS               | SKIPPED           | SKIPPED          | SKIPPED           | SKIPPED                 | SKIPPED              |
+-----------------------------------+--------------------+-------------------+------------------+-------------------+-------------------------+----------------------+
| Fedora 41                         | PASS               | PASS              | PASS             | SKIPPED           | SKIPPED                 | SKIPPED              |
+-----------------------------------+--------------------+-------------------+------------------+-------------------+-------------------------+----------------------+
| Windows Server 2022               | SKIPPED            | SKIPPED           | SKIPPED          | PASS              | PASS                    | PASS                 |
+-----------------------------------+--------------------+-------------------+------------------+-------------------+-------------------------+----------------------+


CentOS Stream 10
	Kernel: Depends on container host
	Compiler: gcc 14.2.1 20241104 (Red Hat 14.2.1-6)

CentOS Stream 9
	Kernel: Depends on container host
	Compiler: gcc 11.5.0 20240719 (Red Hat 11.5.0-2)

Debian 12
	Kernel: Depends on container host
	Compiler: gcc (Debian 12.2.0-14) 12.2.0

openSUSE Leap 15
	Kernel: Depends on container host
	Compiler: gcc (SUSE Linux) 7.5.0

Fedora 40 (Clang)
	Kernel: Depends on container host
	Compiler: clang 18.1.8 (Fedora 18.1.8-1.fc40)

Fedora 41 (Clang)
	Kernel: Depends on container host
	Compiler: clang 19.1.5 (Fedora 19.1.5-1.fc41)

RHEL8
	Kernel: Depends on container host
	Compiler: gcc 8.5.0 20210514 (Red Hat 8.5.0-22)

Fedora 40
	Kernel: Depends on container host
	Compiler: gcc 14.2.1 20240912 (Red Hat 14.2.1-3)

Ubuntu 20.04
	Kernel: Depends on container host
	Compiler: gcc (Ubuntu 9.4.0-1ubuntu1~20.04.2) 9.4.0

Ubuntu 22.04
	Kernel: Depends on container host
	Compiler: gcc (Ubuntu 11.4.0-1ubuntu1~22.04) 11.4.0

Ubuntu 24.04
	Kernel: Depends on container host
	Compiler: gcc (Ubuntu 13.3.0-6ubuntu2~24.04) 13.3.0

Alpine
	Kernel: Depends on container host
	Compiler: gcc (Alpine 14.2.0) 14.2.0

Ubuntu 24.04 32 Bit Cross Compile
	Kernel: Depends on container host
	Compiler: gcc (Ubuntu 13.3.0-6ubuntu2~24.04) 13.3.0

FreeBSD 13.5
	Kernel: 13.5-RELEASE
	Compiler: clang 19.1.7

FreeBSD 14.2
	Kernel: 14.2-RELEASE
	Compiler: clang 18.1.6

RHEL9
	Kernel: Depends on container host
	Compiler: gcc 11.5.0 20240719 (Red Hat 11.5.0-2)

Fedora 41
	Kernel: Depends on container host
	Compiler: gcc 14.2.1 20240912 (Red Hat 14.2.1-3)

Windows Server 2022
	Kernel: 10.0.20348.2031
	Compiler: clang 15.0.7, gcc 14.1.0 (MinGW), and MSVC VS 19.39.33521

To view detailed results, visit:
https://lab.dpdk.org/results/dashboard/patchsets/32987/

UNH-IOL DPDK Community Lab

To manage your email subscriptions, visit: 
https://lab.dpdk.org/results/dashboard/preferences/subscriptions/