From mboxrd@z Thu Jan 1 00:00:00 1970 Return-Path: Received: from mails.dpdk.org (mails.dpdk.org [217.70.189.124]) by inbox.dpdk.org (Postfix) with ESMTP id E1EE946556 for ; Fri, 11 Apr 2025 01:41:15 +0200 (CEST) Received: from mails.dpdk.org (localhost [127.0.0.1]) by mails.dpdk.org (Postfix) with ESMTP id B56E9402DD; Fri, 11 Apr 2025 01:41:15 +0200 (CEST) Received: from mail-pj1-f99.google.com (mail-pj1-f99.google.com [209.85.216.99]) by mails.dpdk.org (Postfix) with ESMTP id 8641640285 for ; Fri, 11 Apr 2025 01:41:14 +0200 (CEST) Received: by mail-pj1-f99.google.com with SMTP id 98e67ed59e1d1-2ff6a98c638so1509095a91.0 for ; Thu, 10 Apr 2025 16:41:14 -0700 (PDT) DKIM-Signature: v=1; a=rsa-sha256; c=relaxed/relaxed; d=iol.unh.edu; s=unh-iol; t=1744328473; x=1744933273; darn=dpdk.org; h=references:in-reply-to:cc:to:from:subject:message-id:date:from:to :cc:subject:date:message-id:reply-to; bh=YngBwBobFR3ux1MNJj7WjcDs1C2ZNDjjRIBIPboEbC8=; b=ZhgGPNuz8V+mLNrHCXTbODVMNt0Fv1PqNLNsUp/ghCpZBvE1celowsEyr4uevIqcPU 98gMftGG+Q3Wf2kmcfJwFdlGW6vyTBc6502yt/C2qumkIqsfqGuAmH5cmhC/8PmRXhv2 SkDdn3hfsxxToicISxasTeEeeSm6ugEGfo424= X-Google-DKIM-Signature: v=1; a=rsa-sha256; c=relaxed/relaxed; d=1e100.net; s=20230601; t=1744328473; x=1744933273; h=references:in-reply-to:cc:to:from:subject:message-id:date :x-gm-message-state:from:to:cc:subject:date:message-id:reply-to; bh=YngBwBobFR3ux1MNJj7WjcDs1C2ZNDjjRIBIPboEbC8=; b=LX2c72Rpj3bursQ5wxFzkPYxgvHIB39fNnWN+XF/d/nNn5+A8kUSxWH7DLCq2KM8nt W8ZhaU6qIaB1YDU1vysVh2u9KsAbq+A9g0ilrdBUwqFfrVGNxmgygbP6KS6jbroOF3bR n8uphQFVGJ0kWgmVM6doHIbX9qcC7uzCIuYkowSEfq3A454zzFdhD+mp3l4T8KMeUTXq 25wq5sq7gOFfIFArq2xuSKXYKjmytIafH0YkOWvFbi38BsChChv2mLrGo1gD2vAanE8H UnQwVciwKdYlxxe/9ny5RtkDZF/LZHy4bK5mZQQU+5eFVC1pl+8BSO5k6WfKslgs2qUw kGgQ== X-Gm-Message-State: AOJu0YyAVMH2yLN8AQe6nBMVi9qw2SKLEWhaaeroNa45eGr3s5Bwh0oM ypbKIekY7+QqLN6ny9wLeaCy3UG6x6ZhamQ9T1+UVDp0CEYO28sVw0LyGv+nQGOtf4hkJbyRbeW VOPeBgN/mNa/e3V6/QA13u8Y/H6yntH5r/y99VoklF8ae17/uR7velA+6 X-Gm-Gg: ASbGnctA/Vr3KnTqjDkM/+cqonwKKntC2oTHszRlfzw72N9lBkXdBLau/Ga56LZ9boZ Uljq/J9FhtXYB2N2dbI1hPTaTZD7qB9cLjlUZ+C/pk0EuyBjJefInKwIAysZIhXruASJIQkBy3N UKV71FUh278lSpNuDbgKSUu4NFrvo9QN17dQejjU4Zd37tEDUf7J3+OW3MCZtPnICO9ZYN1SuJ4 VFLnlb+fX2MtBte1mAti5cOD97Ul92l/ge+ldT/tV4Ov5WvOb67FXXy+RMmOCg/9oPVabRDnv3L XBibHCJZUo9xydlzTv5LY5fzXaE148Dgw1oq2k3LAtsXuVl8 X-Google-Smtp-Source: AGHT+IERm0kAT4HrIf3uUUhk4AnEloBPhuCJRucZCYTgcmTR0FN5Xfql2Z0kQVjBjf7haY1IRcc41WjFY0FR X-Received: by 2002:a17:90b:1f8c:b0:2ee:df70:1ff3 with SMTP id 98e67ed59e1d1-308235930d1mr1560277a91.0.1744328473427; Thu, 10 Apr 2025 16:41:13 -0700 (PDT) Received: from postal.iol.unh.edu (postal.iol.unh.edu. [2606:4100:3880:1234::84]) by smtp-relay.gmail.com with ESMTPS id d9443c01a7336-22ac7b41f07sm2767065ad.20.2025.04.10.16.41.13 (version=TLS1_2 cipher=ECDHE-ECDSA-AES128-GCM-SHA256 bits=128/128); Thu, 10 Apr 2025 16:41:13 -0700 (PDT) X-Relaying-Domain: iol.unh.edu Date: Thu, 10 Apr 2025 16:41:13 -0700 (PDT) Message-ID: <67f85719.170a0220.3accdf.b035SMTPIN_ADDED_MISSING@mx.google.com> Received: from [172.17.0.4] (unknown [172.18.0.217]) by postal.iol.unh.edu (Postfix) with ESMTP id 916326052471; Thu, 10 Apr 2025 19:41:12 -0400 (EDT) Subject: |SUCCESS| pw152867 [PATCH] app/testpmd: fix dump command list for MS From: dpdklab@iol.unh.edu To: Test Report Cc: dpdk-test-reports@iol.unh.edu In-Reply-To: <20250410160237.3067629-1-david.marchand@redhat.com> References: <20250410160237.3067629-1-david.marchand@redhat.com> Content-Type: text/plain X-BeenThere: test-report@dpdk.org X-Mailman-Version: 2.1.29 Precedence: list List-Id: automatic DPDK test reports List-Unsubscribe: , List-Archive: List-Post: List-Help: List-Subscribe: , Errors-To: test-report-bounces@dpdk.org Test-Label: iol-unit-amd64-testing Test-Status: SUCCESS http://dpdk.org/patch/152867 _Testing PASS_ Submitter: David Marchand Date: Thursday, April 10 2025 16:02:36 DPDK git baseline: Repo:dpdk Branch: master CommitID:b69fb7abb6d211cb74284029c6cdb2066b9ac0e9 152867 --> testing pass Upstream job id: Generic-Unit-Test-DPDK#330348 Test environment and result as below: +---------------------+----------------+ | Environment | dpdk_unit_test | +=====================+================+ | CentOS Stream 10 | PASS | +---------------------+----------------+ | Debian 12 | PASS | +---------------------+----------------+ | CentOS Stream 9 | PASS | +---------------------+----------------+ | Fedora 40 | PASS | +---------------------+----------------+ | Fedora 41 (Clang) | PASS | +---------------------+----------------+ | Fedora 41 | PASS | +---------------------+----------------+ | RHEL8 | PASS | +---------------------+----------------+ | Fedora 40 (Clang) | PASS | +---------------------+----------------+ | Ubuntu 24.04 | PASS | +---------------------+----------------+ | Ubuntu 22.04 | PASS | +---------------------+----------------+ | RHEL9 | PASS | +---------------------+----------------+ | Ubuntu 20.04 | PASS | +---------------------+----------------+ | Windows Server 2022 | PASS | +---------------------+----------------+ CentOS Stream 10 Kernel: Depends on container host Compiler: gcc 14.2.1 20241104 (Red Hat 14.2.1-6) Debian 12 Kernel: Depends on container host Compiler: gcc (Debian 12.2.0-14) 12.2.0 CentOS Stream 9 Kernel: Depends on container host Compiler: gcc 11.5.0 20240719 (Red Hat 11.5.0-2) Fedora 40 Kernel: Depends on container host Compiler: gcc 14.2.1 20240912 (Red Hat 14.2.1-3) Fedora 41 (Clang) Kernel: Depends on container host Compiler: clang 19.1.5 (Fedora 19.1.5-1.fc41) Fedora 41 Kernel: Depends on container host Compiler: gcc 14.2.1 20240912 (Red Hat 14.2.1-3) RHEL8 Kernel: Depends on container host Compiler: gcc 8.5.0 20210514 (Red Hat 8.5.0-22) Fedora 40 (Clang) Kernel: Depends on container host Compiler: clang 18.1.8 (Fedora 18.1.8-1.fc40) Ubuntu 24.04 Kernel: Depends on container host Compiler: gcc (Ubuntu 13.3.0-6ubuntu2~24.04) 13.3.0 Ubuntu 22.04 Kernel: Depends on container host Compiler: gcc (Ubuntu 11.4.0-1ubuntu1~22.04) 11.4.0 RHEL9 Kernel: Depends on container host Compiler: gcc 11.5.0 20240719 (Red Hat 11.5.0-2) Ubuntu 20.04 Kernel: Depends on container host Compiler: gcc (Ubuntu 9.4.0-1ubuntu1~20.04.2) 9.4.0 Windows Server 2022 Kernel: 10.0.20348.2031 Compiler: clang 15.0.7, gcc 14.1.0 (MinGW), and MSVC VS 19.39.33521 To view detailed results, visit: https://lab.dpdk.org/results/dashboard/patchsets/32987/ UNH-IOL DPDK Community Lab To manage your email subscriptions, visit: https://lab.dpdk.org/results/dashboard/preferences/subscriptions/