From mboxrd@z Thu Jan 1 00:00:00 1970 Return-Path: Received: from mails.dpdk.org (mails.dpdk.org [217.70.189.124]) by inbox.dpdk.org (Postfix) with ESMTP id CD97046556 for ; Fri, 11 Apr 2025 01:52:15 +0200 (CEST) Received: from mails.dpdk.org (localhost [127.0.0.1]) by mails.dpdk.org (Postfix) with ESMTP id A6821402DD; Fri, 11 Apr 2025 01:52:15 +0200 (CEST) Received: from mail-pg1-f228.google.com (mail-pg1-f228.google.com [209.85.215.228]) by mails.dpdk.org (Postfix) with ESMTP id 60AB740285 for ; Fri, 11 Apr 2025 01:52:14 +0200 (CEST) Received: by mail-pg1-f228.google.com with SMTP id 41be03b00d2f7-b0322b6f974so1025099a12.1 for ; Thu, 10 Apr 2025 16:52:14 -0700 (PDT) DKIM-Signature: v=1; a=rsa-sha256; c=relaxed/relaxed; d=iol.unh.edu; s=unh-iol; t=1744329133; x=1744933933; darn=dpdk.org; h=references:in-reply-to:cc:to:from:subject:message-id:date:from:to :cc:subject:date:message-id:reply-to; bh=yJ4osAh0QNyN2JR/eGGIEE++2Tlh1KFRB324p0jRa+Q=; b=YEcTtABcEouXUzBAI4LdX/BPsp0lbu8vEH77MQb1s9SILW62Or7fbnwMTXwfhbg1qW dzOXfK/wKcgDz/OqvtWJ6+UEW+RvDGktPYLRKU6UyxVEemO0edRDSMQgn3NGwNiFvriv e8QBpFKIn3UkI8ios6XlN5L/h3GNBbde13y4Q= X-Google-DKIM-Signature: v=1; a=rsa-sha256; c=relaxed/relaxed; d=1e100.net; s=20230601; t=1744329133; x=1744933933; h=references:in-reply-to:cc:to:from:subject:message-id:date :x-gm-message-state:from:to:cc:subject:date:message-id:reply-to; bh=yJ4osAh0QNyN2JR/eGGIEE++2Tlh1KFRB324p0jRa+Q=; b=PCY8auJ8KC3gD24A3Jl2yu1G6J7H+dvCh50GQdFqSRv7HLcDM9NC4D5oiIcnH7PS5u qtdOg0WQEoHSf1o9rtY87ErMwCnXmydV0b1ZLLgSwh2EwPz7ACvUadeJo2kjy1i10uIS oEIwJvuwup8k78ecb25Xl37/kTP+iGX/3LpM35YpbOf6+0m8I+3it1cg8UXKH4CH7IOQ ycLRCdcBxkSoveYxUnqJMsKRkgSDwK599qbRSCyvtR//sCBCuUaNPbOefabyNVdIfCY1 qqjdKMZwNZVbjMR0HkoKvOl53tNczPHVwnpUhYdQpJzoarkZmf11jA8f67c9UYVVO42t 2/YQ== X-Gm-Message-State: AOJu0Yx6QyjHM3qj8oDZm4q75g0k7JBKtaDCbnOVWY5COVYQNO4nMRVl FfO0drE3idS+0oDKopR4WE9gSnQ7vaZI4tXuuu8D3bWttI6HQGeYV7LwQqGyDI5ayVHVjTAgckX Q9UpQ/5S0Nk8n7oAD62OuxCf28V0MBxQb2GOmROEtI2n8C/qxeaf4PStU X-Gm-Gg: ASbGncsjopbgIlg0K85KtIEXqOs2IRUt3tTs3ZUbJHk1R2S16BGx0XnXE+6dratCTXS WhGhjXGo8MSa7eAnUmwurSf8Eap0F7Q8glu7jX7Ws9zDLrwxIYnTVxfyDesGDWz6UcD3DHLClnz sltP8EX15ncSXB0jWjI+VHgrtcOQyeDM4N9vu9bpG6XKuo2QxF9PRyAISPGAwdjXHatyCW8YZUq eUDpr4C28FOAZRbtb/jx6iqmWPzs/Ko62TMIwircaKJ2tTUln5f7LgZ8FOKkO635NFtwtWqH74h WHpv8i1C1x1g51eDgMvh2vbS2QwQC3mFpzNbShCTDXsNCFP2 X-Google-Smtp-Source: AGHT+IG5rWmTRL8ozIlsKi82kKIvKg8RXI0Ec29vgTcJXzkFzqz8iqIP1t3QmusNskueuI0UjuCQ4TwgO24+ X-Received: by 2002:a17:90b:53cc:b0:2ff:6e72:b8e9 with SMTP id 98e67ed59e1d1-308237ba40dmr988302a91.25.1744329133395; Thu, 10 Apr 2025 16:52:13 -0700 (PDT) Received: from postal.iol.unh.edu (postal.iol.unh.edu. [2606:4100:3880:1234::84]) by smtp-relay.gmail.com with ESMTPS id 98e67ed59e1d1-306dd11bb84sm440075a91.6.2025.04.10.16.52.13 (version=TLS1_2 cipher=ECDHE-ECDSA-AES128-GCM-SHA256 bits=128/128); Thu, 10 Apr 2025 16:52:13 -0700 (PDT) X-Relaying-Domain: iol.unh.edu Date: Thu, 10 Apr 2025 16:52:13 -0700 (PDT) Message-ID: <67f859ad.170a0220.370b43.ff47SMTPIN_ADDED_MISSING@mx.google.com> Received: from [172.17.0.4] (unknown [172.18.0.217]) by postal.iol.unh.edu (Postfix) with ESMTP id 762386052471; Thu, 10 Apr 2025 19:52:12 -0400 (EDT) Subject: |SUCCESS| pw152867 [PATCH] app/testpmd: fix dump command list for MS From: dpdklab@iol.unh.edu To: Test Report Cc: dpdk-test-reports@iol.unh.edu In-Reply-To: <20250410160237.3067629-1-david.marchand@redhat.com> References: <20250410160237.3067629-1-david.marchand@redhat.com> Content-Type: text/plain X-BeenThere: test-report@dpdk.org X-Mailman-Version: 2.1.29 Precedence: list List-Id: automatic DPDK test reports List-Unsubscribe: , List-Archive: List-Post: List-Help: List-Subscribe: , Errors-To: test-report-bounces@dpdk.org Test-Label: iol-sample-apps-testing Test-Status: SUCCESS http://dpdk.org/patch/152867 _Testing PASS_ Submitter: David Marchand Date: Thursday, April 10 2025 16:02:36 DPDK git baseline: Repo:dpdk Branch: master CommitID:b69fb7abb6d211cb74284029c6cdb2066b9ac0e9 152867 --> testing pass Upstream job id: ACVP-FIPS-testing#9510 Test environment and result as below: +--------------------+----------------------+----------------------+ | Environment | compressdev_zlib_pmd | dpdk_fips_validation | +====================+======================+======================+ | Ubuntu 22.04 (ARM) | PASS | SKIPPED | +--------------------+----------------------+----------------------+ | Ubuntu 22.04 | PASS | SKIPPED | +--------------------+----------------------+----------------------+ | Ubuntu 20.04 | SKIPPED | PASS | +--------------------+----------------------+----------------------+ Ubuntu 22.04 (ARM) Kernel: 5.15.0-97-generic Compiler: gcc gcc (Ubuntu 11.4.0-1ubuntu1~22.04) 11.4.0 Ubuntu 22.04 Kernel: 5.15.0-100-generic Compiler: gcc gcc (Ubuntu 11.4.0-1ubuntu1~22.04) 11.4.0 Ubuntu 20.04 Kernel: Depends on container host Compiler: gcc (Ubuntu 9.4.0-1ubuntu1~20.04.2) 9.4.0 To view detailed results, visit: https://lab.dpdk.org/results/dashboard/patchsets/32987/ UNH-IOL DPDK Community Lab To manage your email subscriptions, visit: https://lab.dpdk.org/results/dashboard/preferences/subscriptions/