From mboxrd@z Thu Jan 1 00:00:00 1970 Return-Path: Received: from mails.dpdk.org (mails.dpdk.org [217.70.189.124]) by inbox.dpdk.org (Postfix) with ESMTP id 9766146557 for ; Fri, 11 Apr 2025 02:02:49 +0200 (CEST) Received: from mails.dpdk.org (localhost [127.0.0.1]) by mails.dpdk.org (Postfix) with ESMTP id 995A6402DD; Fri, 11 Apr 2025 02:02:48 +0200 (CEST) Received: from mail-qv1-f98.google.com (mail-qv1-f98.google.com [209.85.219.98]) by mails.dpdk.org (Postfix) with ESMTP id AA75740285 for ; Fri, 11 Apr 2025 02:02:47 +0200 (CEST) Received: by mail-qv1-f98.google.com with SMTP id 6a1803df08f44-6ed0cc5eca4so26135326d6.1 for ; Thu, 10 Apr 2025 17:02:47 -0700 (PDT) DKIM-Signature: v=1; a=rsa-sha256; c=relaxed/relaxed; d=iol.unh.edu; s=unh-iol; t=1744329767; x=1744934567; darn=dpdk.org; h=references:in-reply-to:cc:to:from:subject:message-id:date:from:to :cc:subject:date:message-id:reply-to; bh=waqp2CEGu8MGw3C83zcwgW1em55gQHKVQExqO0iJGA0=; b=cli2jTCQ4oKpbjj9IRFw6wDNI3zwGq3W8/KCCEShie38KiW6qjWyvLNf9zNrxSs+zc jCbMMuebq5tPBmbODk4lMoxtRvKmse2OwD/t90n978qy6VpL4SIAY2C5WV8iBTMHGEd7 xAvpPZ7gg17o0bj/Esoh52XTN2K4WajIRxt4M= X-Google-DKIM-Signature: v=1; a=rsa-sha256; c=relaxed/relaxed; d=1e100.net; s=20230601; t=1744329767; x=1744934567; h=references:in-reply-to:cc:to:from:subject:message-id:date :x-gm-message-state:from:to:cc:subject:date:message-id:reply-to; bh=waqp2CEGu8MGw3C83zcwgW1em55gQHKVQExqO0iJGA0=; b=VAJkT9yC1zFupZ6/prPx/94b71FeMEI9w+GL2y4+xSdSNywkHfPewa7mgODAlAlPTr JWYH/qbiQRjDqEp0HY9IWzp9Q/B/1ejFT4NbppVPZEHvFEEwkCnIrtC1Xs953mvcXMZQ sKUXK+t6WbHEygJqfVSggreECyPNHrw0x2mC1HBvN0vtePdLsYsYnLZ79a+CU62NEZG5 Dg0T+SC4/lGFYL8FUhRLdAHBT3z6k0BvS0FcZbArXhT/RloscqiumOxigsgQ8fgyjBKq x22UatKQL1mInN+Vg90SQsR8sFqoxeR3/9S6DVR3icBFxrji/PMxUR5iiUmI4d0LQKBn sIDg== X-Gm-Message-State: AOJu0Yz33pIhI37cJ1uScZx9s30mzoFRumeF4QwTpkdLDprIJqRydtJY BPnuwj1BMWtGx5pfJkwb81XEZ7daoVthAjawdercaUd2w3hzyMl7VBRBuRCdGDSTbEA8fPcP3Qg h2OoeP+v2CxR2ElkPnUUj1V6uAdxTTRXSm4ie+4g8cmcbw6B1OlsKsKoJ X-Gm-Gg: ASbGncvzursiUmrTXyemol4BMJCnnefoC1jXQJGbjoZRWJOFzsvYBUmJXABWypd4EFR hZUZhNm9LXeZQbQ19b/6Qk7ko2b9B2wB2wcKiCcHPnPJFj7DMPpWQ117IMjh2m19zFE1Gdw3hO/ YzXnvau92zX9kaTYG7ScGFeGawS0Qz4qSFEEYwrEbDZ1kGTcKxQRWzaWqN53ZQXUsr21AlYTcov kZQxDzwIAoRGnWghTMhVj6O3ow71a5AbyuirJqQuGAtubibeiFxiJDMRrq5cBuL4jM4yA91mIIT mY1Ji4FhA4TdwB/8jjhxjX3OSQwa+n4mpQLPKZtFeJt4PAY2 X-Google-Smtp-Source: AGHT+IEy+2q49eXq3OKAiaZpmEy6wot4x/QoWLkg9UpDvfs5pi+6C1nH0P+UgXjRGmggrodnsMR+AB9Ug12z X-Received: by 2002:a05:6214:da5:b0:6e2:485d:fddd with SMTP id 6a1803df08f44-6f21413e725mr17805536d6.1.1744329767048; Thu, 10 Apr 2025 17:02:47 -0700 (PDT) Received: from postal.iol.unh.edu (postal.iol.unh.edu. [2606:4100:3880:1234::84]) by smtp-relay.gmail.com with ESMTPS id 6a1803df08f44-6f0de97bbe0sm3242316d6.36.2025.04.10.17.02.46 (version=TLS1_2 cipher=ECDHE-ECDSA-AES128-GCM-SHA256 bits=128/128); Thu, 10 Apr 2025 17:02:47 -0700 (PDT) X-Relaying-Domain: iol.unh.edu Date: Thu, 10 Apr 2025 17:02:47 -0700 (PDT) Message-ID: <67f85c27.d40a0220.2052f6.c1a2SMTPIN_ADDED_MISSING@mx.google.com> Received: from [172.17.0.3] (unknown [172.18.0.217]) by postal.iol.unh.edu (Postfix) with ESMTP id B4B416052471; Thu, 10 Apr 2025 20:02:46 -0400 (EDT) Subject: |SUCCESS| pw152867 [PATCH] app/testpmd: fix dump command list for MS From: dpdklab@iol.unh.edu To: Test Report Cc: dpdk-test-reports@iol.unh.edu In-Reply-To: <20250410160237.3067629-1-david.marchand@redhat.com> References: <20250410160237.3067629-1-david.marchand@redhat.com> Content-Type: text/plain X-BeenThere: test-report@dpdk.org X-Mailman-Version: 2.1.29 Precedence: list List-Id: automatic DPDK test reports List-Unsubscribe: , List-Archive: List-Post: List-Help: List-Subscribe: , Errors-To: test-report-bounces@dpdk.org Test-Label: iol-compile-amd64-testing Test-Status: SUCCESS http://dpdk.org/patch/152867 _Testing PASS_ Submitter: David Marchand Date: Thursday, April 10 2025 16:02:36 DPDK git baseline: Repo:dpdk Branch: master CommitID:b69fb7abb6d211cb74284029c6cdb2066b9ac0e9 152867 --> testing pass Upstream job id: Generic-DPDK-Compile-Meson#379226 Test environment and result as below: +-----------------------------------+-------------------+--------------------+-------------------------+----------------------+-------------------+------------------+ | Environment | dpdk_msvc_compile | dpdk_meson_compile | dpdk_llvm_clang_compile | dpdk_mingw64_compile | dpdk_compile_spdk | dpdk_compile_ovs | +===================================+===================+====================+=========================+======================+===================+==================+ | Windows Server 2022 | PASS | SKIPPED | PASS | PASS | SKIPPED | SKIPPED | +-----------------------------------+-------------------+--------------------+-------------------------+----------------------+-------------------+------------------+ | FreeBSD 13.5 | SKIPPED | PASS | SKIPPED | SKIPPED | SKIPPED | SKIPPED | +-----------------------------------+-------------------+--------------------+-------------------------+----------------------+-------------------+------------------+ | FreeBSD 14.2 | SKIPPED | PASS | SKIPPED | SKIPPED | SKIPPED | SKIPPED | +-----------------------------------+-------------------+--------------------+-------------------------+----------------------+-------------------+------------------+ | Ubuntu 20.04 | SKIPPED | PASS | SKIPPED | SKIPPED | SKIPPED | SKIPPED | +-----------------------------------+-------------------+--------------------+-------------------------+----------------------+-------------------+------------------+ | CentOS Stream 9 | SKIPPED | PASS | SKIPPED | SKIPPED | PASS | SKIPPED | +-----------------------------------+-------------------+--------------------+-------------------------+----------------------+-------------------+------------------+ | CentOS Stream 10 | SKIPPED | PASS | SKIPPED | SKIPPED | SKIPPED | SKIPPED | +-----------------------------------+-------------------+--------------------+-------------------------+----------------------+-------------------+------------------+ | Debian 12 | SKIPPED | PASS | SKIPPED | SKIPPED | PASS | SKIPPED | +-----------------------------------+-------------------+--------------------+-------------------------+----------------------+-------------------+------------------+ | Fedora 40 (Clang) | SKIPPED | PASS | SKIPPED | SKIPPED | PASS | SKIPPED | +-----------------------------------+-------------------+--------------------+-------------------------+----------------------+-------------------+------------------+ | Fedora 40 | SKIPPED | PASS | SKIPPED | SKIPPED | PASS | SKIPPED | +-----------------------------------+-------------------+--------------------+-------------------------+----------------------+-------------------+------------------+ | Fedora 41 (Clang) | SKIPPED | PASS | SKIPPED | SKIPPED | PASS | PASS | +-----------------------------------+-------------------+--------------------+-------------------------+----------------------+-------------------+------------------+ | Fedora 41 | SKIPPED | PASS | SKIPPED | SKIPPED | PASS | PASS | +-----------------------------------+-------------------+--------------------+-------------------------+----------------------+-------------------+------------------+ | openSUSE Leap 15 | SKIPPED | PASS | SKIPPED | SKIPPED | SKIPPED | SKIPPED | +-----------------------------------+-------------------+--------------------+-------------------------+----------------------+-------------------+------------------+ | RHEL8 | SKIPPED | PASS | SKIPPED | SKIPPED | SKIPPED | SKIPPED | +-----------------------------------+-------------------+--------------------+-------------------------+----------------------+-------------------+------------------+ | RHEL9 | SKIPPED | PASS | SKIPPED | SKIPPED | SKIPPED | SKIPPED | +-----------------------------------+-------------------+--------------------+-------------------------+----------------------+-------------------+------------------+ | Ubuntu 22.04 | SKIPPED | PASS | SKIPPED | SKIPPED | PASS | SKIPPED | +-----------------------------------+-------------------+--------------------+-------------------------+----------------------+-------------------+------------------+ | Ubuntu 24.04 | SKIPPED | PASS | SKIPPED | SKIPPED | PASS | PASS | +-----------------------------------+-------------------+--------------------+-------------------------+----------------------+-------------------+------------------+ | Alpine | SKIPPED | PASS | SKIPPED | SKIPPED | SKIPPED | SKIPPED | +-----------------------------------+-------------------+--------------------+-------------------------+----------------------+-------------------+------------------+ | Ubuntu 24.04 32 Bit Cross Compile | SKIPPED | PASS | SKIPPED | SKIPPED | SKIPPED | SKIPPED | +-----------------------------------+-------------------+--------------------+-------------------------+----------------------+-------------------+------------------+ Windows Server 2022 Kernel: 10.0.20348.2031 Compiler: clang 15.0.7, gcc 14.1.0 (MinGW), and MSVC VS 19.39.33521 FreeBSD 13.5 Kernel: 13.5-RELEASE Compiler: clang 19.1.7 FreeBSD 14.2 Kernel: 14.2-RELEASE Compiler: clang 18.1.6 Ubuntu 20.04 Kernel: 4.19.325-0419325-generic Compiler: gcc (Ubuntu 9.4.0-1ubuntu1~20.04.2) 9.4.0 CentOS Stream 9 Kernel: Depends on container host Compiler: gcc 11.5.0 20240719 (Red Hat 11.5.0-2) CentOS Stream 10 Kernel: Depends on container host Compiler: gcc 14.2.1 20241104 (Red Hat 14.2.1-6) Debian 12 Kernel: Depends on container host Compiler: gcc (Debian 12.2.0-14) 12.2.0 Fedora 40 (Clang) Kernel: Depends on container host Compiler: clang 18.1.8 (Fedora 18.1.8-1.fc40) Fedora 40 Kernel: Depends on container host Compiler: gcc 14.2.1 20240912 (Red Hat 14.2.1-3) Fedora 41 (Clang) Kernel: Depends on container host Compiler: clang 19.1.5 (Fedora 19.1.5-1.fc41) Fedora 41 Kernel: Depends on container host Compiler: gcc 14.2.1 20240912 (Red Hat 14.2.1-3) openSUSE Leap 15 Kernel: Depends on container host Compiler: gcc (SUSE Linux) 7.5.0 RHEL8 Kernel: Depends on container host Compiler: gcc 8.5.0 20210514 (Red Hat 8.5.0-22) RHEL9 Kernel: Depends on container host Compiler: gcc 11.5.0 20240719 (Red Hat 11.5.0-2) Ubuntu 22.04 Kernel: Depends on container host Compiler: gcc (Ubuntu 11.4.0-1ubuntu1~22.04) 11.4.0 Ubuntu 24.04 Kernel: Depends on container host Compiler: gcc (Ubuntu 13.3.0-6ubuntu2~24.04) 13.3.0 Alpine Kernel: Depends on container host Compiler: gcc (Alpine 14.2.0) 14.2.0 Ubuntu 24.04 32 Bit Cross Compile Kernel: Depends on container host Compiler: gcc (Ubuntu 13.3.0-6ubuntu2~24.04) 13.3.0 To view detailed results, visit: https://lab.dpdk.org/results/dashboard/patchsets/32987/ UNH-IOL DPDK Community Lab To manage your email subscriptions, visit: https://lab.dpdk.org/results/dashboard/preferences/subscriptions/