From mboxrd@z Thu Jan 1 00:00:00 1970 Return-Path: Received: from mails.dpdk.org (mails.dpdk.org [217.70.189.124]) by inbox.dpdk.org (Postfix) with ESMTP id 1150846557 for ; Fri, 11 Apr 2025 02:17:57 +0200 (CEST) Received: from mails.dpdk.org (localhost [127.0.0.1]) by mails.dpdk.org (Postfix) with ESMTP id D31A8402ED; Fri, 11 Apr 2025 02:17:56 +0200 (CEST) Received: from mail-pf1-f227.google.com (mail-pf1-f227.google.com [209.85.210.227]) by mails.dpdk.org (Postfix) with ESMTP id 2EEA940285 for ; Fri, 11 Apr 2025 02:17:55 +0200 (CEST) Received: by mail-pf1-f227.google.com with SMTP id d2e1a72fcca58-736a7e126c7so1295430b3a.3 for ; Thu, 10 Apr 2025 17:17:55 -0700 (PDT) DKIM-Signature: v=1; a=rsa-sha256; c=relaxed/relaxed; d=iol.unh.edu; s=unh-iol; t=1744330674; x=1744935474; darn=dpdk.org; h=references:in-reply-to:cc:to:from:subject:message-id:date:from:to :cc:subject:date:message-id:reply-to; bh=0hNZEm9Lv91nQoIRyqY9abGC+sxPcnxumSOf98gE9ig=; b=d3/DruZ/3FfvjxVn59OyaWenDHWh93YNQhhIznJEtwCXM0LDRdM/Lse6EklVVOZSoa ZIHp9VOpAEFhZgOLG3hx2L0v/pPNpQus5wtFWhcGXHSVqdnl2EZQQ/sNM6DtCqKi+u62 zBI8Y6NWWktdNyvddixc90JRAzLw2mijyjWrM= X-Google-DKIM-Signature: v=1; a=rsa-sha256; c=relaxed/relaxed; d=1e100.net; s=20230601; t=1744330674; x=1744935474; h=references:in-reply-to:cc:to:from:subject:message-id:date :x-gm-message-state:from:to:cc:subject:date:message-id:reply-to; bh=0hNZEm9Lv91nQoIRyqY9abGC+sxPcnxumSOf98gE9ig=; b=hw53doidlgBdJOkQfev4Oloe5rK2qkGoCMKkokCQDqxr2cDrM3Fh3owkwNIqxEvEXR kFzLLOv3F79FCOm86B3SWtRfMOXPUjDBlzq4mohV+GpGkIsNEfxC4MpN3rSgAIt80Rk2 I2Mq0bNZkJ6Yzg9WygbZ1C+7AcXgzJteH554t3tSVnk/ucwVK+550r6z2FcZsmVZpllW /8g62CUrBlyY9s7CyIOomf6ZOjoVjD9KjYxktzPruaaDaZSpvEryyys0Gqsd49J4fsJu N8DabMsj4oLjAycsy47LvOSPj8CFIdROqDhKp8c8yBJAygaQqCDKJKHYuWFMcbvezPNA MqDw== X-Gm-Message-State: AOJu0YwnTaCRP7tW8iHLZ/dDcWzdQrfF0/nPff61tdBZRaRYvDelIEbt FrHkd7bgpA85afQafz0pWCdMvalUM9q52BafdQiiXHs38bTa4RnkbUg+iYHl6iuVLtsQWO65OrI NqZzfWatevQRFB8WOyrtoIO0b3jJ1prljVENH6psH X-Gm-Gg: ASbGncvXMFbDBdt4YW1wHbQU5f2hdQ2nAvPxLWN7aAvpKffR0ls5wYfUOaImy87wsdg e70lhRnALC2qzkUtlefR4YT4/23V16FKs4b61hMk55W5iVL0+B5UspMIuYCqPp5TBg14Vmkiq5K L3R8qBNsxMjPQvBxG8sPZLWBtJlIPGmx7xEEvzkkMOsVBhINiE0F8bn7H2aXFsmiwa5YkfSE9Jo XMltj9zGNW6oRccDPUQhO9mcbSUoYuAxlEDcf3ZzWx18JXzsoTvWeGE0ppNpKK88JNgplStLBor F3rlDanInn99PvdwhzS1SpjAMUQ5h7tculWd X-Google-Smtp-Source: AGHT+IEBxdkIZQV6PZYFPBgID5KjgfIicrEm1ckGkQ5wz8qbj26VQlxk8Wh/jEG/d4QKxxSLOOhaC3sxmsGw X-Received: by 2002:a17:90b:1f8b:b0:306:b6f7:58ba with SMTP id 98e67ed59e1d1-30823623389mr1230348a91.6.1744330674296; Thu, 10 Apr 2025 17:17:54 -0700 (PDT) Received: from postal.iol.unh.edu (postal.iol.unh.edu. [132.177.123.84]) by smtp-relay.gmail.com with ESMTPS id d9443c01a7336-22ac7b40ad9sm2611945ad.14.2025.04.10.17.17.54 (version=TLS1_2 cipher=ECDHE-ECDSA-AES128-GCM-SHA256 bits=128/128); Thu, 10 Apr 2025 17:17:54 -0700 (PDT) X-Relaying-Domain: iol.unh.edu Date: Thu, 10 Apr 2025 17:17:54 -0700 (PDT) Message-ID: <67f85fb2.170a0220.22b47d.9ff1SMTPIN_ADDED_MISSING@mx.google.com> Received: from [172.17.0.3] (unknown [172.18.0.217]) by postal.iol.unh.edu (Postfix) with ESMTP id A9CE36052471; Thu, 10 Apr 2025 20:17:53 -0400 (EDT) Subject: |SUCCESS| pw152867 [PATCH] app/testpmd: fix dump command list for MS From: dpdklab@iol.unh.edu To: Test Report Cc: dpdk-test-reports@iol.unh.edu In-Reply-To: <20250410160237.3067629-1-david.marchand@redhat.com> References: <20250410160237.3067629-1-david.marchand@redhat.com> Content-Type: text/plain X-BeenThere: test-report@dpdk.org X-Mailman-Version: 2.1.29 Precedence: list List-Id: automatic DPDK test reports List-Unsubscribe: , List-Archive: List-Post: List-Help: List-Subscribe: , Errors-To: test-report-bounces@dpdk.org Test-Label: iol-sample-apps-testing Test-Status: SUCCESS http://dpdk.org/patch/152867 _Testing PASS_ Submitter: David Marchand Date: Thursday, April 10 2025 16:02:36 DPDK git baseline: Repo:dpdk Branch: master CommitID:b69fb7abb6d211cb74284029c6cdb2066b9ac0e9 152867 --> testing pass Upstream job id: ACVP-FIPS-testing#9511 Test environment and result as below: +--------------------+----------------------+----------------------+ | Environment | compressdev_zlib_pmd | dpdk_fips_validation | +====================+======================+======================+ | Ubuntu 22.04 (ARM) | PASS | SKIPPED | +--------------------+----------------------+----------------------+ | Ubuntu 22.04 | PASS | SKIPPED | +--------------------+----------------------+----------------------+ | Ubuntu 20.04 | SKIPPED | PASS | +--------------------+----------------------+----------------------+ Ubuntu 22.04 (ARM) Kernel: 5.15.0-97-generic Compiler: gcc gcc (Ubuntu 11.4.0-1ubuntu1~22.04) 11.4.0 Ubuntu 22.04 Kernel: 5.15.0-100-generic Compiler: gcc gcc (Ubuntu 11.4.0-1ubuntu1~22.04) 11.4.0 Ubuntu 20.04 Kernel: Depends on container host Compiler: gcc (Ubuntu 9.4.0-1ubuntu1~20.04.2) 9.4.0 To view detailed results, visit: https://lab.dpdk.org/results/dashboard/patchsets/32987/ UNH-IOL DPDK Community Lab To manage your email subscriptions, visit: https://lab.dpdk.org/results/dashboard/preferences/subscriptions/